BEGIN:VCALENDAR
VERSION:2.0
PRODID:-//Gemengd Koor El Puente - ECPv6.15.16//NONSGML v1.0//EN
CALSCALE:GREGORIAN
METHOD:PUBLISH
X-ORIGINAL-URL:https://www.koorelpuente.nl
X-WR-CALDESC:Evenementen voor Gemengd Koor El Puente
REFRESH-INTERVAL;VALUE=DURATION:PT1H
X-Robots-Tag:noindex
X-PUBLISHED-TTL:PT1H
BEGIN:VTIMEZONE
TZID:Europe/Amsterdam
BEGIN:DAYLIGHT
TZOFFSETFROM:+0100
TZOFFSETTO:+0200
TZNAME:CEST
DTSTART:20250330T010000
END:DAYLIGHT
BEGIN:STANDARD
TZOFFSETFROM:+0200
TZOFFSETTO:+0100
TZNAME:CET
DTSTART:20251026T010000
END:STANDARD
BEGIN:DAYLIGHT
TZOFFSETFROM:+0100
TZOFFSETTO:+0200
TZNAME:CEST
DTSTART:20260329T010000
END:DAYLIGHT
BEGIN:STANDARD
TZOFFSETFROM:+0200
TZOFFSETTO:+0100
TZNAME:CET
DTSTART:20261025T010000
END:STANDARD
BEGIN:DAYLIGHT
TZOFFSETFROM:+0100
TZOFFSETTO:+0200
TZNAME:CEST
DTSTART:20270328T010000
END:DAYLIGHT
BEGIN:STANDARD
TZOFFSETFROM:+0200
TZOFFSETTO:+0100
TZNAME:CET
DTSTART:20271031T010000
END:STANDARD
END:VTIMEZONE
BEGIN:VEVENT
DTSTART;TZID=Europe/Amsterdam:20260409T200000
DTEND;TZID=Europe/Amsterdam:20260409T221500
DTSTAMP:20260421T164538
CREATED:20241008T131552Z
LAST-MODIFIED:20260302T144225Z
UID:10000521-1775764800-1775772900@www.koorelpuente.nl
SUMMARY:Repetitie avond
DESCRIPTION:Elke donderdag van 20.00 uur tot 22.15 uur repetitie in C.C. De Mortel – Leliestraat 2 – Ittervoort
URL:https://www.koorelpuente.nl/activiteit/repetitie-avond-2/2026-04-09/
LOCATION:Cultureel Centrum De Mortel\, Leliestraat 2\, Ittervoort\, Nederland
END:VEVENT
END:VCALENDAR