BEGIN:VCALENDAR
VERSION:2.0
PRODID:-//Gemengd Koor El Puente - ECPv6.15.16//NONSGML v1.0//EN
CALSCALE:GREGORIAN
METHOD:PUBLISH
X-WR-CALNAME:Gemengd Koor El Puente
X-ORIGINAL-URL:https://www.koorelpuente.nl
X-WR-CALDESC:Evenementen voor Gemengd Koor El Puente
REFRESH-INTERVAL;VALUE=DURATION:PT1H
X-Robots-Tag:noindex
X-PUBLISHED-TTL:PT1H
BEGIN:VTIMEZONE
TZID:Europe/Amsterdam
BEGIN:DAYLIGHT
TZOFFSETFROM:+0100
TZOFFSETTO:+0200
TZNAME:CEST
DTSTART:20270328T010000
END:DAYLIGHT
BEGIN:STANDARD
TZOFFSETFROM:+0200
TZOFFSETTO:+0100
TZNAME:CET
DTSTART:20271031T010000
END:STANDARD
BEGIN:DAYLIGHT
TZOFFSETFROM:+0100
TZOFFSETTO:+0200
TZNAME:CEST
DTSTART:20280326T010000
END:DAYLIGHT
BEGIN:STANDARD
TZOFFSETFROM:+0200
TZOFFSETTO:+0100
TZNAME:CET
DTSTART:20281029T010000
END:STANDARD
BEGIN:DAYLIGHT
TZOFFSETFROM:+0100
TZOFFSETTO:+0200
TZNAME:CEST
DTSTART:20290325T010000
END:DAYLIGHT
BEGIN:STANDARD
TZOFFSETFROM:+0200
TZOFFSETTO:+0100
TZNAME:CET
DTSTART:20291028T010000
END:STANDARD
END:VTIMEZONE
BEGIN:VEVENT
DTSTART;TZID=Europe/Amsterdam:20280323T200000
DTEND;TZID=Europe/Amsterdam:20280323T221500
DTSTAMP:20260424T153914
CREATED:20241008T131552Z
LAST-MODIFIED:20260302T144225Z
UID:10000623-1837454400-1837462500@www.koorelpuente.nl
SUMMARY:Repetitie avond
DESCRIPTION:Elke donderdag van 20.00 uur tot 22.15 uur repetitie in C.C. De Mortel – Leliestraat 2 – Ittervoort
URL:https://www.koorelpuente.nl/activiteit/repetitie-avond-2/2028-03-23/
LOCATION:Cultureel Centrum De Mortel\, Leliestraat 2\, Ittervoort\, Nederland
END:VEVENT
BEGIN:VEVENT
DTSTART;TZID=Europe/Amsterdam:20280330T200000
DTEND;TZID=Europe/Amsterdam:20280330T221500
DTSTAMP:20260424T153914
CREATED:20241008T131552Z
LAST-MODIFIED:20260302T144225Z
UID:10000624-1838059200-1838067300@www.koorelpuente.nl
SUMMARY:Repetitie avond
DESCRIPTION:Elke donderdag van 20.00 uur tot 22.15 uur repetitie in C.C. De Mortel – Leliestraat 2 – Ittervoort
URL:https://www.koorelpuente.nl/activiteit/repetitie-avond-2/2028-03-30/
LOCATION:Cultureel Centrum De Mortel\, Leliestraat 2\, Ittervoort\, Nederland
END:VEVENT
BEGIN:VEVENT
DTSTART;TZID=Europe/Amsterdam:20280406T200000
DTEND;TZID=Europe/Amsterdam:20280406T221500
DTSTAMP:20260424T153914
CREATED:20241008T131552Z
LAST-MODIFIED:20260302T144225Z
UID:10000625-1838664000-1838672100@www.koorelpuente.nl
SUMMARY:Repetitie avond
DESCRIPTION:Elke donderdag van 20.00 uur tot 22.15 uur repetitie in C.C. De Mortel – Leliestraat 2 – Ittervoort
URL:https://www.koorelpuente.nl/activiteit/repetitie-avond-2/2028-04-06/
LOCATION:Cultureel Centrum De Mortel\, Leliestraat 2\, Ittervoort\, Nederland
END:VEVENT
BEGIN:VEVENT
DTSTART;TZID=Europe/Amsterdam:20280411T183000
DTEND;TZID=Europe/Amsterdam:20280411T183000
DTSTAMP:20260424T153914
CREATED:20250104T223751Z
LAST-MODIFIED:20250104T223751Z
UID:10000743-1839090600-1839090600@www.koorelpuente.nl
SUMMARY:Oud papier inzamelen kern Neeritter
DESCRIPTION:
URL:https://www.koorelpuente.nl/activiteit/oud-papier-inzamelen-kern-neeritter/2028-04-11/
LOCATION:Neeritter
END:VEVENT
BEGIN:VEVENT
DTSTART;TZID=Europe/Amsterdam:20280413T200000
DTEND;TZID=Europe/Amsterdam:20280413T221500
DTSTAMP:20260424T153914
CREATED:20241008T131552Z
LAST-MODIFIED:20260302T144225Z
UID:10000626-1839268800-1839276900@www.koorelpuente.nl
SUMMARY:Repetitie avond
DESCRIPTION:Elke donderdag van 20.00 uur tot 22.15 uur repetitie in C.C. De Mortel – Leliestraat 2 – Ittervoort
URL:https://www.koorelpuente.nl/activiteit/repetitie-avond-2/2028-04-13/
LOCATION:Cultureel Centrum De Mortel\, Leliestraat 2\, Ittervoort\, Nederland
END:VEVENT
BEGIN:VEVENT
DTSTART;TZID=Europe/Amsterdam:20280420T200000
DTEND;TZID=Europe/Amsterdam:20280420T221500
DTSTAMP:20260424T153914
CREATED:20241008T131552Z
LAST-MODIFIED:20260302T144225Z
UID:10000627-1839873600-1839881700@www.koorelpuente.nl
SUMMARY:Repetitie avond
DESCRIPTION:Elke donderdag van 20.00 uur tot 22.15 uur repetitie in C.C. De Mortel – Leliestraat 2 – Ittervoort
URL:https://www.koorelpuente.nl/activiteit/repetitie-avond-2/2028-04-20/
LOCATION:Cultureel Centrum De Mortel\, Leliestraat 2\, Ittervoort\, Nederland
END:VEVENT
BEGIN:VEVENT
DTSTART;TZID=Europe/Amsterdam:20280427T200000
DTEND;TZID=Europe/Amsterdam:20280427T221500
DTSTAMP:20260424T153914
CREATED:20241008T131552Z
LAST-MODIFIED:20260302T144225Z
UID:10000628-1840478400-1840486500@www.koorelpuente.nl
SUMMARY:Repetitie avond
DESCRIPTION:Elke donderdag van 20.00 uur tot 22.15 uur repetitie in C.C. De Mortel – Leliestraat 2 – Ittervoort
URL:https://www.koorelpuente.nl/activiteit/repetitie-avond-2/2028-04-27/
LOCATION:Cultureel Centrum De Mortel\, Leliestraat 2\, Ittervoort\, Nederland
END:VEVENT
BEGIN:VEVENT
DTSTART;TZID=Europe/Amsterdam:20280504T200000
DTEND;TZID=Europe/Amsterdam:20280504T221500
DTSTAMP:20260424T153914
CREATED:20241008T131552Z
LAST-MODIFIED:20260302T144225Z
UID:10000629-1841083200-1841091300@www.koorelpuente.nl
SUMMARY:Repetitie avond
DESCRIPTION:Elke donderdag van 20.00 uur tot 22.15 uur repetitie in C.C. De Mortel – Leliestraat 2 – Ittervoort
URL:https://www.koorelpuente.nl/activiteit/repetitie-avond-2/2028-05-04/
LOCATION:Cultureel Centrum De Mortel\, Leliestraat 2\, Ittervoort\, Nederland
END:VEVENT
BEGIN:VEVENT
DTSTART;TZID=Europe/Amsterdam:20280509T183000
DTEND;TZID=Europe/Amsterdam:20280509T183000
DTSTAMP:20260424T153914
CREATED:20250104T223751Z
LAST-MODIFIED:20250104T223751Z
UID:10000744-1841509800-1841509800@www.koorelpuente.nl
SUMMARY:Oud papier inzamelen kern Neeritter
DESCRIPTION:
URL:https://www.koorelpuente.nl/activiteit/oud-papier-inzamelen-kern-neeritter/2028-05-09/
LOCATION:Neeritter
END:VEVENT
BEGIN:VEVENT
DTSTART;TZID=Europe/Amsterdam:20280511T200000
DTEND;TZID=Europe/Amsterdam:20280511T221500
DTSTAMP:20260424T153914
CREATED:20241008T131552Z
LAST-MODIFIED:20260302T144225Z
UID:10000630-1841688000-1841696100@www.koorelpuente.nl
SUMMARY:Repetitie avond
DESCRIPTION:Elke donderdag van 20.00 uur tot 22.15 uur repetitie in C.C. De Mortel – Leliestraat 2 – Ittervoort
URL:https://www.koorelpuente.nl/activiteit/repetitie-avond-2/2028-05-11/
LOCATION:Cultureel Centrum De Mortel\, Leliestraat 2\, Ittervoort\, Nederland
END:VEVENT
BEGIN:VEVENT
DTSTART;TZID=Europe/Amsterdam:20280518T200000
DTEND;TZID=Europe/Amsterdam:20280518T221500
DTSTAMP:20260424T153914
CREATED:20241008T131552Z
LAST-MODIFIED:20260302T144225Z
UID:10000631-1842292800-1842300900@www.koorelpuente.nl
SUMMARY:Repetitie avond
DESCRIPTION:Elke donderdag van 20.00 uur tot 22.15 uur repetitie in C.C. De Mortel – Leliestraat 2 – Ittervoort
URL:https://www.koorelpuente.nl/activiteit/repetitie-avond-2/2028-05-18/
LOCATION:Cultureel Centrum De Mortel\, Leliestraat 2\, Ittervoort\, Nederland
END:VEVENT
BEGIN:VEVENT
DTSTART;TZID=Europe/Amsterdam:20280525T200000
DTEND;TZID=Europe/Amsterdam:20280525T221500
DTSTAMP:20260424T153914
CREATED:20241008T131552Z
LAST-MODIFIED:20260302T144225Z
UID:10000632-1842897600-1842905700@www.koorelpuente.nl
SUMMARY:Repetitie avond
DESCRIPTION:Elke donderdag van 20.00 uur tot 22.15 uur repetitie in C.C. De Mortel – Leliestraat 2 – Ittervoort
URL:https://www.koorelpuente.nl/activiteit/repetitie-avond-2/2028-05-25/
LOCATION:Cultureel Centrum De Mortel\, Leliestraat 2\, Ittervoort\, Nederland
END:VEVENT
BEGIN:VEVENT
DTSTART;TZID=Europe/Amsterdam:20280601T200000
DTEND;TZID=Europe/Amsterdam:20280601T221500
DTSTAMP:20260424T153914
CREATED:20241008T131552Z
LAST-MODIFIED:20260302T144225Z
UID:10000633-1843502400-1843510500@www.koorelpuente.nl
SUMMARY:Repetitie avond
DESCRIPTION:Elke donderdag van 20.00 uur tot 22.15 uur repetitie in C.C. De Mortel – Leliestraat 2 – Ittervoort
URL:https://www.koorelpuente.nl/activiteit/repetitie-avond-2/2028-06-01/
LOCATION:Cultureel Centrum De Mortel\, Leliestraat 2\, Ittervoort\, Nederland
END:VEVENT
BEGIN:VEVENT
DTSTART;TZID=Europe/Amsterdam:20280608T200000
DTEND;TZID=Europe/Amsterdam:20280608T221500
DTSTAMP:20260424T153914
CREATED:20241008T131552Z
LAST-MODIFIED:20260302T144225Z
UID:10000634-1844107200-1844115300@www.koorelpuente.nl
SUMMARY:Repetitie avond
DESCRIPTION:Elke donderdag van 20.00 uur tot 22.15 uur repetitie in C.C. De Mortel – Leliestraat 2 – Ittervoort
URL:https://www.koorelpuente.nl/activiteit/repetitie-avond-2/2028-06-08/
LOCATION:Cultureel Centrum De Mortel\, Leliestraat 2\, Ittervoort\, Nederland
END:VEVENT
BEGIN:VEVENT
DTSTART;TZID=Europe/Amsterdam:20280613T183000
DTEND;TZID=Europe/Amsterdam:20280613T183000
DTSTAMP:20260424T153914
CREATED:20250104T223751Z
LAST-MODIFIED:20250104T223751Z
UID:10000745-1844533800-1844533800@www.koorelpuente.nl
SUMMARY:Oud papier inzamelen kern Neeritter
DESCRIPTION:
URL:https://www.koorelpuente.nl/activiteit/oud-papier-inzamelen-kern-neeritter/2028-06-13/
LOCATION:Neeritter
END:VEVENT
BEGIN:VEVENT
DTSTART;TZID=Europe/Amsterdam:20280615T200000
DTEND;TZID=Europe/Amsterdam:20280615T221500
DTSTAMP:20260424T153914
CREATED:20241008T131552Z
LAST-MODIFIED:20260302T144225Z
UID:10000635-1844712000-1844720100@www.koorelpuente.nl
SUMMARY:Repetitie avond
DESCRIPTION:Elke donderdag van 20.00 uur tot 22.15 uur repetitie in C.C. De Mortel – Leliestraat 2 – Ittervoort
URL:https://www.koorelpuente.nl/activiteit/repetitie-avond-2/2028-06-15/
LOCATION:Cultureel Centrum De Mortel\, Leliestraat 2\, Ittervoort\, Nederland
END:VEVENT
BEGIN:VEVENT
DTSTART;TZID=Europe/Amsterdam:20280622T200000
DTEND;TZID=Europe/Amsterdam:20280622T221500
DTSTAMP:20260424T153914
CREATED:20241008T131552Z
LAST-MODIFIED:20260302T144225Z
UID:10000636-1845316800-1845324900@www.koorelpuente.nl
SUMMARY:Repetitie avond
DESCRIPTION:Elke donderdag van 20.00 uur tot 22.15 uur repetitie in C.C. De Mortel – Leliestraat 2 – Ittervoort
URL:https://www.koorelpuente.nl/activiteit/repetitie-avond-2/2028-06-22/
LOCATION:Cultureel Centrum De Mortel\, Leliestraat 2\, Ittervoort\, Nederland
END:VEVENT
BEGIN:VEVENT
DTSTART;TZID=Europe/Amsterdam:20280629T200000
DTEND;TZID=Europe/Amsterdam:20280629T221500
DTSTAMP:20260424T153914
CREATED:20241008T131552Z
LAST-MODIFIED:20260302T144225Z
UID:10000637-1845921600-1845929700@www.koorelpuente.nl
SUMMARY:Repetitie avond
DESCRIPTION:Elke donderdag van 20.00 uur tot 22.15 uur repetitie in C.C. De Mortel – Leliestraat 2 – Ittervoort
URL:https://www.koorelpuente.nl/activiteit/repetitie-avond-2/2028-06-29/
LOCATION:Cultureel Centrum De Mortel\, Leliestraat 2\, Ittervoort\, Nederland
END:VEVENT
BEGIN:VEVENT
DTSTART;TZID=Europe/Amsterdam:20280706T200000
DTEND;TZID=Europe/Amsterdam:20280706T221500
DTSTAMP:20260424T153914
CREATED:20241008T131552Z
LAST-MODIFIED:20260302T144225Z
UID:10000638-1846526400-1846534500@www.koorelpuente.nl
SUMMARY:Repetitie avond
DESCRIPTION:Elke donderdag van 20.00 uur tot 22.15 uur repetitie in C.C. De Mortel – Leliestraat 2 – Ittervoort
URL:https://www.koorelpuente.nl/activiteit/repetitie-avond-2/2028-07-06/
LOCATION:Cultureel Centrum De Mortel\, Leliestraat 2\, Ittervoort\, Nederland
END:VEVENT
BEGIN:VEVENT
DTSTART;TZID=Europe/Amsterdam:20280711T183000
DTEND;TZID=Europe/Amsterdam:20280711T183000
DTSTAMP:20260424T153914
CREATED:20250104T223751Z
LAST-MODIFIED:20250104T223751Z
UID:10000746-1846953000-1846953000@www.koorelpuente.nl
SUMMARY:Oud papier inzamelen kern Neeritter
DESCRIPTION:
URL:https://www.koorelpuente.nl/activiteit/oud-papier-inzamelen-kern-neeritter/2028-07-11/
LOCATION:Neeritter
END:VEVENT
BEGIN:VEVENT
DTSTART;TZID=Europe/Amsterdam:20280713T200000
DTEND;TZID=Europe/Amsterdam:20280713T221500
DTSTAMP:20260424T153914
CREATED:20241008T131552Z
LAST-MODIFIED:20260302T144225Z
UID:10000639-1847131200-1847139300@www.koorelpuente.nl
SUMMARY:Repetitie avond
DESCRIPTION:Elke donderdag van 20.00 uur tot 22.15 uur repetitie in C.C. De Mortel – Leliestraat 2 – Ittervoort
URL:https://www.koorelpuente.nl/activiteit/repetitie-avond-2/2028-07-13/
LOCATION:Cultureel Centrum De Mortel\, Leliestraat 2\, Ittervoort\, Nederland
END:VEVENT
BEGIN:VEVENT
DTSTART;TZID=Europe/Amsterdam:20280720T200000
DTEND;TZID=Europe/Amsterdam:20280720T221500
DTSTAMP:20260424T153914
CREATED:20241008T131552Z
LAST-MODIFIED:20260302T144225Z
UID:10000640-1847736000-1847744100@www.koorelpuente.nl
SUMMARY:Repetitie avond
DESCRIPTION:Elke donderdag van 20.00 uur tot 22.15 uur repetitie in C.C. De Mortel – Leliestraat 2 – Ittervoort
URL:https://www.koorelpuente.nl/activiteit/repetitie-avond-2/2028-07-20/
LOCATION:Cultureel Centrum De Mortel\, Leliestraat 2\, Ittervoort\, Nederland
END:VEVENT
BEGIN:VEVENT
DTSTART;TZID=Europe/Amsterdam:20280727T200000
DTEND;TZID=Europe/Amsterdam:20280727T221500
DTSTAMP:20260424T153914
CREATED:20241008T131552Z
LAST-MODIFIED:20260302T144225Z
UID:10000641-1848340800-1848348900@www.koorelpuente.nl
SUMMARY:Repetitie avond
DESCRIPTION:Elke donderdag van 20.00 uur tot 22.15 uur repetitie in C.C. De Mortel – Leliestraat 2 – Ittervoort
URL:https://www.koorelpuente.nl/activiteit/repetitie-avond-2/2028-07-27/
LOCATION:Cultureel Centrum De Mortel\, Leliestraat 2\, Ittervoort\, Nederland
END:VEVENT
BEGIN:VEVENT
DTSTART;TZID=Europe/Amsterdam:20280803T200000
DTEND;TZID=Europe/Amsterdam:20280803T221500
DTSTAMP:20260424T153914
CREATED:20241008T131552Z
LAST-MODIFIED:20260302T144225Z
UID:10000642-1848945600-1848953700@www.koorelpuente.nl
SUMMARY:Repetitie avond
DESCRIPTION:Elke donderdag van 20.00 uur tot 22.15 uur repetitie in C.C. De Mortel – Leliestraat 2 – Ittervoort
URL:https://www.koorelpuente.nl/activiteit/repetitie-avond-2/2028-08-03/
LOCATION:Cultureel Centrum De Mortel\, Leliestraat 2\, Ittervoort\, Nederland
END:VEVENT
BEGIN:VEVENT
DTSTART;TZID=Europe/Amsterdam:20280808T183000
DTEND;TZID=Europe/Amsterdam:20280808T183000
DTSTAMP:20260424T153914
CREATED:20250104T223751Z
LAST-MODIFIED:20250104T223751Z
UID:10000747-1849372200-1849372200@www.koorelpuente.nl
SUMMARY:Oud papier inzamelen kern Neeritter
DESCRIPTION:
URL:https://www.koorelpuente.nl/activiteit/oud-papier-inzamelen-kern-neeritter/2028-08-08/
LOCATION:Neeritter
END:VEVENT
BEGIN:VEVENT
DTSTART;TZID=Europe/Amsterdam:20280810T200000
DTEND;TZID=Europe/Amsterdam:20280810T221500
DTSTAMP:20260424T153914
CREATED:20241008T131552Z
LAST-MODIFIED:20260302T144225Z
UID:10000643-1849550400-1849558500@www.koorelpuente.nl
SUMMARY:Repetitie avond
DESCRIPTION:Elke donderdag van 20.00 uur tot 22.15 uur repetitie in C.C. De Mortel – Leliestraat 2 – Ittervoort
URL:https://www.koorelpuente.nl/activiteit/repetitie-avond-2/2028-08-10/
LOCATION:Cultureel Centrum De Mortel\, Leliestraat 2\, Ittervoort\, Nederland
END:VEVENT
BEGIN:VEVENT
DTSTART;TZID=Europe/Amsterdam:20280817T200000
DTEND;TZID=Europe/Amsterdam:20280817T221500
DTSTAMP:20260424T153914
CREATED:20241008T131552Z
LAST-MODIFIED:20260302T144225Z
UID:10000644-1850155200-1850163300@www.koorelpuente.nl
SUMMARY:Repetitie avond
DESCRIPTION:Elke donderdag van 20.00 uur tot 22.15 uur repetitie in C.C. De Mortel – Leliestraat 2 – Ittervoort
URL:https://www.koorelpuente.nl/activiteit/repetitie-avond-2/2028-08-17/
LOCATION:Cultureel Centrum De Mortel\, Leliestraat 2\, Ittervoort\, Nederland
END:VEVENT
BEGIN:VEVENT
DTSTART;TZID=Europe/Amsterdam:20280824T200000
DTEND;TZID=Europe/Amsterdam:20280824T221500
DTSTAMP:20260424T153914
CREATED:20241008T131552Z
LAST-MODIFIED:20260302T144225Z
UID:10000645-1850760000-1850768100@www.koorelpuente.nl
SUMMARY:Repetitie avond
DESCRIPTION:Elke donderdag van 20.00 uur tot 22.15 uur repetitie in C.C. De Mortel – Leliestraat 2 – Ittervoort
URL:https://www.koorelpuente.nl/activiteit/repetitie-avond-2/2028-08-24/
LOCATION:Cultureel Centrum De Mortel\, Leliestraat 2\, Ittervoort\, Nederland
END:VEVENT
BEGIN:VEVENT
DTSTART;TZID=Europe/Amsterdam:20280831T200000
DTEND;TZID=Europe/Amsterdam:20280831T221500
DTSTAMP:20260424T153914
CREATED:20241008T131552Z
LAST-MODIFIED:20260302T144225Z
UID:10000646-1851364800-1851372900@www.koorelpuente.nl
SUMMARY:Repetitie avond
DESCRIPTION:Elke donderdag van 20.00 uur tot 22.15 uur repetitie in C.C. De Mortel – Leliestraat 2 – Ittervoort
URL:https://www.koorelpuente.nl/activiteit/repetitie-avond-2/2028-08-31/
LOCATION:Cultureel Centrum De Mortel\, Leliestraat 2\, Ittervoort\, Nederland
END:VEVENT
BEGIN:VEVENT
DTSTART;TZID=Europe/Amsterdam:20280907T200000
DTEND;TZID=Europe/Amsterdam:20280907T221500
DTSTAMP:20260424T153914
CREATED:20241008T131552Z
LAST-MODIFIED:20260302T144225Z
UID:10000647-1851969600-1851977700@www.koorelpuente.nl
SUMMARY:Repetitie avond
DESCRIPTION:Elke donderdag van 20.00 uur tot 22.15 uur repetitie in C.C. De Mortel – Leliestraat 2 – Ittervoort
URL:https://www.koorelpuente.nl/activiteit/repetitie-avond-2/2028-09-07/
LOCATION:Cultureel Centrum De Mortel\, Leliestraat 2\, Ittervoort\, Nederland
END:VEVENT
END:VCALENDAR