BEGIN:VCALENDAR
VERSION:2.0
PRODID:-//Gemengd Koor El Puente - ECPv6.15.16//NONSGML v1.0//EN
CALSCALE:GREGORIAN
METHOD:PUBLISH
X-ORIGINAL-URL:https://www.koorelpuente.nl
X-WR-CALDESC:Evenementen voor Gemengd Koor El Puente
REFRESH-INTERVAL;VALUE=DURATION:PT1H
X-Robots-Tag:noindex
X-PUBLISHED-TTL:PT1H
BEGIN:VTIMEZONE
TZID:Europe/Amsterdam
BEGIN:DAYLIGHT
TZOFFSETFROM:+0100
TZOFFSETTO:+0200
TZNAME:CEST
DTSTART:20270328T010000
END:DAYLIGHT
BEGIN:STANDARD
TZOFFSETFROM:+0200
TZOFFSETTO:+0100
TZNAME:CET
DTSTART:20271031T010000
END:STANDARD
BEGIN:DAYLIGHT
TZOFFSETFROM:+0100
TZOFFSETTO:+0200
TZNAME:CEST
DTSTART:20280326T010000
END:DAYLIGHT
BEGIN:STANDARD
TZOFFSETFROM:+0200
TZOFFSETTO:+0100
TZNAME:CET
DTSTART:20281029T010000
END:STANDARD
BEGIN:DAYLIGHT
TZOFFSETFROM:+0100
TZOFFSETTO:+0200
TZNAME:CEST
DTSTART:20290325T010000
END:DAYLIGHT
BEGIN:STANDARD
TZOFFSETFROM:+0200
TZOFFSETTO:+0100
TZNAME:CET
DTSTART:20291028T010000
END:STANDARD
BEGIN:DAYLIGHT
TZOFFSETFROM:+0100
TZOFFSETTO:+0200
TZNAME:CEST
DTSTART:20300331T010000
END:DAYLIGHT
BEGIN:STANDARD
TZOFFSETFROM:+0200
TZOFFSETTO:+0100
TZNAME:CET
DTSTART:20301027T010000
END:STANDARD
END:VTIMEZONE
BEGIN:VEVENT
DTSTART;TZID=Europe/Amsterdam:20281012T200000
DTEND;TZID=Europe/Amsterdam:20281012T221500
DTSTAMP:20260424T202302
CREATED:20241008T131552Z
LAST-MODIFIED:20260302T144225Z
UID:10000652-1854993600-1855001700@www.koorelpuente.nl
SUMMARY:Repetitie avond
DESCRIPTION:Elke donderdag van 20.00 uur tot 22.15 uur repetitie in C.C. De Mortel – Leliestraat 2 – Ittervoort
URL:https://www.koorelpuente.nl/activiteit/repetitie-avond-2/2028-10-12/
LOCATION:Cultureel Centrum De Mortel\, Leliestraat 2\, Ittervoort\, Nederland
END:VEVENT
BEGIN:VEVENT
DTSTART;TZID=Europe/Amsterdam:20281019T200000
DTEND;TZID=Europe/Amsterdam:20281019T221500
DTSTAMP:20260424T202303
CREATED:20241008T131552Z
LAST-MODIFIED:20260302T144225Z
UID:10000653-1855598400-1855606500@www.koorelpuente.nl
SUMMARY:Repetitie avond
DESCRIPTION:Elke donderdag van 20.00 uur tot 22.15 uur repetitie in C.C. De Mortel – Leliestraat 2 – Ittervoort
URL:https://www.koorelpuente.nl/activiteit/repetitie-avond-2/2028-10-19/
LOCATION:Cultureel Centrum De Mortel\, Leliestraat 2\, Ittervoort\, Nederland
END:VEVENT
BEGIN:VEVENT
DTSTART;TZID=Europe/Amsterdam:20281026T200000
DTEND;TZID=Europe/Amsterdam:20281026T221500
DTSTAMP:20260424T202303
CREATED:20241008T131552Z
LAST-MODIFIED:20260302T144225Z
UID:10000654-1856203200-1856211300@www.koorelpuente.nl
SUMMARY:Repetitie avond
DESCRIPTION:Elke donderdag van 20.00 uur tot 22.15 uur repetitie in C.C. De Mortel – Leliestraat 2 – Ittervoort
URL:https://www.koorelpuente.nl/activiteit/repetitie-avond-2/2028-10-26/
LOCATION:Cultureel Centrum De Mortel\, Leliestraat 2\, Ittervoort\, Nederland
END:VEVENT
BEGIN:VEVENT
DTSTART;TZID=Europe/Amsterdam:20281102T200000
DTEND;TZID=Europe/Amsterdam:20281102T221500
DTSTAMP:20260424T202303
CREATED:20241008T131552Z
LAST-MODIFIED:20260302T144225Z
UID:10000655-1856808000-1856816100@www.koorelpuente.nl
SUMMARY:Repetitie avond
DESCRIPTION:Elke donderdag van 20.00 uur tot 22.15 uur repetitie in C.C. De Mortel – Leliestraat 2 – Ittervoort
URL:https://www.koorelpuente.nl/activiteit/repetitie-avond-2/2028-11-02/
LOCATION:Cultureel Centrum De Mortel\, Leliestraat 2\, Ittervoort\, Nederland
END:VEVENT
BEGIN:VEVENT
DTSTART;TZID=Europe/Amsterdam:20281109T200000
DTEND;TZID=Europe/Amsterdam:20281109T221500
DTSTAMP:20260424T202303
CREATED:20241008T131552Z
LAST-MODIFIED:20260302T144225Z
UID:10000656-1857412800-1857420900@www.koorelpuente.nl
SUMMARY:Repetitie avond
DESCRIPTION:Elke donderdag van 20.00 uur tot 22.15 uur repetitie in C.C. De Mortel – Leliestraat 2 – Ittervoort
URL:https://www.koorelpuente.nl/activiteit/repetitie-avond-2/2028-11-09/
LOCATION:Cultureel Centrum De Mortel\, Leliestraat 2\, Ittervoort\, Nederland
END:VEVENT
BEGIN:VEVENT
DTSTART;TZID=Europe/Amsterdam:20281114T183000
DTEND;TZID=Europe/Amsterdam:20281114T183000
DTSTAMP:20260424T202303
CREATED:20250104T223751Z
LAST-MODIFIED:20250104T223751Z
UID:10000750-1857839400-1857839400@www.koorelpuente.nl
SUMMARY:Oud papier inzamelen kern Neeritter
DESCRIPTION:
URL:https://www.koorelpuente.nl/activiteit/oud-papier-inzamelen-kern-neeritter/2028-11-14/
LOCATION:Neeritter
END:VEVENT
BEGIN:VEVENT
DTSTART;TZID=Europe/Amsterdam:20281116T200000
DTEND;TZID=Europe/Amsterdam:20281116T221500
DTSTAMP:20260424T202303
CREATED:20241008T131552Z
LAST-MODIFIED:20260302T144225Z
UID:10000657-1858017600-1858025700@www.koorelpuente.nl
SUMMARY:Repetitie avond
DESCRIPTION:Elke donderdag van 20.00 uur tot 22.15 uur repetitie in C.C. De Mortel – Leliestraat 2 – Ittervoort
URL:https://www.koorelpuente.nl/activiteit/repetitie-avond-2/2028-11-16/
LOCATION:Cultureel Centrum De Mortel\, Leliestraat 2\, Ittervoort\, Nederland
END:VEVENT
BEGIN:VEVENT
DTSTART;TZID=Europe/Amsterdam:20281123T200000
DTEND;TZID=Europe/Amsterdam:20281123T221500
DTSTAMP:20260424T202303
CREATED:20241008T131552Z
LAST-MODIFIED:20260302T144225Z
UID:10000658-1858622400-1858630500@www.koorelpuente.nl
SUMMARY:Repetitie avond
DESCRIPTION:Elke donderdag van 20.00 uur tot 22.15 uur repetitie in C.C. De Mortel – Leliestraat 2 – Ittervoort
URL:https://www.koorelpuente.nl/activiteit/repetitie-avond-2/2028-11-23/
LOCATION:Cultureel Centrum De Mortel\, Leliestraat 2\, Ittervoort\, Nederland
END:VEVENT
BEGIN:VEVENT
DTSTART;TZID=Europe/Amsterdam:20281130T200000
DTEND;TZID=Europe/Amsterdam:20281130T221500
DTSTAMP:20260424T202303
CREATED:20241008T131552Z
LAST-MODIFIED:20260302T144225Z
UID:10000659-1859227200-1859235300@www.koorelpuente.nl
SUMMARY:Repetitie avond
DESCRIPTION:Elke donderdag van 20.00 uur tot 22.15 uur repetitie in C.C. De Mortel – Leliestraat 2 – Ittervoort
URL:https://www.koorelpuente.nl/activiteit/repetitie-avond-2/2028-11-30/
LOCATION:Cultureel Centrum De Mortel\, Leliestraat 2\, Ittervoort\, Nederland
END:VEVENT
BEGIN:VEVENT
DTSTART;TZID=Europe/Amsterdam:20281207T200000
DTEND;TZID=Europe/Amsterdam:20281207T221500
DTSTAMP:20260424T202303
CREATED:20241008T131552Z
LAST-MODIFIED:20260302T144225Z
UID:10000660-1859832000-1859840100@www.koorelpuente.nl
SUMMARY:Repetitie avond
DESCRIPTION:Elke donderdag van 20.00 uur tot 22.15 uur repetitie in C.C. De Mortel – Leliestraat 2 – Ittervoort
URL:https://www.koorelpuente.nl/activiteit/repetitie-avond-2/2028-12-07/
LOCATION:Cultureel Centrum De Mortel\, Leliestraat 2\, Ittervoort\, Nederland
END:VEVENT
BEGIN:VEVENT
DTSTART;TZID=Europe/Amsterdam:20281212T183000
DTEND;TZID=Europe/Amsterdam:20281212T183000
DTSTAMP:20260424T202303
CREATED:20250104T223751Z
LAST-MODIFIED:20250104T223751Z
UID:10000751-1860258600-1860258600@www.koorelpuente.nl
SUMMARY:Oud papier inzamelen kern Neeritter
DESCRIPTION:
URL:https://www.koorelpuente.nl/activiteit/oud-papier-inzamelen-kern-neeritter/2028-12-12/
LOCATION:Neeritter
END:VEVENT
BEGIN:VEVENT
DTSTART;TZID=Europe/Amsterdam:20281214T200000
DTEND;TZID=Europe/Amsterdam:20281214T221500
DTSTAMP:20260424T202303
CREATED:20241008T131552Z
LAST-MODIFIED:20260302T144225Z
UID:10000661-1860436800-1860444900@www.koorelpuente.nl
SUMMARY:Repetitie avond
DESCRIPTION:Elke donderdag van 20.00 uur tot 22.15 uur repetitie in C.C. De Mortel – Leliestraat 2 – Ittervoort
URL:https://www.koorelpuente.nl/activiteit/repetitie-avond-2/2028-12-14/
LOCATION:Cultureel Centrum De Mortel\, Leliestraat 2\, Ittervoort\, Nederland
END:VEVENT
BEGIN:VEVENT
DTSTART;TZID=Europe/Amsterdam:20281221T200000
DTEND;TZID=Europe/Amsterdam:20281221T221500
DTSTAMP:20260424T202303
CREATED:20241008T131552Z
LAST-MODIFIED:20260302T144225Z
UID:10000662-1861041600-1861049700@www.koorelpuente.nl
SUMMARY:Repetitie avond
DESCRIPTION:Elke donderdag van 20.00 uur tot 22.15 uur repetitie in C.C. De Mortel – Leliestraat 2 – Ittervoort
URL:https://www.koorelpuente.nl/activiteit/repetitie-avond-2/2028-12-21/
LOCATION:Cultureel Centrum De Mortel\, Leliestraat 2\, Ittervoort\, Nederland
END:VEVENT
BEGIN:VEVENT
DTSTART;TZID=Europe/Amsterdam:20281228T200000
DTEND;TZID=Europe/Amsterdam:20281228T221500
DTSTAMP:20260424T202303
CREATED:20241008T131552Z
LAST-MODIFIED:20260302T144225Z
UID:10000663-1861646400-1861654500@www.koorelpuente.nl
SUMMARY:Repetitie avond
DESCRIPTION:Elke donderdag van 20.00 uur tot 22.15 uur repetitie in C.C. De Mortel – Leliestraat 2 – Ittervoort
URL:https://www.koorelpuente.nl/activiteit/repetitie-avond-2/2028-12-28/
LOCATION:Cultureel Centrum De Mortel\, Leliestraat 2\, Ittervoort\, Nederland
END:VEVENT
BEGIN:VEVENT
DTSTART;TZID=Europe/Amsterdam:20290104T200000
DTEND;TZID=Europe/Amsterdam:20290104T221500
DTSTAMP:20260424T202303
CREATED:20241008T131552Z
LAST-MODIFIED:20260302T144225Z
UID:10000664-1862251200-1862259300@www.koorelpuente.nl
SUMMARY:Repetitie avond
DESCRIPTION:Elke donderdag van 20.00 uur tot 22.15 uur repetitie in C.C. De Mortel – Leliestraat 2 – Ittervoort
URL:https://www.koorelpuente.nl/activiteit/repetitie-avond-2/2029-01-04/
LOCATION:Cultureel Centrum De Mortel\, Leliestraat 2\, Ittervoort\, Nederland
END:VEVENT
BEGIN:VEVENT
DTSTART;TZID=Europe/Amsterdam:20290109T183000
DTEND;TZID=Europe/Amsterdam:20290109T183000
DTSTAMP:20260424T202303
CREATED:20250104T223751Z
LAST-MODIFIED:20250104T223751Z
UID:10000752-1862677800-1862677800@www.koorelpuente.nl
SUMMARY:Oud papier inzamelen kern Neeritter
DESCRIPTION:
URL:https://www.koorelpuente.nl/activiteit/oud-papier-inzamelen-kern-neeritter/2029-01-09/
LOCATION:Neeritter
END:VEVENT
BEGIN:VEVENT
DTSTART;TZID=Europe/Amsterdam:20290111T200000
DTEND;TZID=Europe/Amsterdam:20290111T221500
DTSTAMP:20260424T202303
CREATED:20241008T131552Z
LAST-MODIFIED:20260302T144225Z
UID:10000665-1862856000-1862864100@www.koorelpuente.nl
SUMMARY:Repetitie avond
DESCRIPTION:Elke donderdag van 20.00 uur tot 22.15 uur repetitie in C.C. De Mortel – Leliestraat 2 – Ittervoort
URL:https://www.koorelpuente.nl/activiteit/repetitie-avond-2/2029-01-11/
LOCATION:Cultureel Centrum De Mortel\, Leliestraat 2\, Ittervoort\, Nederland
END:VEVENT
BEGIN:VEVENT
DTSTART;TZID=Europe/Amsterdam:20290118T200000
DTEND;TZID=Europe/Amsterdam:20290118T221500
DTSTAMP:20260424T202303
CREATED:20241008T131552Z
LAST-MODIFIED:20260302T144225Z
UID:10000666-1863460800-1863468900@www.koorelpuente.nl
SUMMARY:Repetitie avond
DESCRIPTION:Elke donderdag van 20.00 uur tot 22.15 uur repetitie in C.C. De Mortel – Leliestraat 2 – Ittervoort
URL:https://www.koorelpuente.nl/activiteit/repetitie-avond-2/2029-01-18/
LOCATION:Cultureel Centrum De Mortel\, Leliestraat 2\, Ittervoort\, Nederland
END:VEVENT
BEGIN:VEVENT
DTSTART;TZID=Europe/Amsterdam:20290125T200000
DTEND;TZID=Europe/Amsterdam:20290125T221500
DTSTAMP:20260424T202303
CREATED:20241008T131552Z
LAST-MODIFIED:20260302T144225Z
UID:10000667-1864065600-1864073700@www.koorelpuente.nl
SUMMARY:Repetitie avond
DESCRIPTION:Elke donderdag van 20.00 uur tot 22.15 uur repetitie in C.C. De Mortel – Leliestraat 2 – Ittervoort
URL:https://www.koorelpuente.nl/activiteit/repetitie-avond-2/2029-01-25/
LOCATION:Cultureel Centrum De Mortel\, Leliestraat 2\, Ittervoort\, Nederland
END:VEVENT
BEGIN:VEVENT
DTSTART;TZID=Europe/Amsterdam:20290201T200000
DTEND;TZID=Europe/Amsterdam:20290201T221500
DTSTAMP:20260424T202303
CREATED:20241008T131552Z
LAST-MODIFIED:20260302T144225Z
UID:10000668-1864670400-1864678500@www.koorelpuente.nl
SUMMARY:Repetitie avond
DESCRIPTION:Elke donderdag van 20.00 uur tot 22.15 uur repetitie in C.C. De Mortel – Leliestraat 2 – Ittervoort
URL:https://www.koorelpuente.nl/activiteit/repetitie-avond-2/2029-02-01/
LOCATION:Cultureel Centrum De Mortel\, Leliestraat 2\, Ittervoort\, Nederland
END:VEVENT
BEGIN:VEVENT
DTSTART;TZID=Europe/Amsterdam:20290208T200000
DTEND;TZID=Europe/Amsterdam:20290208T221500
DTSTAMP:20260424T202303
CREATED:20241008T131552Z
LAST-MODIFIED:20260302T144225Z
UID:10000669-1865275200-1865283300@www.koorelpuente.nl
SUMMARY:Repetitie avond
DESCRIPTION:Elke donderdag van 20.00 uur tot 22.15 uur repetitie in C.C. De Mortel – Leliestraat 2 – Ittervoort
URL:https://www.koorelpuente.nl/activiteit/repetitie-avond-2/2029-02-08/
LOCATION:Cultureel Centrum De Mortel\, Leliestraat 2\, Ittervoort\, Nederland
END:VEVENT
BEGIN:VEVENT
DTSTART;TZID=Europe/Amsterdam:20290213T183000
DTEND;TZID=Europe/Amsterdam:20290213T183000
DTSTAMP:20260424T202303
CREATED:20250104T223751Z
LAST-MODIFIED:20250104T223751Z
UID:10000753-1865701800-1865701800@www.koorelpuente.nl
SUMMARY:Oud papier inzamelen kern Neeritter
DESCRIPTION:
URL:https://www.koorelpuente.nl/activiteit/oud-papier-inzamelen-kern-neeritter/2029-02-13/
LOCATION:Neeritter
END:VEVENT
BEGIN:VEVENT
DTSTART;TZID=Europe/Amsterdam:20290215T200000
DTEND;TZID=Europe/Amsterdam:20290215T221500
DTSTAMP:20260424T202303
CREATED:20241008T131552Z
LAST-MODIFIED:20260302T144225Z
UID:10000670-1865880000-1865888100@www.koorelpuente.nl
SUMMARY:Repetitie avond
DESCRIPTION:Elke donderdag van 20.00 uur tot 22.15 uur repetitie in C.C. De Mortel – Leliestraat 2 – Ittervoort
URL:https://www.koorelpuente.nl/activiteit/repetitie-avond-2/2029-02-15/
LOCATION:Cultureel Centrum De Mortel\, Leliestraat 2\, Ittervoort\, Nederland
END:VEVENT
BEGIN:VEVENT
DTSTART;TZID=Europe/Amsterdam:20290222T200000
DTEND;TZID=Europe/Amsterdam:20290222T221500
DTSTAMP:20260424T202303
CREATED:20241008T131552Z
LAST-MODIFIED:20260302T144225Z
UID:10000671-1866484800-1866492900@www.koorelpuente.nl
SUMMARY:Repetitie avond
DESCRIPTION:Elke donderdag van 20.00 uur tot 22.15 uur repetitie in C.C. De Mortel – Leliestraat 2 – Ittervoort
URL:https://www.koorelpuente.nl/activiteit/repetitie-avond-2/2029-02-22/
LOCATION:Cultureel Centrum De Mortel\, Leliestraat 2\, Ittervoort\, Nederland
END:VEVENT
BEGIN:VEVENT
DTSTART;TZID=Europe/Amsterdam:20290301T200000
DTEND;TZID=Europe/Amsterdam:20290301T221500
DTSTAMP:20260424T202303
CREATED:20241008T131552Z
LAST-MODIFIED:20260302T144225Z
UID:10000672-1867089600-1867097700@www.koorelpuente.nl
SUMMARY:Repetitie avond
DESCRIPTION:Elke donderdag van 20.00 uur tot 22.15 uur repetitie in C.C. De Mortel – Leliestraat 2 – Ittervoort
URL:https://www.koorelpuente.nl/activiteit/repetitie-avond-2/2029-03-01/
LOCATION:Cultureel Centrum De Mortel\, Leliestraat 2\, Ittervoort\, Nederland
END:VEVENT
BEGIN:VEVENT
DTSTART;TZID=Europe/Amsterdam:20290308T200000
DTEND;TZID=Europe/Amsterdam:20290308T221500
DTSTAMP:20260424T202303
CREATED:20241008T131552Z
LAST-MODIFIED:20260302T144225Z
UID:10000673-1867694400-1867702500@www.koorelpuente.nl
SUMMARY:Repetitie avond
DESCRIPTION:Elke donderdag van 20.00 uur tot 22.15 uur repetitie in C.C. De Mortel – Leliestraat 2 – Ittervoort
URL:https://www.koorelpuente.nl/activiteit/repetitie-avond-2/2029-03-08/
LOCATION:Cultureel Centrum De Mortel\, Leliestraat 2\, Ittervoort\, Nederland
END:VEVENT
BEGIN:VEVENT
DTSTART;TZID=Europe/Amsterdam:20290313T183000
DTEND;TZID=Europe/Amsterdam:20290313T183000
DTSTAMP:20260424T202303
CREATED:20250104T223751Z
LAST-MODIFIED:20250104T223751Z
UID:10000754-1868121000-1868121000@www.koorelpuente.nl
SUMMARY:Oud papier inzamelen kern Neeritter
DESCRIPTION:
URL:https://www.koorelpuente.nl/activiteit/oud-papier-inzamelen-kern-neeritter/2029-03-13/
LOCATION:Neeritter
END:VEVENT
BEGIN:VEVENT
DTSTART;TZID=Europe/Amsterdam:20290315T200000
DTEND;TZID=Europe/Amsterdam:20290315T221500
DTSTAMP:20260424T202303
CREATED:20241008T131552Z
LAST-MODIFIED:20260302T144225Z
UID:10000674-1868299200-1868307300@www.koorelpuente.nl
SUMMARY:Repetitie avond
DESCRIPTION:Elke donderdag van 20.00 uur tot 22.15 uur repetitie in C.C. De Mortel – Leliestraat 2 – Ittervoort
URL:https://www.koorelpuente.nl/activiteit/repetitie-avond-2/2029-03-15/
LOCATION:Cultureel Centrum De Mortel\, Leliestraat 2\, Ittervoort\, Nederland
END:VEVENT
BEGIN:VEVENT
DTSTART;TZID=Europe/Amsterdam:20290322T200000
DTEND;TZID=Europe/Amsterdam:20290322T221500
DTSTAMP:20260424T202303
CREATED:20241008T131552Z
LAST-MODIFIED:20260302T144225Z
UID:10000675-1868904000-1868912100@www.koorelpuente.nl
SUMMARY:Repetitie avond
DESCRIPTION:Elke donderdag van 20.00 uur tot 22.15 uur repetitie in C.C. De Mortel – Leliestraat 2 – Ittervoort
URL:https://www.koorelpuente.nl/activiteit/repetitie-avond-2/2029-03-22/
LOCATION:Cultureel Centrum De Mortel\, Leliestraat 2\, Ittervoort\, Nederland
END:VEVENT
BEGIN:VEVENT
DTSTART;TZID=Europe/Amsterdam:20290329T200000
DTEND;TZID=Europe/Amsterdam:20290329T221500
DTSTAMP:20260424T202303
CREATED:20241008T131552Z
LAST-MODIFIED:20260302T144225Z
UID:10000676-1869508800-1869516900@www.koorelpuente.nl
SUMMARY:Repetitie avond
DESCRIPTION:Elke donderdag van 20.00 uur tot 22.15 uur repetitie in C.C. De Mortel – Leliestraat 2 – Ittervoort
URL:https://www.koorelpuente.nl/activiteit/repetitie-avond-2/2029-03-29/
LOCATION:Cultureel Centrum De Mortel\, Leliestraat 2\, Ittervoort\, Nederland
END:VEVENT
END:VCALENDAR