BEGIN:VCALENDAR
VERSION:2.0
PRODID:-//Gemengd Koor El Puente - ECPv6.15.16//NONSGML v1.0//EN
CALSCALE:GREGORIAN
METHOD:PUBLISH
X-ORIGINAL-URL:https://www.koorelpuente.nl
X-WR-CALDESC:Evenementen voor Gemengd Koor El Puente
REFRESH-INTERVAL;VALUE=DURATION:PT1H
X-Robots-Tag:noindex
X-PUBLISHED-TTL:PT1H
BEGIN:VTIMEZONE
TZID:Europe/Amsterdam
BEGIN:DAYLIGHT
TZOFFSETFROM:+0100
TZOFFSETTO:+0200
TZNAME:CEST
DTSTART:20280326T010000
END:DAYLIGHT
BEGIN:STANDARD
TZOFFSETFROM:+0200
TZOFFSETTO:+0100
TZNAME:CET
DTSTART:20281029T010000
END:STANDARD
BEGIN:DAYLIGHT
TZOFFSETFROM:+0100
TZOFFSETTO:+0200
TZNAME:CEST
DTSTART:20290325T010000
END:DAYLIGHT
BEGIN:STANDARD
TZOFFSETFROM:+0200
TZOFFSETTO:+0100
TZNAME:CET
DTSTART:20291028T010000
END:STANDARD
BEGIN:DAYLIGHT
TZOFFSETFROM:+0100
TZOFFSETTO:+0200
TZNAME:CEST
DTSTART:20300331T010000
END:DAYLIGHT
BEGIN:STANDARD
TZOFFSETFROM:+0200
TZOFFSETTO:+0100
TZNAME:CET
DTSTART:20301027T010000
END:STANDARD
BEGIN:DAYLIGHT
TZOFFSETFROM:+0100
TZOFFSETTO:+0200
TZNAME:CEST
DTSTART:20310330T010000
END:DAYLIGHT
BEGIN:STANDARD
TZOFFSETFROM:+0200
TZOFFSETTO:+0100
TZNAME:CET
DTSTART:20311026T010000
END:STANDARD
END:VTIMEZONE
BEGIN:VEVENT
DTSTART;TZID=Europe/Amsterdam:20290920T200000
DTEND;TZID=Europe/Amsterdam:20290920T221500
DTSTAMP:20260425T044301
CREATED:20241008T131552Z
LAST-MODIFIED:20260302T144225Z
UID:10000701-1884628800-1884636900@www.koorelpuente.nl
SUMMARY:Repetitie avond
DESCRIPTION:Elke donderdag van 20.00 uur tot 22.15 uur repetitie in C.C. De Mortel – Leliestraat 2 – Ittervoort
URL:https://www.koorelpuente.nl/activiteit/repetitie-avond-2/2029-09-20/
LOCATION:Cultureel Centrum De Mortel\, Leliestraat 2\, Ittervoort\, Nederland
END:VEVENT
BEGIN:VEVENT
DTSTART;TZID=Europe/Amsterdam:20290927T200000
DTEND;TZID=Europe/Amsterdam:20290927T221500
DTSTAMP:20260425T044301
CREATED:20241008T131552Z
LAST-MODIFIED:20260302T144225Z
UID:10000702-1885233600-1885241700@www.koorelpuente.nl
SUMMARY:Repetitie avond
DESCRIPTION:Elke donderdag van 20.00 uur tot 22.15 uur repetitie in C.C. De Mortel – Leliestraat 2 – Ittervoort
URL:https://www.koorelpuente.nl/activiteit/repetitie-avond-2/2029-09-27/
LOCATION:Cultureel Centrum De Mortel\, Leliestraat 2\, Ittervoort\, Nederland
END:VEVENT
BEGIN:VEVENT
DTSTART;TZID=Europe/Amsterdam:20291004T200000
DTEND;TZID=Europe/Amsterdam:20291004T221500
DTSTAMP:20260425T044301
CREATED:20241008T131552Z
LAST-MODIFIED:20260302T144225Z
UID:10000703-1885838400-1885846500@www.koorelpuente.nl
SUMMARY:Repetitie avond
DESCRIPTION:Elke donderdag van 20.00 uur tot 22.15 uur repetitie in C.C. De Mortel – Leliestraat 2 – Ittervoort
URL:https://www.koorelpuente.nl/activiteit/repetitie-avond-2/2029-10-04/
LOCATION:Cultureel Centrum De Mortel\, Leliestraat 2\, Ittervoort\, Nederland
END:VEVENT
BEGIN:VEVENT
DTSTART;TZID=Europe/Amsterdam:20291009T183000
DTEND;TZID=Europe/Amsterdam:20291009T183000
DTSTAMP:20260425T044301
CREATED:20250104T223751Z
LAST-MODIFIED:20250104T223751Z
UID:10000761-1886265000-1886265000@www.koorelpuente.nl
SUMMARY:Oud papier inzamelen kern Neeritter
DESCRIPTION:
URL:https://www.koorelpuente.nl/activiteit/oud-papier-inzamelen-kern-neeritter/2029-10-09/
LOCATION:Neeritter
END:VEVENT
BEGIN:VEVENT
DTSTART;TZID=Europe/Amsterdam:20291011T200000
DTEND;TZID=Europe/Amsterdam:20291011T221500
DTSTAMP:20260425T044301
CREATED:20241008T131552Z
LAST-MODIFIED:20260302T144225Z
UID:10000782-1886443200-1886451300@www.koorelpuente.nl
SUMMARY:Repetitie avond
DESCRIPTION:Elke donderdag van 20.00 uur tot 22.15 uur repetitie in C.C. De Mortel – Leliestraat 2 – Ittervoort
URL:https://www.koorelpuente.nl/activiteit/repetitie-avond-2/2029-10-11/
LOCATION:Cultureel Centrum De Mortel\, Leliestraat 2\, Ittervoort\, Nederland
END:VEVENT
BEGIN:VEVENT
DTSTART;TZID=Europe/Amsterdam:20291018T200000
DTEND;TZID=Europe/Amsterdam:20291018T221500
DTSTAMP:20260425T044301
CREATED:20241008T131552Z
LAST-MODIFIED:20260302T144225Z
UID:10000783-1887048000-1887056100@www.koorelpuente.nl
SUMMARY:Repetitie avond
DESCRIPTION:Elke donderdag van 20.00 uur tot 22.15 uur repetitie in C.C. De Mortel – Leliestraat 2 – Ittervoort
URL:https://www.koorelpuente.nl/activiteit/repetitie-avond-2/2029-10-18/
LOCATION:Cultureel Centrum De Mortel\, Leliestraat 2\, Ittervoort\, Nederland
END:VEVENT
BEGIN:VEVENT
DTSTART;TZID=Europe/Amsterdam:20291025T200000
DTEND;TZID=Europe/Amsterdam:20291025T221500
DTSTAMP:20260425T044301
CREATED:20241008T131552Z
LAST-MODIFIED:20260302T144225Z
UID:10000784-1887652800-1887660900@www.koorelpuente.nl
SUMMARY:Repetitie avond
DESCRIPTION:Elke donderdag van 20.00 uur tot 22.15 uur repetitie in C.C. De Mortel – Leliestraat 2 – Ittervoort
URL:https://www.koorelpuente.nl/activiteit/repetitie-avond-2/2029-10-25/
LOCATION:Cultureel Centrum De Mortel\, Leliestraat 2\, Ittervoort\, Nederland
END:VEVENT
BEGIN:VEVENT
DTSTART;TZID=Europe/Amsterdam:20291101T200000
DTEND;TZID=Europe/Amsterdam:20291101T221500
DTSTAMP:20260425T044301
CREATED:20241008T131552Z
LAST-MODIFIED:20260302T144225Z
UID:10000785-1888257600-1888265700@www.koorelpuente.nl
SUMMARY:Repetitie avond
DESCRIPTION:Elke donderdag van 20.00 uur tot 22.15 uur repetitie in C.C. De Mortel – Leliestraat 2 – Ittervoort
URL:https://www.koorelpuente.nl/activiteit/repetitie-avond-2/2029-11-01/
LOCATION:Cultureel Centrum De Mortel\, Leliestraat 2\, Ittervoort\, Nederland
END:VEVENT
BEGIN:VEVENT
DTSTART;TZID=Europe/Amsterdam:20291108T200000
DTEND;TZID=Europe/Amsterdam:20291108T221500
DTSTAMP:20260425T044301
CREATED:20241008T131552Z
LAST-MODIFIED:20260302T144225Z
UID:10000786-1888862400-1888870500@www.koorelpuente.nl
SUMMARY:Repetitie avond
DESCRIPTION:Elke donderdag van 20.00 uur tot 22.15 uur repetitie in C.C. De Mortel – Leliestraat 2 – Ittervoort
URL:https://www.koorelpuente.nl/activiteit/repetitie-avond-2/2029-11-08/
LOCATION:Cultureel Centrum De Mortel\, Leliestraat 2\, Ittervoort\, Nederland
END:VEVENT
BEGIN:VEVENT
DTSTART;TZID=Europe/Amsterdam:20291113T183000
DTEND;TZID=Europe/Amsterdam:20291113T183000
DTSTAMP:20260425T044301
CREATED:20250104T223751Z
LAST-MODIFIED:20250104T223751Z
UID:10000762-1889289000-1889289000@www.koorelpuente.nl
SUMMARY:Oud papier inzamelen kern Neeritter
DESCRIPTION:
URL:https://www.koorelpuente.nl/activiteit/oud-papier-inzamelen-kern-neeritter/2029-11-13/
LOCATION:Neeritter
END:VEVENT
BEGIN:VEVENT
DTSTART;TZID=Europe/Amsterdam:20291115T200000
DTEND;TZID=Europe/Amsterdam:20291115T221500
DTSTAMP:20260425T044301
CREATED:20241008T131552Z
LAST-MODIFIED:20260302T144225Z
UID:10000787-1889467200-1889475300@www.koorelpuente.nl
SUMMARY:Repetitie avond
DESCRIPTION:Elke donderdag van 20.00 uur tot 22.15 uur repetitie in C.C. De Mortel – Leliestraat 2 – Ittervoort
URL:https://www.koorelpuente.nl/activiteit/repetitie-avond-2/2029-11-15/
LOCATION:Cultureel Centrum De Mortel\, Leliestraat 2\, Ittervoort\, Nederland
END:VEVENT
BEGIN:VEVENT
DTSTART;TZID=Europe/Amsterdam:20291122T200000
DTEND;TZID=Europe/Amsterdam:20291122T221500
DTSTAMP:20260425T044301
CREATED:20241008T131552Z
LAST-MODIFIED:20260302T144225Z
UID:10000788-1890072000-1890080100@www.koorelpuente.nl
SUMMARY:Repetitie avond
DESCRIPTION:Elke donderdag van 20.00 uur tot 22.15 uur repetitie in C.C. De Mortel – Leliestraat 2 – Ittervoort
URL:https://www.koorelpuente.nl/activiteit/repetitie-avond-2/2029-11-22/
LOCATION:Cultureel Centrum De Mortel\, Leliestraat 2\, Ittervoort\, Nederland
END:VEVENT
BEGIN:VEVENT
DTSTART;TZID=Europe/Amsterdam:20291129T200000
DTEND;TZID=Europe/Amsterdam:20291129T221500
DTSTAMP:20260425T044301
CREATED:20241008T131552Z
LAST-MODIFIED:20260302T144225Z
UID:10000789-1890676800-1890684900@www.koorelpuente.nl
SUMMARY:Repetitie avond
DESCRIPTION:Elke donderdag van 20.00 uur tot 22.15 uur repetitie in C.C. De Mortel – Leliestraat 2 – Ittervoort
URL:https://www.koorelpuente.nl/activiteit/repetitie-avond-2/2029-11-29/
LOCATION:Cultureel Centrum De Mortel\, Leliestraat 2\, Ittervoort\, Nederland
END:VEVENT
BEGIN:VEVENT
DTSTART;TZID=Europe/Amsterdam:20291206T200000
DTEND;TZID=Europe/Amsterdam:20291206T221500
DTSTAMP:20260425T044301
CREATED:20241008T131552Z
LAST-MODIFIED:20260302T144225Z
UID:10000790-1891281600-1891289700@www.koorelpuente.nl
SUMMARY:Repetitie avond
DESCRIPTION:Elke donderdag van 20.00 uur tot 22.15 uur repetitie in C.C. De Mortel – Leliestraat 2 – Ittervoort
URL:https://www.koorelpuente.nl/activiteit/repetitie-avond-2/2029-12-06/
LOCATION:Cultureel Centrum De Mortel\, Leliestraat 2\, Ittervoort\, Nederland
END:VEVENT
BEGIN:VEVENT
DTSTART;TZID=Europe/Amsterdam:20291211T183000
DTEND;TZID=Europe/Amsterdam:20291211T183000
DTSTAMP:20260425T044301
CREATED:20250104T223751Z
LAST-MODIFIED:20250104T223751Z
UID:10000763-1891708200-1891708200@www.koorelpuente.nl
SUMMARY:Oud papier inzamelen kern Neeritter
DESCRIPTION:
URL:https://www.koorelpuente.nl/activiteit/oud-papier-inzamelen-kern-neeritter/2029-12-11/
LOCATION:Neeritter
END:VEVENT
BEGIN:VEVENT
DTSTART;TZID=Europe/Amsterdam:20291213T200000
DTEND;TZID=Europe/Amsterdam:20291213T221500
DTSTAMP:20260425T044301
CREATED:20241008T131552Z
LAST-MODIFIED:20260302T144225Z
UID:10000791-1891886400-1891894500@www.koorelpuente.nl
SUMMARY:Repetitie avond
DESCRIPTION:Elke donderdag van 20.00 uur tot 22.15 uur repetitie in C.C. De Mortel – Leliestraat 2 – Ittervoort
URL:https://www.koorelpuente.nl/activiteit/repetitie-avond-2/2029-12-13/
LOCATION:Cultureel Centrum De Mortel\, Leliestraat 2\, Ittervoort\, Nederland
END:VEVENT
BEGIN:VEVENT
DTSTART;TZID=Europe/Amsterdam:20291220T200000
DTEND;TZID=Europe/Amsterdam:20291220T221500
DTSTAMP:20260425T044301
CREATED:20241008T131552Z
LAST-MODIFIED:20260302T144225Z
UID:10000792-1892491200-1892499300@www.koorelpuente.nl
SUMMARY:Repetitie avond
DESCRIPTION:Elke donderdag van 20.00 uur tot 22.15 uur repetitie in C.C. De Mortel – Leliestraat 2 – Ittervoort
URL:https://www.koorelpuente.nl/activiteit/repetitie-avond-2/2029-12-20/
LOCATION:Cultureel Centrum De Mortel\, Leliestraat 2\, Ittervoort\, Nederland
END:VEVENT
BEGIN:VEVENT
DTSTART;TZID=Europe/Amsterdam:20291227T200000
DTEND;TZID=Europe/Amsterdam:20291227T221500
DTSTAMP:20260425T044301
CREATED:20241008T131552Z
LAST-MODIFIED:20260302T144225Z
UID:10000793-1893096000-1893104100@www.koorelpuente.nl
SUMMARY:Repetitie avond
DESCRIPTION:Elke donderdag van 20.00 uur tot 22.15 uur repetitie in C.C. De Mortel – Leliestraat 2 – Ittervoort
URL:https://www.koorelpuente.nl/activiteit/repetitie-avond-2/2029-12-27/
LOCATION:Cultureel Centrum De Mortel\, Leliestraat 2\, Ittervoort\, Nederland
END:VEVENT
BEGIN:VEVENT
DTSTART;TZID=Europe/Amsterdam:20300103T200000
DTEND;TZID=Europe/Amsterdam:20300103T221500
DTSTAMP:20260425T044301
CREATED:20241008T131552Z
LAST-MODIFIED:20260302T144225Z
UID:10000794-1893700800-1893708900@www.koorelpuente.nl
SUMMARY:Repetitie avond
DESCRIPTION:Elke donderdag van 20.00 uur tot 22.15 uur repetitie in C.C. De Mortel – Leliestraat 2 – Ittervoort
URL:https://www.koorelpuente.nl/activiteit/repetitie-avond-2/2030-01-03/
LOCATION:Cultureel Centrum De Mortel\, Leliestraat 2\, Ittervoort\, Nederland
END:VEVENT
BEGIN:VEVENT
DTSTART;TZID=Europe/Amsterdam:20300110T200000
DTEND;TZID=Europe/Amsterdam:20300110T221500
DTSTAMP:20260425T044301
CREATED:20241008T131552Z
LAST-MODIFIED:20260302T144225Z
UID:10000795-1894305600-1894313700@www.koorelpuente.nl
SUMMARY:Repetitie avond
DESCRIPTION:Elke donderdag van 20.00 uur tot 22.15 uur repetitie in C.C. De Mortel – Leliestraat 2 – Ittervoort
URL:https://www.koorelpuente.nl/activiteit/repetitie-avond-2/2030-01-10/
LOCATION:Cultureel Centrum De Mortel\, Leliestraat 2\, Ittervoort\, Nederland
END:VEVENT
BEGIN:VEVENT
DTSTART;TZID=Europe/Amsterdam:20300117T200000
DTEND;TZID=Europe/Amsterdam:20300117T221500
DTSTAMP:20260425T044301
CREATED:20241008T131552Z
LAST-MODIFIED:20260302T144225Z
UID:10000796-1894910400-1894918500@www.koorelpuente.nl
SUMMARY:Repetitie avond
DESCRIPTION:Elke donderdag van 20.00 uur tot 22.15 uur repetitie in C.C. De Mortel – Leliestraat 2 – Ittervoort
URL:https://www.koorelpuente.nl/activiteit/repetitie-avond-2/2030-01-17/
LOCATION:Cultureel Centrum De Mortel\, Leliestraat 2\, Ittervoort\, Nederland
END:VEVENT
BEGIN:VEVENT
DTSTART;TZID=Europe/Amsterdam:20300124T200000
DTEND;TZID=Europe/Amsterdam:20300124T221500
DTSTAMP:20260425T044301
CREATED:20241008T131552Z
LAST-MODIFIED:20260302T144225Z
UID:10000797-1895515200-1895523300@www.koorelpuente.nl
SUMMARY:Repetitie avond
DESCRIPTION:Elke donderdag van 20.00 uur tot 22.15 uur repetitie in C.C. De Mortel – Leliestraat 2 – Ittervoort
URL:https://www.koorelpuente.nl/activiteit/repetitie-avond-2/2030-01-24/
LOCATION:Cultureel Centrum De Mortel\, Leliestraat 2\, Ittervoort\, Nederland
END:VEVENT
BEGIN:VEVENT
DTSTART;TZID=Europe/Amsterdam:20300131T200000
DTEND;TZID=Europe/Amsterdam:20300131T221500
DTSTAMP:20260425T044301
CREATED:20241008T131552Z
LAST-MODIFIED:20260302T144225Z
UID:10000798-1896120000-1896128100@www.koorelpuente.nl
SUMMARY:Repetitie avond
DESCRIPTION:Elke donderdag van 20.00 uur tot 22.15 uur repetitie in C.C. De Mortel – Leliestraat 2 – Ittervoort
URL:https://www.koorelpuente.nl/activiteit/repetitie-avond-2/2030-01-31/
LOCATION:Cultureel Centrum De Mortel\, Leliestraat 2\, Ittervoort\, Nederland
END:VEVENT
BEGIN:VEVENT
DTSTART;TZID=Europe/Amsterdam:20300207T200000
DTEND;TZID=Europe/Amsterdam:20300207T221500
DTSTAMP:20260425T044301
CREATED:20241008T131552Z
LAST-MODIFIED:20260302T144225Z
UID:10000799-1896724800-1896732900@www.koorelpuente.nl
SUMMARY:Repetitie avond
DESCRIPTION:Elke donderdag van 20.00 uur tot 22.15 uur repetitie in C.C. De Mortel – Leliestraat 2 – Ittervoort
URL:https://www.koorelpuente.nl/activiteit/repetitie-avond-2/2030-02-07/
LOCATION:Cultureel Centrum De Mortel\, Leliestraat 2\, Ittervoort\, Nederland
END:VEVENT
BEGIN:VEVENT
DTSTART;TZID=Europe/Amsterdam:20300214T200000
DTEND;TZID=Europe/Amsterdam:20300214T221500
DTSTAMP:20260425T044301
CREATED:20241008T131552Z
LAST-MODIFIED:20260302T144225Z
UID:10000800-1897329600-1897337700@www.koorelpuente.nl
SUMMARY:Repetitie avond
DESCRIPTION:Elke donderdag van 20.00 uur tot 22.15 uur repetitie in C.C. De Mortel – Leliestraat 2 – Ittervoort
URL:https://www.koorelpuente.nl/activiteit/repetitie-avond-2/2030-02-14/
LOCATION:Cultureel Centrum De Mortel\, Leliestraat 2\, Ittervoort\, Nederland
END:VEVENT
BEGIN:VEVENT
DTSTART;TZID=Europe/Amsterdam:20300221T200000
DTEND;TZID=Europe/Amsterdam:20300221T221500
DTSTAMP:20260425T044301
CREATED:20241008T131552Z
LAST-MODIFIED:20260302T144225Z
UID:10000801-1897934400-1897942500@www.koorelpuente.nl
SUMMARY:Repetitie avond
DESCRIPTION:Elke donderdag van 20.00 uur tot 22.15 uur repetitie in C.C. De Mortel – Leliestraat 2 – Ittervoort
URL:https://www.koorelpuente.nl/activiteit/repetitie-avond-2/2030-02-21/
LOCATION:Cultureel Centrum De Mortel\, Leliestraat 2\, Ittervoort\, Nederland
END:VEVENT
BEGIN:VEVENT
DTSTART;TZID=Europe/Amsterdam:20300228T200000
DTEND;TZID=Europe/Amsterdam:20300228T221500
DTSTAMP:20260425T044301
CREATED:20241008T131552Z
LAST-MODIFIED:20260302T144225Z
UID:10000802-1898539200-1898547300@www.koorelpuente.nl
SUMMARY:Repetitie avond
DESCRIPTION:Elke donderdag van 20.00 uur tot 22.15 uur repetitie in C.C. De Mortel – Leliestraat 2 – Ittervoort
URL:https://www.koorelpuente.nl/activiteit/repetitie-avond-2/2030-02-28/
LOCATION:Cultureel Centrum De Mortel\, Leliestraat 2\, Ittervoort\, Nederland
END:VEVENT
BEGIN:VEVENT
DTSTART;TZID=Europe/Amsterdam:20300307T200000
DTEND;TZID=Europe/Amsterdam:20300307T221500
DTSTAMP:20260425T044301
CREATED:20241008T131552Z
LAST-MODIFIED:20260302T144225Z
UID:10000803-1899144000-1899152100@www.koorelpuente.nl
SUMMARY:Repetitie avond
DESCRIPTION:Elke donderdag van 20.00 uur tot 22.15 uur repetitie in C.C. De Mortel – Leliestraat 2 – Ittervoort
URL:https://www.koorelpuente.nl/activiteit/repetitie-avond-2/2030-03-07/
LOCATION:Cultureel Centrum De Mortel\, Leliestraat 2\, Ittervoort\, Nederland
END:VEVENT
BEGIN:VEVENT
DTSTART;TZID=Europe/Amsterdam:20300314T200000
DTEND;TZID=Europe/Amsterdam:20300314T221500
DTSTAMP:20260425T044301
CREATED:20241008T131552Z
LAST-MODIFIED:20260302T144225Z
UID:10000804-1899748800-1899756900@www.koorelpuente.nl
SUMMARY:Repetitie avond
DESCRIPTION:Elke donderdag van 20.00 uur tot 22.15 uur repetitie in C.C. De Mortel – Leliestraat 2 – Ittervoort
URL:https://www.koorelpuente.nl/activiteit/repetitie-avond-2/2030-03-14/
LOCATION:Cultureel Centrum De Mortel\, Leliestraat 2\, Ittervoort\, Nederland
END:VEVENT
BEGIN:VEVENT
DTSTART;TZID=Europe/Amsterdam:20300321T200000
DTEND;TZID=Europe/Amsterdam:20300321T221500
DTSTAMP:20260425T044301
CREATED:20241008T131552Z
LAST-MODIFIED:20260302T144225Z
UID:10000805-1900353600-1900361700@www.koorelpuente.nl
SUMMARY:Repetitie avond
DESCRIPTION:Elke donderdag van 20.00 uur tot 22.15 uur repetitie in C.C. De Mortel – Leliestraat 2 – Ittervoort
URL:https://www.koorelpuente.nl/activiteit/repetitie-avond-2/2030-03-21/
LOCATION:Cultureel Centrum De Mortel\, Leliestraat 2\, Ittervoort\, Nederland
END:VEVENT
END:VCALENDAR