BEGIN:VCALENDAR
VERSION:2.0
PRODID:-//Gemengd Koor El Puente - ECPv6.15.16//NONSGML v1.0//EN
CALSCALE:GREGORIAN
METHOD:PUBLISH
X-WR-CALNAME:Gemengd Koor El Puente
X-ORIGINAL-URL:https://www.koorelpuente.nl
X-WR-CALDESC:Evenementen voor Gemengd Koor El Puente
REFRESH-INTERVAL;VALUE=DURATION:PT1H
X-Robots-Tag:noindex
X-PUBLISHED-TTL:PT1H
BEGIN:VTIMEZONE
TZID:Europe/Amsterdam
BEGIN:DAYLIGHT
TZOFFSETFROM:+0100
TZOFFSETTO:+0200
TZNAME:CEST
DTSTART:20250330T010000
END:DAYLIGHT
BEGIN:STANDARD
TZOFFSETFROM:+0200
TZOFFSETTO:+0100
TZNAME:CET
DTSTART:20251026T010000
END:STANDARD
BEGIN:DAYLIGHT
TZOFFSETFROM:+0100
TZOFFSETTO:+0200
TZNAME:CEST
DTSTART:20260329T010000
END:DAYLIGHT
BEGIN:STANDARD
TZOFFSETFROM:+0200
TZOFFSETTO:+0100
TZNAME:CET
DTSTART:20261025T010000
END:STANDARD
BEGIN:DAYLIGHT
TZOFFSETFROM:+0100
TZOFFSETTO:+0200
TZNAME:CEST
DTSTART:20270328T010000
END:DAYLIGHT
BEGIN:STANDARD
TZOFFSETFROM:+0200
TZOFFSETTO:+0100
TZNAME:CET
DTSTART:20271031T010000
END:STANDARD
BEGIN:DAYLIGHT
TZOFFSETFROM:+0100
TZOFFSETTO:+0200
TZNAME:CEST
DTSTART:20280326T010000
END:DAYLIGHT
BEGIN:STANDARD
TZOFFSETFROM:+0200
TZOFFSETTO:+0100
TZNAME:CET
DTSTART:20281029T010000
END:STANDARD
END:VTIMEZONE
BEGIN:VEVENT
DTSTART;TZID=Europe/Amsterdam:20260910T200000
DTEND;TZID=Europe/Amsterdam:20260910T221500
DTSTAMP:20260422T011800
CREATED:20241008T131552Z
LAST-MODIFIED:20260302T144225Z
UID:10000543-1789070400-1789078500@www.koorelpuente.nl
SUMMARY:Repetitie avond
DESCRIPTION:Elke donderdag van 20.00 uur tot 22.15 uur repetitie in C.C. De Mortel – Leliestraat 2 – Ittervoort
URL:https://www.koorelpuente.nl/activiteit/repetitie-avond-2/2026-09-10/
LOCATION:Cultureel Centrum De Mortel\, Leliestraat 2\, Ittervoort\, Nederland
END:VEVENT
BEGIN:VEVENT
DTSTART;TZID=Europe/Amsterdam:20260917T200000
DTEND;TZID=Europe/Amsterdam:20260917T221500
DTSTAMP:20260422T011800
CREATED:20241008T131552Z
LAST-MODIFIED:20260302T144225Z
UID:10000544-1789675200-1789683300@www.koorelpuente.nl
SUMMARY:Repetitie avond
DESCRIPTION:Elke donderdag van 20.00 uur tot 22.15 uur repetitie in C.C. De Mortel – Leliestraat 2 – Ittervoort
URL:https://www.koorelpuente.nl/activiteit/repetitie-avond-2/2026-09-17/
LOCATION:Cultureel Centrum De Mortel\, Leliestraat 2\, Ittervoort\, Nederland
END:VEVENT
BEGIN:VEVENT
DTSTART;TZID=Europe/Amsterdam:20260924T200000
DTEND;TZID=Europe/Amsterdam:20260924T221500
DTSTAMP:20260422T011800
CREATED:20241008T131552Z
LAST-MODIFIED:20260302T144225Z
UID:10000545-1790280000-1790288100@www.koorelpuente.nl
SUMMARY:Repetitie avond
DESCRIPTION:Elke donderdag van 20.00 uur tot 22.15 uur repetitie in C.C. De Mortel – Leliestraat 2 – Ittervoort
URL:https://www.koorelpuente.nl/activiteit/repetitie-avond-2/2026-09-24/
LOCATION:Cultureel Centrum De Mortel\, Leliestraat 2\, Ittervoort\, Nederland
END:VEVENT
BEGIN:VEVENT
DTSTART;TZID=Europe/Amsterdam:20261001T200000
DTEND;TZID=Europe/Amsterdam:20261001T221500
DTSTAMP:20260422T011800
CREATED:20241008T131552Z
LAST-MODIFIED:20260302T144225Z
UID:10000546-1790884800-1790892900@www.koorelpuente.nl
SUMMARY:Repetitie avond
DESCRIPTION:Elke donderdag van 20.00 uur tot 22.15 uur repetitie in C.C. De Mortel – Leliestraat 2 – Ittervoort
URL:https://www.koorelpuente.nl/activiteit/repetitie-avond-2/2026-10-01/
LOCATION:Cultureel Centrum De Mortel\, Leliestraat 2\, Ittervoort\, Nederland
END:VEVENT
BEGIN:VEVENT
DTSTART;TZID=Europe/Amsterdam:20261008T200000
DTEND;TZID=Europe/Amsterdam:20261008T221500
DTSTAMP:20260422T011800
CREATED:20241008T131552Z
LAST-MODIFIED:20260302T144225Z
UID:10000547-1791489600-1791497700@www.koorelpuente.nl
SUMMARY:Repetitie avond
DESCRIPTION:Elke donderdag van 20.00 uur tot 22.15 uur repetitie in C.C. De Mortel – Leliestraat 2 – Ittervoort
URL:https://www.koorelpuente.nl/activiteit/repetitie-avond-2/2026-10-08/
LOCATION:Cultureel Centrum De Mortel\, Leliestraat 2\, Ittervoort\, Nederland
END:VEVENT
BEGIN:VEVENT
DTSTART;TZID=Europe/Amsterdam:20261013T183000
DTEND;TZID=Europe/Amsterdam:20261013T183000
DTSTAMP:20260422T011800
CREATED:20250104T223751Z
LAST-MODIFIED:20250104T223751Z
UID:10000725-1791916200-1791916200@www.koorelpuente.nl
SUMMARY:Oud papier inzamelen kern Neeritter
DESCRIPTION:
URL:https://www.koorelpuente.nl/activiteit/oud-papier-inzamelen-kern-neeritter/2026-10-13/
LOCATION:Neeritter
END:VEVENT
BEGIN:VEVENT
DTSTART;TZID=Europe/Amsterdam:20261015T200000
DTEND;TZID=Europe/Amsterdam:20261015T221500
DTSTAMP:20260422T011800
CREATED:20241008T131552Z
LAST-MODIFIED:20260302T144225Z
UID:10000548-1792094400-1792102500@www.koorelpuente.nl
SUMMARY:Repetitie avond
DESCRIPTION:Elke donderdag van 20.00 uur tot 22.15 uur repetitie in C.C. De Mortel – Leliestraat 2 – Ittervoort
URL:https://www.koorelpuente.nl/activiteit/repetitie-avond-2/2026-10-15/
LOCATION:Cultureel Centrum De Mortel\, Leliestraat 2\, Ittervoort\, Nederland
END:VEVENT
BEGIN:VEVENT
DTSTART;TZID=Europe/Amsterdam:20261022T200000
DTEND;TZID=Europe/Amsterdam:20261022T221500
DTSTAMP:20260422T011800
CREATED:20241008T131552Z
LAST-MODIFIED:20260302T144225Z
UID:10000549-1792699200-1792707300@www.koorelpuente.nl
SUMMARY:Repetitie avond
DESCRIPTION:Elke donderdag van 20.00 uur tot 22.15 uur repetitie in C.C. De Mortel – Leliestraat 2 – Ittervoort
URL:https://www.koorelpuente.nl/activiteit/repetitie-avond-2/2026-10-22/
LOCATION:Cultureel Centrum De Mortel\, Leliestraat 2\, Ittervoort\, Nederland
END:VEVENT
BEGIN:VEVENT
DTSTART;TZID=Europe/Amsterdam:20261025T150000
DTEND;TZID=Europe/Amsterdam:20261025T180000
DTSTAMP:20260422T011800
CREATED:20260302T144006Z
LAST-MODIFIED:20260312T101608Z
UID:10000774-1792940400-1792951200@www.koorelpuente.nl
SUMMARY:Concert in Oktober sfeer
DESCRIPTION:Concert met Gemengd Koor Vocapella uit Strasshof (Oostenrijk) en Blaaskapel Os Genüge uit Bree.
URL:https://www.koorelpuente.nl/activiteit/concert-met-koor-vocapella-oostenrijk/
LOCATION:Cultureel Centrum De Mortel\, Leliestraat 2\, Ittervoort\, Nederland
END:VEVENT
BEGIN:VEVENT
DTSTART;TZID=Europe/Amsterdam:20261029T200000
DTEND;TZID=Europe/Amsterdam:20261029T221500
DTSTAMP:20260422T011800
CREATED:20241008T131552Z
LAST-MODIFIED:20260302T144225Z
UID:10000550-1793304000-1793312100@www.koorelpuente.nl
SUMMARY:Repetitie avond
DESCRIPTION:Elke donderdag van 20.00 uur tot 22.15 uur repetitie in C.C. De Mortel – Leliestraat 2 – Ittervoort
URL:https://www.koorelpuente.nl/activiteit/repetitie-avond-2/2026-10-29/
LOCATION:Cultureel Centrum De Mortel\, Leliestraat 2\, Ittervoort\, Nederland
END:VEVENT
BEGIN:VEVENT
DTSTART;TZID=Europe/Amsterdam:20261105T200000
DTEND;TZID=Europe/Amsterdam:20261105T221500
DTSTAMP:20260422T011800
CREATED:20241008T131552Z
LAST-MODIFIED:20260302T144225Z
UID:10000551-1793908800-1793916900@www.koorelpuente.nl
SUMMARY:Repetitie avond
DESCRIPTION:Elke donderdag van 20.00 uur tot 22.15 uur repetitie in C.C. De Mortel – Leliestraat 2 – Ittervoort
URL:https://www.koorelpuente.nl/activiteit/repetitie-avond-2/2026-11-05/
LOCATION:Cultureel Centrum De Mortel\, Leliestraat 2\, Ittervoort\, Nederland
END:VEVENT
BEGIN:VEVENT
DTSTART;TZID=Europe/Amsterdam:20261110T183000
DTEND;TZID=Europe/Amsterdam:20261110T183000
DTSTAMP:20260422T011800
CREATED:20250104T223751Z
LAST-MODIFIED:20250104T223751Z
UID:10000726-1794335400-1794335400@www.koorelpuente.nl
SUMMARY:Oud papier inzamelen kern Neeritter
DESCRIPTION:
URL:https://www.koorelpuente.nl/activiteit/oud-papier-inzamelen-kern-neeritter/2026-11-10/
LOCATION:Neeritter
END:VEVENT
BEGIN:VEVENT
DTSTART;TZID=Europe/Amsterdam:20261112T200000
DTEND;TZID=Europe/Amsterdam:20261112T221500
DTSTAMP:20260422T011800
CREATED:20241008T131552Z
LAST-MODIFIED:20260302T144225Z
UID:10000552-1794513600-1794521700@www.koorelpuente.nl
SUMMARY:Repetitie avond
DESCRIPTION:Elke donderdag van 20.00 uur tot 22.15 uur repetitie in C.C. De Mortel – Leliestraat 2 – Ittervoort
URL:https://www.koorelpuente.nl/activiteit/repetitie-avond-2/2026-11-12/
LOCATION:Cultureel Centrum De Mortel\, Leliestraat 2\, Ittervoort\, Nederland
END:VEVENT
BEGIN:VEVENT
DTSTART;TZID=Europe/Amsterdam:20261119T200000
DTEND;TZID=Europe/Amsterdam:20261119T221500
DTSTAMP:20260422T011800
CREATED:20241008T131552Z
LAST-MODIFIED:20260302T144225Z
UID:10000553-1795118400-1795126500@www.koorelpuente.nl
SUMMARY:Repetitie avond
DESCRIPTION:Elke donderdag van 20.00 uur tot 22.15 uur repetitie in C.C. De Mortel – Leliestraat 2 – Ittervoort
URL:https://www.koorelpuente.nl/activiteit/repetitie-avond-2/2026-11-19/
LOCATION:Cultureel Centrum De Mortel\, Leliestraat 2\, Ittervoort\, Nederland
END:VEVENT
BEGIN:VEVENT
DTSTART;TZID=Europe/Amsterdam:20261126T200000
DTEND;TZID=Europe/Amsterdam:20261126T221500
DTSTAMP:20260422T011800
CREATED:20241008T131552Z
LAST-MODIFIED:20260302T144225Z
UID:10000554-1795723200-1795731300@www.koorelpuente.nl
SUMMARY:Repetitie avond
DESCRIPTION:Elke donderdag van 20.00 uur tot 22.15 uur repetitie in C.C. De Mortel – Leliestraat 2 – Ittervoort
URL:https://www.koorelpuente.nl/activiteit/repetitie-avond-2/2026-11-26/
LOCATION:Cultureel Centrum De Mortel\, Leliestraat 2\, Ittervoort\, Nederland
END:VEVENT
BEGIN:VEVENT
DTSTART;TZID=Europe/Amsterdam:20261203T200000
DTEND;TZID=Europe/Amsterdam:20261203T221500
DTSTAMP:20260422T011800
CREATED:20241008T131552Z
LAST-MODIFIED:20260302T144225Z
UID:10000555-1796328000-1796336100@www.koorelpuente.nl
SUMMARY:Repetitie avond
DESCRIPTION:Elke donderdag van 20.00 uur tot 22.15 uur repetitie in C.C. De Mortel – Leliestraat 2 – Ittervoort
URL:https://www.koorelpuente.nl/activiteit/repetitie-avond-2/2026-12-03/
LOCATION:Cultureel Centrum De Mortel\, Leliestraat 2\, Ittervoort\, Nederland
END:VEVENT
BEGIN:VEVENT
DTSTART;TZID=Europe/Amsterdam:20261208T183000
DTEND;TZID=Europe/Amsterdam:20261208T183000
DTSTAMP:20260422T011800
CREATED:20250104T223751Z
LAST-MODIFIED:20250104T223751Z
UID:10000727-1796754600-1796754600@www.koorelpuente.nl
SUMMARY:Oud papier inzamelen kern Neeritter
DESCRIPTION:
URL:https://www.koorelpuente.nl/activiteit/oud-papier-inzamelen-kern-neeritter/2026-12-08/
LOCATION:Neeritter
END:VEVENT
BEGIN:VEVENT
DTSTART;TZID=Europe/Amsterdam:20261210T200000
DTEND;TZID=Europe/Amsterdam:20261210T221500
DTSTAMP:20260422T011800
CREATED:20241008T131552Z
LAST-MODIFIED:20260302T144225Z
UID:10000556-1796932800-1796940900@www.koorelpuente.nl
SUMMARY:Repetitie avond
DESCRIPTION:Elke donderdag van 20.00 uur tot 22.15 uur repetitie in C.C. De Mortel – Leliestraat 2 – Ittervoort
URL:https://www.koorelpuente.nl/activiteit/repetitie-avond-2/2026-12-10/
LOCATION:Cultureel Centrum De Mortel\, Leliestraat 2\, Ittervoort\, Nederland
END:VEVENT
BEGIN:VEVENT
DTSTART;TZID=Europe/Amsterdam:20261217T200000
DTEND;TZID=Europe/Amsterdam:20261217T221500
DTSTAMP:20260422T011800
CREATED:20241008T131552Z
LAST-MODIFIED:20260302T144225Z
UID:10000557-1797537600-1797545700@www.koorelpuente.nl
SUMMARY:Repetitie avond
DESCRIPTION:Elke donderdag van 20.00 uur tot 22.15 uur repetitie in C.C. De Mortel – Leliestraat 2 – Ittervoort
URL:https://www.koorelpuente.nl/activiteit/repetitie-avond-2/2026-12-17/
LOCATION:Cultureel Centrum De Mortel\, Leliestraat 2\, Ittervoort\, Nederland
END:VEVENT
BEGIN:VEVENT
DTSTART;TZID=Europe/Amsterdam:20261224T200000
DTEND;TZID=Europe/Amsterdam:20261224T221500
DTSTAMP:20260422T011800
CREATED:20241008T131552Z
LAST-MODIFIED:20260302T144225Z
UID:10000558-1798142400-1798150500@www.koorelpuente.nl
SUMMARY:Repetitie avond
DESCRIPTION:Elke donderdag van 20.00 uur tot 22.15 uur repetitie in C.C. De Mortel – Leliestraat 2 – Ittervoort
URL:https://www.koorelpuente.nl/activiteit/repetitie-avond-2/2026-12-24/
LOCATION:Cultureel Centrum De Mortel\, Leliestraat 2\, Ittervoort\, Nederland
END:VEVENT
BEGIN:VEVENT
DTSTART;TZID=Europe/Amsterdam:20261231T200000
DTEND;TZID=Europe/Amsterdam:20261231T221500
DTSTAMP:20260422T011800
CREATED:20241008T131552Z
LAST-MODIFIED:20260302T144225Z
UID:10000559-1798747200-1798755300@www.koorelpuente.nl
SUMMARY:Repetitie avond
DESCRIPTION:Elke donderdag van 20.00 uur tot 22.15 uur repetitie in C.C. De Mortel – Leliestraat 2 – Ittervoort
URL:https://www.koorelpuente.nl/activiteit/repetitie-avond-2/2026-12-31/
LOCATION:Cultureel Centrum De Mortel\, Leliestraat 2\, Ittervoort\, Nederland
END:VEVENT
BEGIN:VEVENT
DTSTART;TZID=Europe/Amsterdam:20270107T200000
DTEND;TZID=Europe/Amsterdam:20270107T221500
DTSTAMP:20260422T011800
CREATED:20241008T131552Z
LAST-MODIFIED:20260302T144225Z
UID:10000560-1799352000-1799360100@www.koorelpuente.nl
SUMMARY:Repetitie avond
DESCRIPTION:Elke donderdag van 20.00 uur tot 22.15 uur repetitie in C.C. De Mortel – Leliestraat 2 – Ittervoort
URL:https://www.koorelpuente.nl/activiteit/repetitie-avond-2/2027-01-07/
LOCATION:Cultureel Centrum De Mortel\, Leliestraat 2\, Ittervoort\, Nederland
END:VEVENT
BEGIN:VEVENT
DTSTART;TZID=Europe/Amsterdam:20270112T183000
DTEND;TZID=Europe/Amsterdam:20270112T183000
DTSTAMP:20260422T011800
CREATED:20250104T223751Z
LAST-MODIFIED:20250104T223751Z
UID:10000728-1799778600-1799778600@www.koorelpuente.nl
SUMMARY:Oud papier inzamelen kern Neeritter
DESCRIPTION:
URL:https://www.koorelpuente.nl/activiteit/oud-papier-inzamelen-kern-neeritter/2027-01-12/
LOCATION:Neeritter
END:VEVENT
BEGIN:VEVENT
DTSTART;TZID=Europe/Amsterdam:20270114T200000
DTEND;TZID=Europe/Amsterdam:20270114T221500
DTSTAMP:20260422T011800
CREATED:20241008T131552Z
LAST-MODIFIED:20260302T144225Z
UID:10000561-1799956800-1799964900@www.koorelpuente.nl
SUMMARY:Repetitie avond
DESCRIPTION:Elke donderdag van 20.00 uur tot 22.15 uur repetitie in C.C. De Mortel – Leliestraat 2 – Ittervoort
URL:https://www.koorelpuente.nl/activiteit/repetitie-avond-2/2027-01-14/
LOCATION:Cultureel Centrum De Mortel\, Leliestraat 2\, Ittervoort\, Nederland
END:VEVENT
BEGIN:VEVENT
DTSTART;TZID=Europe/Amsterdam:20270121T200000
DTEND;TZID=Europe/Amsterdam:20270121T221500
DTSTAMP:20260422T011800
CREATED:20241008T131552Z
LAST-MODIFIED:20260302T144225Z
UID:10000562-1800561600-1800569700@www.koorelpuente.nl
SUMMARY:Repetitie avond
DESCRIPTION:Elke donderdag van 20.00 uur tot 22.15 uur repetitie in C.C. De Mortel – Leliestraat 2 – Ittervoort
URL:https://www.koorelpuente.nl/activiteit/repetitie-avond-2/2027-01-21/
LOCATION:Cultureel Centrum De Mortel\, Leliestraat 2\, Ittervoort\, Nederland
END:VEVENT
BEGIN:VEVENT
DTSTART;TZID=Europe/Amsterdam:20270128T200000
DTEND;TZID=Europe/Amsterdam:20270128T221500
DTSTAMP:20260422T011800
CREATED:20241008T131552Z
LAST-MODIFIED:20260302T144225Z
UID:10000563-1801166400-1801174500@www.koorelpuente.nl
SUMMARY:Repetitie avond
DESCRIPTION:Elke donderdag van 20.00 uur tot 22.15 uur repetitie in C.C. De Mortel – Leliestraat 2 – Ittervoort
URL:https://www.koorelpuente.nl/activiteit/repetitie-avond-2/2027-01-28/
LOCATION:Cultureel Centrum De Mortel\, Leliestraat 2\, Ittervoort\, Nederland
END:VEVENT
BEGIN:VEVENT
DTSTART;TZID=Europe/Amsterdam:20270204T200000
DTEND;TZID=Europe/Amsterdam:20270204T221500
DTSTAMP:20260422T011800
CREATED:20241008T131552Z
LAST-MODIFIED:20260302T144225Z
UID:10000564-1801771200-1801779300@www.koorelpuente.nl
SUMMARY:Repetitie avond
DESCRIPTION:Elke donderdag van 20.00 uur tot 22.15 uur repetitie in C.C. De Mortel – Leliestraat 2 – Ittervoort
URL:https://www.koorelpuente.nl/activiteit/repetitie-avond-2/2027-02-04/
LOCATION:Cultureel Centrum De Mortel\, Leliestraat 2\, Ittervoort\, Nederland
END:VEVENT
BEGIN:VEVENT
DTSTART;TZID=Europe/Amsterdam:20270209T183000
DTEND;TZID=Europe/Amsterdam:20270209T183000
DTSTAMP:20260422T011800
CREATED:20250104T223751Z
LAST-MODIFIED:20250104T223751Z
UID:10000729-1802197800-1802197800@www.koorelpuente.nl
SUMMARY:Oud papier inzamelen kern Neeritter
DESCRIPTION:
URL:https://www.koorelpuente.nl/activiteit/oud-papier-inzamelen-kern-neeritter/2027-02-09/
LOCATION:Neeritter
END:VEVENT
BEGIN:VEVENT
DTSTART;TZID=Europe/Amsterdam:20270211T200000
DTEND;TZID=Europe/Amsterdam:20270211T221500
DTSTAMP:20260422T011800
CREATED:20241008T131552Z
LAST-MODIFIED:20260302T144225Z
UID:10000565-1802376000-1802384100@www.koorelpuente.nl
SUMMARY:Repetitie avond
DESCRIPTION:Elke donderdag van 20.00 uur tot 22.15 uur repetitie in C.C. De Mortel – Leliestraat 2 – Ittervoort
URL:https://www.koorelpuente.nl/activiteit/repetitie-avond-2/2027-02-11/
LOCATION:Cultureel Centrum De Mortel\, Leliestraat 2\, Ittervoort\, Nederland
END:VEVENT
BEGIN:VEVENT
DTSTART;TZID=Europe/Amsterdam:20270218T200000
DTEND;TZID=Europe/Amsterdam:20270218T221500
DTSTAMP:20260422T011800
CREATED:20241008T131552Z
LAST-MODIFIED:20260302T144225Z
UID:10000566-1802980800-1802988900@www.koorelpuente.nl
SUMMARY:Repetitie avond
DESCRIPTION:Elke donderdag van 20.00 uur tot 22.15 uur repetitie in C.C. De Mortel – Leliestraat 2 – Ittervoort
URL:https://www.koorelpuente.nl/activiteit/repetitie-avond-2/2027-02-18/
LOCATION:Cultureel Centrum De Mortel\, Leliestraat 2\, Ittervoort\, Nederland
END:VEVENT
END:VCALENDAR