BEGIN:VCALENDAR
VERSION:2.0
PRODID:-//Gemengd Koor El Puente - ECPv6.15.16//NONSGML v1.0//EN
CALSCALE:GREGORIAN
METHOD:PUBLISH
X-WR-CALNAME:Gemengd Koor El Puente
X-ORIGINAL-URL:https://www.koorelpuente.nl
X-WR-CALDESC:Evenementen voor Gemengd Koor El Puente
REFRESH-INTERVAL;VALUE=DURATION:PT1H
X-Robots-Tag:noindex
X-PUBLISHED-TTL:PT1H
BEGIN:VTIMEZONE
TZID:Europe/Amsterdam
BEGIN:DAYLIGHT
TZOFFSETFROM:+0100
TZOFFSETTO:+0200
TZNAME:CEST
DTSTART:20240331T010000
END:DAYLIGHT
BEGIN:STANDARD
TZOFFSETFROM:+0200
TZOFFSETTO:+0100
TZNAME:CET
DTSTART:20241027T010000
END:STANDARD
BEGIN:DAYLIGHT
TZOFFSETFROM:+0100
TZOFFSETTO:+0200
TZNAME:CEST
DTSTART:20250330T010000
END:DAYLIGHT
BEGIN:STANDARD
TZOFFSETFROM:+0200
TZOFFSETTO:+0100
TZNAME:CET
DTSTART:20251026T010000
END:STANDARD
BEGIN:DAYLIGHT
TZOFFSETFROM:+0100
TZOFFSETTO:+0200
TZNAME:CEST
DTSTART:20260329T010000
END:DAYLIGHT
BEGIN:STANDARD
TZOFFSETFROM:+0200
TZOFFSETTO:+0100
TZNAME:CET
DTSTART:20261025T010000
END:STANDARD
END:VTIMEZONE
BEGIN:VEVENT
DTSTART;TZID=Europe/Amsterdam:20251009T200000
DTEND;TZID=Europe/Amsterdam:20251009T221500
DTSTAMP:20260422T051104
CREATED:20241008T131552Z
LAST-MODIFIED:20260302T144225Z
UID:10000495-1760040000-1760048100@www.koorelpuente.nl
SUMMARY:Repetitie avond
DESCRIPTION:Elke donderdag van 20.00 uur tot 22.15 uur repetitie in C.C. De Mortel – Leliestraat 2 – Ittervoort
URL:https://www.koorelpuente.nl/activiteit/repetitie-avond-2/2025-10-09/
LOCATION:Cultureel Centrum De Mortel\, Leliestraat 2\, Ittervoort\, Nederland
END:VEVENT
BEGIN:VEVENT
DTSTART;TZID=Europe/Amsterdam:20251002T200000
DTEND;TZID=Europe/Amsterdam:20251002T221500
DTSTAMP:20260422T051104
CREATED:20241008T131552Z
LAST-MODIFIED:20260302T144225Z
UID:10000494-1759435200-1759443300@www.koorelpuente.nl
SUMMARY:Repetitie avond
DESCRIPTION:Elke donderdag van 20.00 uur tot 22.15 uur repetitie in C.C. De Mortel – Leliestraat 2 – Ittervoort
URL:https://www.koorelpuente.nl/activiteit/repetitie-avond-2/2025-10-02/
LOCATION:Cultureel Centrum De Mortel\, Leliestraat 2\, Ittervoort\, Nederland
END:VEVENT
BEGIN:VEVENT
DTSTART;TZID=Europe/Amsterdam:20250925T200000
DTEND;TZID=Europe/Amsterdam:20250925T221500
DTSTAMP:20260422T051104
CREATED:20241008T131552Z
LAST-MODIFIED:20260302T144225Z
UID:10000493-1758830400-1758838500@www.koorelpuente.nl
SUMMARY:Repetitie avond
DESCRIPTION:Elke donderdag van 20.00 uur tot 22.15 uur repetitie in C.C. De Mortel – Leliestraat 2 – Ittervoort
URL:https://www.koorelpuente.nl/activiteit/repetitie-avond-2/2025-09-25/
LOCATION:Cultureel Centrum De Mortel\, Leliestraat 2\, Ittervoort\, Nederland
END:VEVENT
BEGIN:VEVENT
DTSTART;TZID=Europe/Amsterdam:20250921T150000
DTEND;TZID=Europe/Amsterdam:20250921T150000
DTSTAMP:20260422T051104
CREATED:20250714T123308Z
LAST-MODIFIED:20250830T094853Z
UID:10000770-1758466800-1758466800@www.koorelpuente.nl
SUMMARY:Concert bij Forellenvijver Heioord Neeritter
DESCRIPTION:
URL:https://www.koorelpuente.nl/activiteit/concert-bij-forellenvijver-heioord-neeritter/
LOCATION:Forellenvijver Heioord\, Rutjensstraat 6\, Neeritter\, 6015 RE\, Netherlands
END:VEVENT
BEGIN:VEVENT
DTSTART;TZID=Europe/Amsterdam:20250918T200000
DTEND;TZID=Europe/Amsterdam:20250918T221500
DTSTAMP:20260422T051104
CREATED:20241008T131552Z
LAST-MODIFIED:20260302T144225Z
UID:10000492-1758225600-1758233700@www.koorelpuente.nl
SUMMARY:Repetitie avond
DESCRIPTION:Elke donderdag van 20.00 uur tot 22.15 uur repetitie in C.C. De Mortel – Leliestraat 2 – Ittervoort
URL:https://www.koorelpuente.nl/activiteit/repetitie-avond-2/2025-09-18/
LOCATION:Cultureel Centrum De Mortel\, Leliestraat 2\, Ittervoort\, Nederland
END:VEVENT
BEGIN:VEVENT
DTSTART;TZID=Europe/Amsterdam:20250911T200000
DTEND;TZID=Europe/Amsterdam:20250911T221500
DTSTAMP:20260422T051104
CREATED:20241008T131552Z
LAST-MODIFIED:20260302T144225Z
UID:10000491-1757620800-1757628900@www.koorelpuente.nl
SUMMARY:Repetitie avond
DESCRIPTION:Elke donderdag van 20.00 uur tot 22.15 uur repetitie in C.C. De Mortel – Leliestraat 2 – Ittervoort
URL:https://www.koorelpuente.nl/activiteit/repetitie-avond-2/2025-09-11/
LOCATION:Cultureel Centrum De Mortel\, Leliestraat 2\, Ittervoort\, Nederland
END:VEVENT
BEGIN:VEVENT
DTSTART;TZID=Europe/Amsterdam:20250909T183000
DTEND;TZID=Europe/Amsterdam:20250909T183000
DTSTAMP:20260422T051105
CREATED:20250104T223751Z
LAST-MODIFIED:20250104T223751Z
UID:10000712-1757442600-1757442600@www.koorelpuente.nl
SUMMARY:Oud papier inzamelen kern Neeritter
DESCRIPTION:
URL:https://www.koorelpuente.nl/activiteit/oud-papier-inzamelen-kern-neeritter/2025-09-09/
LOCATION:Neeritter
END:VEVENT
BEGIN:VEVENT
DTSTART;TZID=Europe/Amsterdam:20250904T200000
DTEND;TZID=Europe/Amsterdam:20250904T221500
DTSTAMP:20260422T051105
CREATED:20241008T131552Z
LAST-MODIFIED:20260302T144225Z
UID:10000490-1757016000-1757024100@www.koorelpuente.nl
SUMMARY:Repetitie avond
DESCRIPTION:Elke donderdag van 20.00 uur tot 22.15 uur repetitie in C.C. De Mortel – Leliestraat 2 – Ittervoort
URL:https://www.koorelpuente.nl/activiteit/repetitie-avond-2/2025-09-04/
LOCATION:Cultureel Centrum De Mortel\, Leliestraat 2\, Ittervoort\, Nederland
END:VEVENT
BEGIN:VEVENT
DTSTART;TZID=Europe/Amsterdam:20250828T200000
DTEND;TZID=Europe/Amsterdam:20250828T221500
DTSTAMP:20260422T051105
CREATED:20241008T131552Z
LAST-MODIFIED:20260302T144225Z
UID:10000489-1756411200-1756419300@www.koorelpuente.nl
SUMMARY:Repetitie avond
DESCRIPTION:Elke donderdag van 20.00 uur tot 22.15 uur repetitie in C.C. De Mortel – Leliestraat 2 – Ittervoort
URL:https://www.koorelpuente.nl/activiteit/repetitie-avond-2/2025-08-28/
LOCATION:Cultureel Centrum De Mortel\, Leliestraat 2\, Ittervoort\, Nederland
END:VEVENT
BEGIN:VEVENT
DTSTART;TZID=Europe/Amsterdam:20250821T200000
DTEND;TZID=Europe/Amsterdam:20250821T221500
DTSTAMP:20260422T051105
CREATED:20241008T131552Z
LAST-MODIFIED:20260302T144225Z
UID:10000781-1755806400-1755814500@www.koorelpuente.nl
SUMMARY:Repetitie avond
DESCRIPTION:Elke donderdag van 20.00 uur tot 22.15 uur repetitie in C.C. De Mortel – Leliestraat 2 – Ittervoort
URL:https://www.koorelpuente.nl/activiteit/repetitie-avond-2/2025-08-21/
LOCATION:Cultureel Centrum De Mortel\, Leliestraat 2\, Ittervoort\, Nederland
END:VEVENT
BEGIN:VEVENT
DTSTART;TZID=Europe/Amsterdam:20250821T200000
DTEND;TZID=Europe/Amsterdam:20250821T221500
DTSTAMP:20260422T051105
CREATED:20240816T144015Z
LAST-MODIFIED:20250415T091114Z
UID:10000110-1755806400-1755814500@www.koorelpuente.nl
SUMMARY:Eerste repetitie na zomervakantie
DESCRIPTION:Last van zomerblues?\nGeen nood! \nGemengd Koor El Puente begint op donderdag 21 augustus om 20.00 uur weer met repeteren in CC De Mortel Ittervoort. \nZingen is stimulerend voor de geest en de emoties. Het heeft een krachtig effect op ons welzijn en kan zelfs therapeutisch zijn. Zingen helpt bij het loslaten van stress en spanning\, waardoor we ons ontspannen en gelukkig voelen. \nWie wil dat nu niet ervaren? \nMeld je even aan voor een proefrepetitie via info@koorelpuente.nl. \nJe bent van harte welkom!
URL:https://www.koorelpuente.nl/activiteit/1e-repetitie-na-zomervakantie/
LOCATION:Cultureel Centrum De Mortel\, Leliestraat 2\, Ittervoort\, Nederland
END:VEVENT
BEGIN:VEVENT
DTSTART;TZID=Europe/Amsterdam:20250814T200000
DTEND;TZID=Europe/Amsterdam:20250814T221500
DTSTAMP:20260422T051105
CREATED:20241008T131552Z
LAST-MODIFIED:20260302T144225Z
UID:10000780-1755201600-1755209700@www.koorelpuente.nl
SUMMARY:Repetitie avond
DESCRIPTION:Elke donderdag van 20.00 uur tot 22.15 uur repetitie in C.C. De Mortel – Leliestraat 2 – Ittervoort
URL:https://www.koorelpuente.nl/activiteit/repetitie-avond-2/2025-08-14/
LOCATION:Cultureel Centrum De Mortel\, Leliestraat 2\, Ittervoort\, Nederland
END:VEVENT
BEGIN:VEVENT
DTSTART;TZID=Europe/Amsterdam:20250812T183000
DTEND;TZID=Europe/Amsterdam:20250812T183000
DTSTAMP:20260422T051105
CREATED:20250104T223751Z
LAST-MODIFIED:20250104T223751Z
UID:10000711-1755023400-1755023400@www.koorelpuente.nl
SUMMARY:Oud papier inzamelen kern Neeritter
DESCRIPTION:
URL:https://www.koorelpuente.nl/activiteit/oud-papier-inzamelen-kern-neeritter/2025-08-12/
LOCATION:Neeritter
END:VEVENT
BEGIN:VEVENT
DTSTART;TZID=Europe/Amsterdam:20250807T200000
DTEND;TZID=Europe/Amsterdam:20250807T221500
DTSTAMP:20260422T051105
CREATED:20241008T131552Z
LAST-MODIFIED:20260302T144225Z
UID:10000779-1754596800-1754604900@www.koorelpuente.nl
SUMMARY:Repetitie avond
DESCRIPTION:Elke donderdag van 20.00 uur tot 22.15 uur repetitie in C.C. De Mortel – Leliestraat 2 – Ittervoort
URL:https://www.koorelpuente.nl/activiteit/repetitie-avond-2/2025-08-07/
LOCATION:Cultureel Centrum De Mortel\, Leliestraat 2\, Ittervoort\, Nederland
END:VEVENT
BEGIN:VEVENT
DTSTART;TZID=Europe/Amsterdam:20250731T200000
DTEND;TZID=Europe/Amsterdam:20250731T221500
DTSTAMP:20260422T051105
CREATED:20241008T131552Z
LAST-MODIFIED:20260302T144225Z
UID:10000778-1753992000-1754000100@www.koorelpuente.nl
SUMMARY:Repetitie avond
DESCRIPTION:Elke donderdag van 20.00 uur tot 22.15 uur repetitie in C.C. De Mortel – Leliestraat 2 – Ittervoort
URL:https://www.koorelpuente.nl/activiteit/repetitie-avond-2/2025-07-31/
LOCATION:Cultureel Centrum De Mortel\, Leliestraat 2\, Ittervoort\, Nederland
END:VEVENT
BEGIN:VEVENT
DTSTART;TZID=Europe/Amsterdam:20250724T200000
DTEND;TZID=Europe/Amsterdam:20250724T221500
DTSTAMP:20260422T051105
CREATED:20241008T131552Z
LAST-MODIFIED:20260302T144225Z
UID:10000777-1753387200-1753395300@www.koorelpuente.nl
SUMMARY:Repetitie avond
DESCRIPTION:Elke donderdag van 20.00 uur tot 22.15 uur repetitie in C.C. De Mortel – Leliestraat 2 – Ittervoort
URL:https://www.koorelpuente.nl/activiteit/repetitie-avond-2/2025-07-24/
LOCATION:Cultureel Centrum De Mortel\, Leliestraat 2\, Ittervoort\, Nederland
END:VEVENT
BEGIN:VEVENT
DTSTART;TZID=Europe/Amsterdam:20250717T200000
DTEND;TZID=Europe/Amsterdam:20250717T221500
DTSTAMP:20260422T051105
CREATED:20241008T131552Z
LAST-MODIFIED:20260302T144225Z
UID:10000776-1752782400-1752790500@www.koorelpuente.nl
SUMMARY:Repetitie avond
DESCRIPTION:Elke donderdag van 20.00 uur tot 22.15 uur repetitie in C.C. De Mortel – Leliestraat 2 – Ittervoort
URL:https://www.koorelpuente.nl/activiteit/repetitie-avond-2/2025-07-17/
LOCATION:Cultureel Centrum De Mortel\, Leliestraat 2\, Ittervoort\, Nederland
END:VEVENT
BEGIN:VEVENT
DTSTART;TZID=Europe/Amsterdam:20250708T183000
DTEND;TZID=Europe/Amsterdam:20250708T183000
DTSTAMP:20260422T051105
CREATED:20250104T223751Z
LAST-MODIFIED:20250104T223751Z
UID:10000710-1751999400-1751999400@www.koorelpuente.nl
SUMMARY:Oud papier inzamelen kern Neeritter
DESCRIPTION:
URL:https://www.koorelpuente.nl/activiteit/oud-papier-inzamelen-kern-neeritter/2025-07-08/
LOCATION:Neeritter
END:VEVENT
BEGIN:VEVENT
DTSTART;TZID=Europe/Amsterdam:20250703T200000
DTEND;TZID=Europe/Amsterdam:20250703T221500
DTSTAMP:20260422T051105
CREATED:20241008T131552Z
LAST-MODIFIED:20260302T144225Z
UID:10000488-1751572800-1751580900@www.koorelpuente.nl
SUMMARY:Repetitie avond
DESCRIPTION:Elke donderdag van 20.00 uur tot 22.15 uur repetitie in C.C. De Mortel – Leliestraat 2 – Ittervoort
URL:https://www.koorelpuente.nl/activiteit/repetitie-avond-2/2025-07-03/
LOCATION:Cultureel Centrum De Mortel\, Leliestraat 2\, Ittervoort\, Nederland
END:VEVENT
BEGIN:VEVENT
DTSTART;TZID=Europe/Amsterdam:20250626T200000
DTEND;TZID=Europe/Amsterdam:20250626T221500
DTSTAMP:20260422T051105
CREATED:20241008T131552Z
LAST-MODIFIED:20260302T144225Z
UID:10000487-1750968000-1750976100@www.koorelpuente.nl
SUMMARY:Repetitie avond
DESCRIPTION:Elke donderdag van 20.00 uur tot 22.15 uur repetitie in C.C. De Mortel – Leliestraat 2 – Ittervoort
URL:https://www.koorelpuente.nl/activiteit/repetitie-avond-2/2025-06-26/
LOCATION:Cultureel Centrum De Mortel\, Leliestraat 2\, Ittervoort\, Nederland
END:VEVENT
BEGIN:VEVENT
DTSTART;TZID=Europe/Amsterdam:20250619T200000
DTEND;TZID=Europe/Amsterdam:20250619T221500
DTSTAMP:20260422T051105
CREATED:20241008T131552Z
LAST-MODIFIED:20260302T144225Z
UID:10000486-1750363200-1750371300@www.koorelpuente.nl
SUMMARY:Repetitie avond
DESCRIPTION:Elke donderdag van 20.00 uur tot 22.15 uur repetitie in C.C. De Mortel – Leliestraat 2 – Ittervoort
URL:https://www.koorelpuente.nl/activiteit/repetitie-avond-2/2025-06-19/
LOCATION:Cultureel Centrum De Mortel\, Leliestraat 2\, Ittervoort\, Nederland
END:VEVENT
BEGIN:VEVENT
DTSTART;TZID=Europe/Amsterdam:20250613T200000
DTEND;TZID=Europe/Amsterdam:20250613T200000
DTSTAMP:20260422T051105
CREATED:20250217T094930Z
LAST-MODIFIED:20250529T093955Z
UID:10000764-1749844800-1749844800@www.koorelpuente.nl
SUMMARY:Deelname Orgel Plus Concert Neeritter
DESCRIPTION:In de St. Lambertuskerk in Neeritter wordt op vrijdag 13 juni om 20.00 uur een orgel-plusconcert gegeven. De bekende organiste Poppeia Berden en het gemengd koor El Puente zullen samen deze concertavond verzorgen.\nHet prachtige Pereboom & Leijser-orgel uit 1863 wordt dit jaar bespeeld door Poppeia Berden\, organiste van de Onze-Lieve-Vrouwebasiliek in Maastricht. Haar master Kerkorgel aan het conservatorium sloot zij in augustus 2024 af met de hoogste\nlof. Poppeia volgde verschillende masterclasses en heeft daarnaast een grote concertpraktijk opgebouwd in binnen- en buitenland. Ze zet zich graag in voor kunsteducatie. Daarom is zij ‘adviseur kunsteducatie’ van de orgelstichting Pro Organo in Maastricht\, waar zij jaarlijks projecten ontwikkelt voor kinderen. Daarnaast is zij als orgeldocente verbonden aan de Stedelijke Academie in Maaseik.\nEl Puente is een gemengd koor\, voortgekomen uit de samenvoeging van de gemengde koren De Grenszangers (Neeritter) en Vivace (Ittervoort). Momenteel zingen 55 mannen en\nvrouwen onder leiding van dirigente Lilit Sati met veel plezier en passie. El Puente is regionaal georiënteerd\, met leden uit Ittervoort\, Neeritter\, Grathem\, Thorn\, andere delen van Limburg én Belgisch Limburg. Kortom\, een mooi en gevarieerd gezelschap.\nWij hopen u allen te mogen begroeten op dit bijzondere concert!\nDatum: vrijdag 13 juni 2025\nTijd: aanvang 20.00 uur\nLocatie: Lambertuskerk\, Molenstraat 3\, Neeritter\nToegang: gratis (vrije gave wordt op prijs gesteld) \n \n 
URL:https://www.koorelpuente.nl/activiteit/deelname-orgel-plus-concert-neeritter/
LOCATION:St. Lambertuskerk Neeritter\, Molenstraat 2\, Neeritter\, 6015AC\, Nederland
END:VEVENT
BEGIN:VEVENT
DTSTART;TZID=Europe/Amsterdam:20250612T200000
DTEND;TZID=Europe/Amsterdam:20250612T221500
DTSTAMP:20260422T051105
CREATED:20241008T131552Z
LAST-MODIFIED:20260302T144225Z
UID:10000485-1749758400-1749766500@www.koorelpuente.nl
SUMMARY:Repetitie avond
DESCRIPTION:Elke donderdag van 20.00 uur tot 22.15 uur repetitie in C.C. De Mortel – Leliestraat 2 – Ittervoort
URL:https://www.koorelpuente.nl/activiteit/repetitie-avond-2/2025-06-12/
LOCATION:Cultureel Centrum De Mortel\, Leliestraat 2\, Ittervoort\, Nederland
END:VEVENT
BEGIN:VEVENT
DTSTART;TZID=Europe/Amsterdam:20250610T183000
DTEND;TZID=Europe/Amsterdam:20250610T183000
DTSTAMP:20260422T051105
CREATED:20250104T223751Z
LAST-MODIFIED:20250104T223751Z
UID:10000709-1749580200-1749580200@www.koorelpuente.nl
SUMMARY:Oud papier inzamelen kern Neeritter
DESCRIPTION:
URL:https://www.koorelpuente.nl/activiteit/oud-papier-inzamelen-kern-neeritter/2025-06-10/
LOCATION:Neeritter
END:VEVENT
BEGIN:VEVENT
DTSTART;TZID=Europe/Amsterdam:20250605T200000
DTEND;TZID=Europe/Amsterdam:20250605T221500
DTSTAMP:20260422T051105
CREATED:20241008T131552Z
LAST-MODIFIED:20260302T144225Z
UID:10000484-1749153600-1749161700@www.koorelpuente.nl
SUMMARY:Repetitie avond
DESCRIPTION:Elke donderdag van 20.00 uur tot 22.15 uur repetitie in C.C. De Mortel – Leliestraat 2 – Ittervoort
URL:https://www.koorelpuente.nl/activiteit/repetitie-avond-2/2025-06-05/
LOCATION:Cultureel Centrum De Mortel\, Leliestraat 2\, Ittervoort\, Nederland
END:VEVENT
BEGIN:VEVENT
DTSTART;TZID=Europe/Amsterdam:20250529T200000
DTEND;TZID=Europe/Amsterdam:20250529T221500
DTSTAMP:20260422T051105
CREATED:20241008T131552Z
LAST-MODIFIED:20260302T144225Z
UID:10000483-1748548800-1748556900@www.koorelpuente.nl
SUMMARY:Repetitie avond
DESCRIPTION:Elke donderdag van 20.00 uur tot 22.15 uur repetitie in C.C. De Mortel – Leliestraat 2 – Ittervoort
URL:https://www.koorelpuente.nl/activiteit/repetitie-avond-2/2025-05-29/
LOCATION:Cultureel Centrum De Mortel\, Leliestraat 2\, Ittervoort\, Nederland
END:VEVENT
BEGIN:VEVENT
DTSTART;TZID=Europe/Amsterdam:20250522T200000
DTEND;TZID=Europe/Amsterdam:20250522T221500
DTSTAMP:20260422T051105
CREATED:20241008T131552Z
LAST-MODIFIED:20260302T144225Z
UID:10000482-1747944000-1747952100@www.koorelpuente.nl
SUMMARY:Repetitie avond
DESCRIPTION:Elke donderdag van 20.00 uur tot 22.15 uur repetitie in C.C. De Mortel – Leliestraat 2 – Ittervoort
URL:https://www.koorelpuente.nl/activiteit/repetitie-avond-2/2025-05-22/
LOCATION:Cultureel Centrum De Mortel\, Leliestraat 2\, Ittervoort\, Nederland
END:VEVENT
BEGIN:VEVENT
DTSTART;TZID=Europe/Amsterdam:20250515T200000
DTEND;TZID=Europe/Amsterdam:20250515T221500
DTSTAMP:20260422T051105
CREATED:20241008T131552Z
LAST-MODIFIED:20260302T144225Z
UID:10000481-1747339200-1747347300@www.koorelpuente.nl
SUMMARY:Repetitie avond
DESCRIPTION:Elke donderdag van 20.00 uur tot 22.15 uur repetitie in C.C. De Mortel – Leliestraat 2 – Ittervoort
URL:https://www.koorelpuente.nl/activiteit/repetitie-avond-2/2025-05-15/
LOCATION:Cultureel Centrum De Mortel\, Leliestraat 2\, Ittervoort\, Nederland
END:VEVENT
BEGIN:VEVENT
DTSTART;TZID=Europe/Amsterdam:20250513T183000
DTEND;TZID=Europe/Amsterdam:20250513T183000
DTSTAMP:20260422T051105
CREATED:20250104T223751Z
LAST-MODIFIED:20250104T223751Z
UID:10000708-1747161000-1747161000@www.koorelpuente.nl
SUMMARY:Oud papier inzamelen kern Neeritter
DESCRIPTION:
URL:https://www.koorelpuente.nl/activiteit/oud-papier-inzamelen-kern-neeritter/2025-05-13/
LOCATION:Neeritter
END:VEVENT
BEGIN:VEVENT
DTSTART;TZID=Europe/Amsterdam:20250508T200000
DTEND;TZID=Europe/Amsterdam:20250508T221500
DTSTAMP:20260422T051105
CREATED:20241008T131552Z
LAST-MODIFIED:20260302T144225Z
UID:10000480-1746734400-1746742500@www.koorelpuente.nl
SUMMARY:Repetitie avond
DESCRIPTION:Elke donderdag van 20.00 uur tot 22.15 uur repetitie in C.C. De Mortel – Leliestraat 2 – Ittervoort
URL:https://www.koorelpuente.nl/activiteit/repetitie-avond-2/2025-05-08/
LOCATION:Cultureel Centrum De Mortel\, Leliestraat 2\, Ittervoort\, Nederland
END:VEVENT
END:VCALENDAR