BEGIN:VCALENDAR
VERSION:2.0
PRODID:-//Gemengd Koor El Puente - ECPv6.15.16//NONSGML v1.0//EN
CALSCALE:GREGORIAN
METHOD:PUBLISH
X-ORIGINAL-URL:https://www.koorelpuente.nl
X-WR-CALDESC:Evenementen voor Gemengd Koor El Puente
REFRESH-INTERVAL;VALUE=DURATION:PT1H
X-Robots-Tag:noindex
X-PUBLISHED-TTL:PT1H
BEGIN:VTIMEZONE
TZID:Europe/Amsterdam
BEGIN:DAYLIGHT
TZOFFSETFROM:+0100
TZOFFSETTO:+0200
TZNAME:CEST
DTSTART:20260329T010000
END:DAYLIGHT
BEGIN:STANDARD
TZOFFSETFROM:+0200
TZOFFSETTO:+0100
TZNAME:CET
DTSTART:20261025T010000
END:STANDARD
BEGIN:DAYLIGHT
TZOFFSETFROM:+0100
TZOFFSETTO:+0200
TZNAME:CEST
DTSTART:20270328T010000
END:DAYLIGHT
BEGIN:STANDARD
TZOFFSETFROM:+0200
TZOFFSETTO:+0100
TZNAME:CET
DTSTART:20271031T010000
END:STANDARD
BEGIN:DAYLIGHT
TZOFFSETFROM:+0100
TZOFFSETTO:+0200
TZNAME:CEST
DTSTART:20280326T010000
END:DAYLIGHT
BEGIN:STANDARD
TZOFFSETFROM:+0200
TZOFFSETTO:+0100
TZNAME:CET
DTSTART:20281029T010000
END:STANDARD
END:VTIMEZONE
BEGIN:VEVENT
DTSTART;TZID=Europe/Amsterdam:20270415T200000
DTEND;TZID=Europe/Amsterdam:20270415T221500
DTSTAMP:20260422T044749
CREATED:20241008T131552Z
LAST-MODIFIED:20260302T144225Z
UID:10000574-1807819200-1807827300@www.koorelpuente.nl
SUMMARY:Repetitie avond
DESCRIPTION:Elke donderdag van 20.00 uur tot 22.15 uur repetitie in C.C. De Mortel – Leliestraat 2 – Ittervoort
URL:https://www.koorelpuente.nl/activiteit/repetitie-avond-2/2027-04-15/
LOCATION:Cultureel Centrum De Mortel\, Leliestraat 2\, Ittervoort\, Nederland
END:VEVENT
BEGIN:VEVENT
DTSTART;TZID=Europe/Amsterdam:20270422T200000
DTEND;TZID=Europe/Amsterdam:20270422T221500
DTSTAMP:20260422T044749
CREATED:20241008T131552Z
LAST-MODIFIED:20260302T144225Z
UID:10000575-1808424000-1808432100@www.koorelpuente.nl
SUMMARY:Repetitie avond
DESCRIPTION:Elke donderdag van 20.00 uur tot 22.15 uur repetitie in C.C. De Mortel – Leliestraat 2 – Ittervoort
URL:https://www.koorelpuente.nl/activiteit/repetitie-avond-2/2027-04-22/
LOCATION:Cultureel Centrum De Mortel\, Leliestraat 2\, Ittervoort\, Nederland
END:VEVENT
BEGIN:VEVENT
DTSTART;TZID=Europe/Amsterdam:20270429T200000
DTEND;TZID=Europe/Amsterdam:20270429T221500
DTSTAMP:20260422T044749
CREATED:20241008T131552Z
LAST-MODIFIED:20260302T144225Z
UID:10000576-1809028800-1809036900@www.koorelpuente.nl
SUMMARY:Repetitie avond
DESCRIPTION:Elke donderdag van 20.00 uur tot 22.15 uur repetitie in C.C. De Mortel – Leliestraat 2 – Ittervoort
URL:https://www.koorelpuente.nl/activiteit/repetitie-avond-2/2027-04-29/
LOCATION:Cultureel Centrum De Mortel\, Leliestraat 2\, Ittervoort\, Nederland
END:VEVENT
BEGIN:VEVENT
DTSTART;TZID=Europe/Amsterdam:20270506T200000
DTEND;TZID=Europe/Amsterdam:20270506T221500
DTSTAMP:20260422T044749
CREATED:20241008T131552Z
LAST-MODIFIED:20260302T144225Z
UID:10000577-1809633600-1809641700@www.koorelpuente.nl
SUMMARY:Repetitie avond
DESCRIPTION:Elke donderdag van 20.00 uur tot 22.15 uur repetitie in C.C. De Mortel – Leliestraat 2 – Ittervoort
URL:https://www.koorelpuente.nl/activiteit/repetitie-avond-2/2027-05-06/
LOCATION:Cultureel Centrum De Mortel\, Leliestraat 2\, Ittervoort\, Nederland
END:VEVENT
BEGIN:VEVENT
DTSTART;TZID=Europe/Amsterdam:20270511T183000
DTEND;TZID=Europe/Amsterdam:20270511T183000
DTSTAMP:20260422T044749
CREATED:20250104T223751Z
LAST-MODIFIED:20250104T223751Z
UID:10000732-1810060200-1810060200@www.koorelpuente.nl
SUMMARY:Oud papier inzamelen kern Neeritter
DESCRIPTION:
URL:https://www.koorelpuente.nl/activiteit/oud-papier-inzamelen-kern-neeritter/2027-05-11/
LOCATION:Neeritter
END:VEVENT
BEGIN:VEVENT
DTSTART;TZID=Europe/Amsterdam:20270513T200000
DTEND;TZID=Europe/Amsterdam:20270513T221500
DTSTAMP:20260422T044749
CREATED:20241008T131552Z
LAST-MODIFIED:20260302T144225Z
UID:10000578-1810238400-1810246500@www.koorelpuente.nl
SUMMARY:Repetitie avond
DESCRIPTION:Elke donderdag van 20.00 uur tot 22.15 uur repetitie in C.C. De Mortel – Leliestraat 2 – Ittervoort
URL:https://www.koorelpuente.nl/activiteit/repetitie-avond-2/2027-05-13/
LOCATION:Cultureel Centrum De Mortel\, Leliestraat 2\, Ittervoort\, Nederland
END:VEVENT
BEGIN:VEVENT
DTSTART;TZID=Europe/Amsterdam:20270520T200000
DTEND;TZID=Europe/Amsterdam:20270520T221500
DTSTAMP:20260422T044749
CREATED:20241008T131552Z
LAST-MODIFIED:20260302T144225Z
UID:10000579-1810843200-1810851300@www.koorelpuente.nl
SUMMARY:Repetitie avond
DESCRIPTION:Elke donderdag van 20.00 uur tot 22.15 uur repetitie in C.C. De Mortel – Leliestraat 2 – Ittervoort
URL:https://www.koorelpuente.nl/activiteit/repetitie-avond-2/2027-05-20/
LOCATION:Cultureel Centrum De Mortel\, Leliestraat 2\, Ittervoort\, Nederland
END:VEVENT
BEGIN:VEVENT
DTSTART;TZID=Europe/Amsterdam:20270527T200000
DTEND;TZID=Europe/Amsterdam:20270527T221500
DTSTAMP:20260422T044749
CREATED:20241008T131552Z
LAST-MODIFIED:20260302T144225Z
UID:10000580-1811448000-1811456100@www.koorelpuente.nl
SUMMARY:Repetitie avond
DESCRIPTION:Elke donderdag van 20.00 uur tot 22.15 uur repetitie in C.C. De Mortel – Leliestraat 2 – Ittervoort
URL:https://www.koorelpuente.nl/activiteit/repetitie-avond-2/2027-05-27/
LOCATION:Cultureel Centrum De Mortel\, Leliestraat 2\, Ittervoort\, Nederland
END:VEVENT
BEGIN:VEVENT
DTSTART;TZID=Europe/Amsterdam:20270603T200000
DTEND;TZID=Europe/Amsterdam:20270603T221500
DTSTAMP:20260422T044749
CREATED:20241008T131552Z
LAST-MODIFIED:20260302T144225Z
UID:10000581-1812052800-1812060900@www.koorelpuente.nl
SUMMARY:Repetitie avond
DESCRIPTION:Elke donderdag van 20.00 uur tot 22.15 uur repetitie in C.C. De Mortel – Leliestraat 2 – Ittervoort
URL:https://www.koorelpuente.nl/activiteit/repetitie-avond-2/2027-06-03/
LOCATION:Cultureel Centrum De Mortel\, Leliestraat 2\, Ittervoort\, Nederland
END:VEVENT
BEGIN:VEVENT
DTSTART;TZID=Europe/Amsterdam:20270608T183000
DTEND;TZID=Europe/Amsterdam:20270608T183000
DTSTAMP:20260422T044749
CREATED:20250104T223751Z
LAST-MODIFIED:20250104T223751Z
UID:10000733-1812479400-1812479400@www.koorelpuente.nl
SUMMARY:Oud papier inzamelen kern Neeritter
DESCRIPTION:
URL:https://www.koorelpuente.nl/activiteit/oud-papier-inzamelen-kern-neeritter/2027-06-08/
LOCATION:Neeritter
END:VEVENT
BEGIN:VEVENT
DTSTART;TZID=Europe/Amsterdam:20270610T200000
DTEND;TZID=Europe/Amsterdam:20270610T221500
DTSTAMP:20260422T044749
CREATED:20241008T131552Z
LAST-MODIFIED:20260302T144225Z
UID:10000582-1812657600-1812665700@www.koorelpuente.nl
SUMMARY:Repetitie avond
DESCRIPTION:Elke donderdag van 20.00 uur tot 22.15 uur repetitie in C.C. De Mortel – Leliestraat 2 – Ittervoort
URL:https://www.koorelpuente.nl/activiteit/repetitie-avond-2/2027-06-10/
LOCATION:Cultureel Centrum De Mortel\, Leliestraat 2\, Ittervoort\, Nederland
END:VEVENT
BEGIN:VEVENT
DTSTART;TZID=Europe/Amsterdam:20270617T200000
DTEND;TZID=Europe/Amsterdam:20270617T221500
DTSTAMP:20260422T044749
CREATED:20241008T131552Z
LAST-MODIFIED:20260302T144225Z
UID:10000583-1813262400-1813270500@www.koorelpuente.nl
SUMMARY:Repetitie avond
DESCRIPTION:Elke donderdag van 20.00 uur tot 22.15 uur repetitie in C.C. De Mortel – Leliestraat 2 – Ittervoort
URL:https://www.koorelpuente.nl/activiteit/repetitie-avond-2/2027-06-17/
LOCATION:Cultureel Centrum De Mortel\, Leliestraat 2\, Ittervoort\, Nederland
END:VEVENT
BEGIN:VEVENT
DTSTART;TZID=Europe/Amsterdam:20270624T200000
DTEND;TZID=Europe/Amsterdam:20270624T221500
DTSTAMP:20260422T044749
CREATED:20241008T131552Z
LAST-MODIFIED:20260302T144225Z
UID:10000584-1813867200-1813875300@www.koorelpuente.nl
SUMMARY:Repetitie avond
DESCRIPTION:Elke donderdag van 20.00 uur tot 22.15 uur repetitie in C.C. De Mortel – Leliestraat 2 – Ittervoort
URL:https://www.koorelpuente.nl/activiteit/repetitie-avond-2/2027-06-24/
LOCATION:Cultureel Centrum De Mortel\, Leliestraat 2\, Ittervoort\, Nederland
END:VEVENT
BEGIN:VEVENT
DTSTART;TZID=Europe/Amsterdam:20270701T200000
DTEND;TZID=Europe/Amsterdam:20270701T221500
DTSTAMP:20260422T044749
CREATED:20241008T131552Z
LAST-MODIFIED:20260302T144225Z
UID:10000585-1814472000-1814480100@www.koorelpuente.nl
SUMMARY:Repetitie avond
DESCRIPTION:Elke donderdag van 20.00 uur tot 22.15 uur repetitie in C.C. De Mortel – Leliestraat 2 – Ittervoort
URL:https://www.koorelpuente.nl/activiteit/repetitie-avond-2/2027-07-01/
LOCATION:Cultureel Centrum De Mortel\, Leliestraat 2\, Ittervoort\, Nederland
END:VEVENT
BEGIN:VEVENT
DTSTART;TZID=Europe/Amsterdam:20270708T200000
DTEND;TZID=Europe/Amsterdam:20270708T221500
DTSTAMP:20260422T044749
CREATED:20241008T131552Z
LAST-MODIFIED:20260302T144225Z
UID:10000586-1815076800-1815084900@www.koorelpuente.nl
SUMMARY:Repetitie avond
DESCRIPTION:Elke donderdag van 20.00 uur tot 22.15 uur repetitie in C.C. De Mortel – Leliestraat 2 – Ittervoort
URL:https://www.koorelpuente.nl/activiteit/repetitie-avond-2/2027-07-08/
LOCATION:Cultureel Centrum De Mortel\, Leliestraat 2\, Ittervoort\, Nederland
END:VEVENT
BEGIN:VEVENT
DTSTART;TZID=Europe/Amsterdam:20270713T183000
DTEND;TZID=Europe/Amsterdam:20270713T183000
DTSTAMP:20260422T044749
CREATED:20250104T223751Z
LAST-MODIFIED:20250104T223751Z
UID:10000734-1815503400-1815503400@www.koorelpuente.nl
SUMMARY:Oud papier inzamelen kern Neeritter
DESCRIPTION:
URL:https://www.koorelpuente.nl/activiteit/oud-papier-inzamelen-kern-neeritter/2027-07-13/
LOCATION:Neeritter
END:VEVENT
BEGIN:VEVENT
DTSTART;TZID=Europe/Amsterdam:20270715T200000
DTEND;TZID=Europe/Amsterdam:20270715T221500
DTSTAMP:20260422T044749
CREATED:20241008T131552Z
LAST-MODIFIED:20260302T144225Z
UID:10000587-1815681600-1815689700@www.koorelpuente.nl
SUMMARY:Repetitie avond
DESCRIPTION:Elke donderdag van 20.00 uur tot 22.15 uur repetitie in C.C. De Mortel – Leliestraat 2 – Ittervoort
URL:https://www.koorelpuente.nl/activiteit/repetitie-avond-2/2027-07-15/
LOCATION:Cultureel Centrum De Mortel\, Leliestraat 2\, Ittervoort\, Nederland
END:VEVENT
BEGIN:VEVENT
DTSTART;TZID=Europe/Amsterdam:20270722T200000
DTEND;TZID=Europe/Amsterdam:20270722T221500
DTSTAMP:20260422T044749
CREATED:20241008T131552Z
LAST-MODIFIED:20260302T144225Z
UID:10000588-1816286400-1816294500@www.koorelpuente.nl
SUMMARY:Repetitie avond
DESCRIPTION:Elke donderdag van 20.00 uur tot 22.15 uur repetitie in C.C. De Mortel – Leliestraat 2 – Ittervoort
URL:https://www.koorelpuente.nl/activiteit/repetitie-avond-2/2027-07-22/
LOCATION:Cultureel Centrum De Mortel\, Leliestraat 2\, Ittervoort\, Nederland
END:VEVENT
BEGIN:VEVENT
DTSTART;TZID=Europe/Amsterdam:20270729T200000
DTEND;TZID=Europe/Amsterdam:20270729T221500
DTSTAMP:20260422T044749
CREATED:20241008T131552Z
LAST-MODIFIED:20260302T144225Z
UID:10000589-1816891200-1816899300@www.koorelpuente.nl
SUMMARY:Repetitie avond
DESCRIPTION:Elke donderdag van 20.00 uur tot 22.15 uur repetitie in C.C. De Mortel – Leliestraat 2 – Ittervoort
URL:https://www.koorelpuente.nl/activiteit/repetitie-avond-2/2027-07-29/
LOCATION:Cultureel Centrum De Mortel\, Leliestraat 2\, Ittervoort\, Nederland
END:VEVENT
BEGIN:VEVENT
DTSTART;TZID=Europe/Amsterdam:20270805T200000
DTEND;TZID=Europe/Amsterdam:20270805T221500
DTSTAMP:20260422T044749
CREATED:20241008T131552Z
LAST-MODIFIED:20260302T144225Z
UID:10000590-1817496000-1817504100@www.koorelpuente.nl
SUMMARY:Repetitie avond
DESCRIPTION:Elke donderdag van 20.00 uur tot 22.15 uur repetitie in C.C. De Mortel – Leliestraat 2 – Ittervoort
URL:https://www.koorelpuente.nl/activiteit/repetitie-avond-2/2027-08-05/
LOCATION:Cultureel Centrum De Mortel\, Leliestraat 2\, Ittervoort\, Nederland
END:VEVENT
BEGIN:VEVENT
DTSTART;TZID=Europe/Amsterdam:20270810T183000
DTEND;TZID=Europe/Amsterdam:20270810T183000
DTSTAMP:20260422T044749
CREATED:20250104T223751Z
LAST-MODIFIED:20250104T223751Z
UID:10000735-1817922600-1817922600@www.koorelpuente.nl
SUMMARY:Oud papier inzamelen kern Neeritter
DESCRIPTION:
URL:https://www.koorelpuente.nl/activiteit/oud-papier-inzamelen-kern-neeritter/2027-08-10/
LOCATION:Neeritter
END:VEVENT
BEGIN:VEVENT
DTSTART;TZID=Europe/Amsterdam:20270812T200000
DTEND;TZID=Europe/Amsterdam:20270812T221500
DTSTAMP:20260422T044749
CREATED:20241008T131552Z
LAST-MODIFIED:20260302T144225Z
UID:10000591-1818100800-1818108900@www.koorelpuente.nl
SUMMARY:Repetitie avond
DESCRIPTION:Elke donderdag van 20.00 uur tot 22.15 uur repetitie in C.C. De Mortel – Leliestraat 2 – Ittervoort
URL:https://www.koorelpuente.nl/activiteit/repetitie-avond-2/2027-08-12/
LOCATION:Cultureel Centrum De Mortel\, Leliestraat 2\, Ittervoort\, Nederland
END:VEVENT
BEGIN:VEVENT
DTSTART;TZID=Europe/Amsterdam:20270819T200000
DTEND;TZID=Europe/Amsterdam:20270819T221500
DTSTAMP:20260422T044749
CREATED:20241008T131552Z
LAST-MODIFIED:20260302T144225Z
UID:10000592-1818705600-1818713700@www.koorelpuente.nl
SUMMARY:Repetitie avond
DESCRIPTION:Elke donderdag van 20.00 uur tot 22.15 uur repetitie in C.C. De Mortel – Leliestraat 2 – Ittervoort
URL:https://www.koorelpuente.nl/activiteit/repetitie-avond-2/2027-08-19/
LOCATION:Cultureel Centrum De Mortel\, Leliestraat 2\, Ittervoort\, Nederland
END:VEVENT
BEGIN:VEVENT
DTSTART;TZID=Europe/Amsterdam:20270826T200000
DTEND;TZID=Europe/Amsterdam:20270826T221500
DTSTAMP:20260422T044749
CREATED:20241008T131552Z
LAST-MODIFIED:20260302T144225Z
UID:10000593-1819310400-1819318500@www.koorelpuente.nl
SUMMARY:Repetitie avond
DESCRIPTION:Elke donderdag van 20.00 uur tot 22.15 uur repetitie in C.C. De Mortel – Leliestraat 2 – Ittervoort
URL:https://www.koorelpuente.nl/activiteit/repetitie-avond-2/2027-08-26/
LOCATION:Cultureel Centrum De Mortel\, Leliestraat 2\, Ittervoort\, Nederland
END:VEVENT
BEGIN:VEVENT
DTSTART;TZID=Europe/Amsterdam:20270902T200000
DTEND;TZID=Europe/Amsterdam:20270902T221500
DTSTAMP:20260422T044749
CREATED:20241008T131552Z
LAST-MODIFIED:20260302T144225Z
UID:10000594-1819915200-1819923300@www.koorelpuente.nl
SUMMARY:Repetitie avond
DESCRIPTION:Elke donderdag van 20.00 uur tot 22.15 uur repetitie in C.C. De Mortel – Leliestraat 2 – Ittervoort
URL:https://www.koorelpuente.nl/activiteit/repetitie-avond-2/2027-09-02/
LOCATION:Cultureel Centrum De Mortel\, Leliestraat 2\, Ittervoort\, Nederland
END:VEVENT
BEGIN:VEVENT
DTSTART;TZID=Europe/Amsterdam:20270909T200000
DTEND;TZID=Europe/Amsterdam:20270909T221500
DTSTAMP:20260422T044749
CREATED:20241008T131552Z
LAST-MODIFIED:20260302T144225Z
UID:10000595-1820520000-1820528100@www.koorelpuente.nl
SUMMARY:Repetitie avond
DESCRIPTION:Elke donderdag van 20.00 uur tot 22.15 uur repetitie in C.C. De Mortel – Leliestraat 2 – Ittervoort
URL:https://www.koorelpuente.nl/activiteit/repetitie-avond-2/2027-09-09/
LOCATION:Cultureel Centrum De Mortel\, Leliestraat 2\, Ittervoort\, Nederland
END:VEVENT
BEGIN:VEVENT
DTSTART;TZID=Europe/Amsterdam:20270914T183000
DTEND;TZID=Europe/Amsterdam:20270914T183000
DTSTAMP:20260422T044749
CREATED:20250104T223751Z
LAST-MODIFIED:20250104T223751Z
UID:10000736-1820946600-1820946600@www.koorelpuente.nl
SUMMARY:Oud papier inzamelen kern Neeritter
DESCRIPTION:
URL:https://www.koorelpuente.nl/activiteit/oud-papier-inzamelen-kern-neeritter/2027-09-14/
LOCATION:Neeritter
END:VEVENT
BEGIN:VEVENT
DTSTART;TZID=Europe/Amsterdam:20270916T200000
DTEND;TZID=Europe/Amsterdam:20270916T221500
DTSTAMP:20260422T044749
CREATED:20241008T131552Z
LAST-MODIFIED:20260302T144225Z
UID:10000596-1821124800-1821132900@www.koorelpuente.nl
SUMMARY:Repetitie avond
DESCRIPTION:Elke donderdag van 20.00 uur tot 22.15 uur repetitie in C.C. De Mortel – Leliestraat 2 – Ittervoort
URL:https://www.koorelpuente.nl/activiteit/repetitie-avond-2/2027-09-16/
LOCATION:Cultureel Centrum De Mortel\, Leliestraat 2\, Ittervoort\, Nederland
END:VEVENT
BEGIN:VEVENT
DTSTART;TZID=Europe/Amsterdam:20270923T200000
DTEND;TZID=Europe/Amsterdam:20270923T221500
DTSTAMP:20260422T044749
CREATED:20241008T131552Z
LAST-MODIFIED:20260302T144225Z
UID:10000597-1821729600-1821737700@www.koorelpuente.nl
SUMMARY:Repetitie avond
DESCRIPTION:Elke donderdag van 20.00 uur tot 22.15 uur repetitie in C.C. De Mortel – Leliestraat 2 – Ittervoort
URL:https://www.koorelpuente.nl/activiteit/repetitie-avond-2/2027-09-23/
LOCATION:Cultureel Centrum De Mortel\, Leliestraat 2\, Ittervoort\, Nederland
END:VEVENT
BEGIN:VEVENT
DTSTART;TZID=Europe/Amsterdam:20270930T200000
DTEND;TZID=Europe/Amsterdam:20270930T221500
DTSTAMP:20260422T044749
CREATED:20241008T131552Z
LAST-MODIFIED:20260302T144225Z
UID:10000598-1822334400-1822342500@www.koorelpuente.nl
SUMMARY:Repetitie avond
DESCRIPTION:Elke donderdag van 20.00 uur tot 22.15 uur repetitie in C.C. De Mortel – Leliestraat 2 – Ittervoort
URL:https://www.koorelpuente.nl/activiteit/repetitie-avond-2/2027-09-30/
LOCATION:Cultureel Centrum De Mortel\, Leliestraat 2\, Ittervoort\, Nederland
END:VEVENT
END:VCALENDAR