BEGIN:VCALENDAR
VERSION:2.0
PRODID:-//Gemengd Koor El Puente - ECPv6.15.16//NONSGML v1.0//EN
CALSCALE:GREGORIAN
METHOD:PUBLISH
X-ORIGINAL-URL:https://www.koorelpuente.nl
X-WR-CALDESC:Evenementen voor Gemengd Koor El Puente
REFRESH-INTERVAL;VALUE=DURATION:PT1H
X-Robots-Tag:noindex
X-PUBLISHED-TTL:PT1H
BEGIN:VTIMEZONE
TZID:Europe/Amsterdam
BEGIN:DAYLIGHT
TZOFFSETFROM:+0100
TZOFFSETTO:+0200
TZNAME:CEST
DTSTART:20260329T010000
END:DAYLIGHT
BEGIN:STANDARD
TZOFFSETFROM:+0200
TZOFFSETTO:+0100
TZNAME:CET
DTSTART:20261025T010000
END:STANDARD
BEGIN:DAYLIGHT
TZOFFSETFROM:+0100
TZOFFSETTO:+0200
TZNAME:CEST
DTSTART:20270328T010000
END:DAYLIGHT
BEGIN:STANDARD
TZOFFSETFROM:+0200
TZOFFSETTO:+0100
TZNAME:CET
DTSTART:20271031T010000
END:STANDARD
BEGIN:DAYLIGHT
TZOFFSETFROM:+0100
TZOFFSETTO:+0200
TZNAME:CEST
DTSTART:20280326T010000
END:DAYLIGHT
BEGIN:STANDARD
TZOFFSETFROM:+0200
TZOFFSETTO:+0100
TZNAME:CET
DTSTART:20281029T010000
END:STANDARD
BEGIN:DAYLIGHT
TZOFFSETFROM:+0100
TZOFFSETTO:+0200
TZNAME:CEST
DTSTART:20290325T010000
END:DAYLIGHT
BEGIN:STANDARD
TZOFFSETFROM:+0200
TZOFFSETTO:+0100
TZNAME:CET
DTSTART:20291028T010000
END:STANDARD
END:VTIMEZONE
BEGIN:VEVENT
DTSTART;TZID=Europe/Amsterdam:20271109T183000
DTEND;TZID=Europe/Amsterdam:20271109T183000
DTSTAMP:20260424T124746
CREATED:20250104T223751Z
LAST-MODIFIED:20250104T223751Z
UID:10000738-1825785000-1825785000@www.koorelpuente.nl
SUMMARY:Oud papier inzamelen kern Neeritter
DESCRIPTION:
URL:https://www.koorelpuente.nl/activiteit/oud-papier-inzamelen-kern-neeritter/2027-11-09/
LOCATION:Neeritter
END:VEVENT
BEGIN:VEVENT
DTSTART;TZID=Europe/Amsterdam:20271111T200000
DTEND;TZID=Europe/Amsterdam:20271111T221500
DTSTAMP:20260424T124746
CREATED:20241008T131552Z
LAST-MODIFIED:20260302T144225Z
UID:10000604-1825963200-1825971300@www.koorelpuente.nl
SUMMARY:Repetitie avond
DESCRIPTION:Elke donderdag van 20.00 uur tot 22.15 uur repetitie in C.C. De Mortel – Leliestraat 2 – Ittervoort
URL:https://www.koorelpuente.nl/activiteit/repetitie-avond-2/2027-11-11/
LOCATION:Cultureel Centrum De Mortel\, Leliestraat 2\, Ittervoort\, Nederland
END:VEVENT
BEGIN:VEVENT
DTSTART;TZID=Europe/Amsterdam:20271118T200000
DTEND;TZID=Europe/Amsterdam:20271118T221500
DTSTAMP:20260424T124746
CREATED:20241008T131552Z
LAST-MODIFIED:20260302T144225Z
UID:10000605-1826568000-1826576100@www.koorelpuente.nl
SUMMARY:Repetitie avond
DESCRIPTION:Elke donderdag van 20.00 uur tot 22.15 uur repetitie in C.C. De Mortel – Leliestraat 2 – Ittervoort
URL:https://www.koorelpuente.nl/activiteit/repetitie-avond-2/2027-11-18/
LOCATION:Cultureel Centrum De Mortel\, Leliestraat 2\, Ittervoort\, Nederland
END:VEVENT
BEGIN:VEVENT
DTSTART;TZID=Europe/Amsterdam:20271125T200000
DTEND;TZID=Europe/Amsterdam:20271125T221500
DTSTAMP:20260424T124746
CREATED:20241008T131552Z
LAST-MODIFIED:20260302T144225Z
UID:10000606-1827172800-1827180900@www.koorelpuente.nl
SUMMARY:Repetitie avond
DESCRIPTION:Elke donderdag van 20.00 uur tot 22.15 uur repetitie in C.C. De Mortel – Leliestraat 2 – Ittervoort
URL:https://www.koorelpuente.nl/activiteit/repetitie-avond-2/2027-11-25/
LOCATION:Cultureel Centrum De Mortel\, Leliestraat 2\, Ittervoort\, Nederland
END:VEVENT
BEGIN:VEVENT
DTSTART;TZID=Europe/Amsterdam:20271202T200000
DTEND;TZID=Europe/Amsterdam:20271202T221500
DTSTAMP:20260424T124746
CREATED:20241008T131552Z
LAST-MODIFIED:20260302T144225Z
UID:10000607-1827777600-1827785700@www.koorelpuente.nl
SUMMARY:Repetitie avond
DESCRIPTION:Elke donderdag van 20.00 uur tot 22.15 uur repetitie in C.C. De Mortel – Leliestraat 2 – Ittervoort
URL:https://www.koorelpuente.nl/activiteit/repetitie-avond-2/2027-12-02/
LOCATION:Cultureel Centrum De Mortel\, Leliestraat 2\, Ittervoort\, Nederland
END:VEVENT
BEGIN:VEVENT
DTSTART;TZID=Europe/Amsterdam:20271209T200000
DTEND;TZID=Europe/Amsterdam:20271209T221500
DTSTAMP:20260424T124746
CREATED:20241008T131552Z
LAST-MODIFIED:20260302T144225Z
UID:10000608-1828382400-1828390500@www.koorelpuente.nl
SUMMARY:Repetitie avond
DESCRIPTION:Elke donderdag van 20.00 uur tot 22.15 uur repetitie in C.C. De Mortel – Leliestraat 2 – Ittervoort
URL:https://www.koorelpuente.nl/activiteit/repetitie-avond-2/2027-12-09/
LOCATION:Cultureel Centrum De Mortel\, Leliestraat 2\, Ittervoort\, Nederland
END:VEVENT
BEGIN:VEVENT
DTSTART;TZID=Europe/Amsterdam:20271214T183000
DTEND;TZID=Europe/Amsterdam:20271214T183000
DTSTAMP:20260424T124746
CREATED:20250104T223751Z
LAST-MODIFIED:20250104T223751Z
UID:10000739-1828809000-1828809000@www.koorelpuente.nl
SUMMARY:Oud papier inzamelen kern Neeritter
DESCRIPTION:
URL:https://www.koorelpuente.nl/activiteit/oud-papier-inzamelen-kern-neeritter/2027-12-14/
LOCATION:Neeritter
END:VEVENT
BEGIN:VEVENT
DTSTART;TZID=Europe/Amsterdam:20271216T200000
DTEND;TZID=Europe/Amsterdam:20271216T221500
DTSTAMP:20260424T124746
CREATED:20241008T131552Z
LAST-MODIFIED:20260302T144225Z
UID:10000609-1828987200-1828995300@www.koorelpuente.nl
SUMMARY:Repetitie avond
DESCRIPTION:Elke donderdag van 20.00 uur tot 22.15 uur repetitie in C.C. De Mortel – Leliestraat 2 – Ittervoort
URL:https://www.koorelpuente.nl/activiteit/repetitie-avond-2/2027-12-16/
LOCATION:Cultureel Centrum De Mortel\, Leliestraat 2\, Ittervoort\, Nederland
END:VEVENT
BEGIN:VEVENT
DTSTART;TZID=Europe/Amsterdam:20271223T200000
DTEND;TZID=Europe/Amsterdam:20271223T221500
DTSTAMP:20260424T124746
CREATED:20241008T131552Z
LAST-MODIFIED:20260302T144225Z
UID:10000610-1829592000-1829600100@www.koorelpuente.nl
SUMMARY:Repetitie avond
DESCRIPTION:Elke donderdag van 20.00 uur tot 22.15 uur repetitie in C.C. De Mortel – Leliestraat 2 – Ittervoort
URL:https://www.koorelpuente.nl/activiteit/repetitie-avond-2/2027-12-23/
LOCATION:Cultureel Centrum De Mortel\, Leliestraat 2\, Ittervoort\, Nederland
END:VEVENT
BEGIN:VEVENT
DTSTART;TZID=Europe/Amsterdam:20271230T200000
DTEND;TZID=Europe/Amsterdam:20271230T221500
DTSTAMP:20260424T124746
CREATED:20241008T131552Z
LAST-MODIFIED:20260302T144225Z
UID:10000611-1830196800-1830204900@www.koorelpuente.nl
SUMMARY:Repetitie avond
DESCRIPTION:Elke donderdag van 20.00 uur tot 22.15 uur repetitie in C.C. De Mortel – Leliestraat 2 – Ittervoort
URL:https://www.koorelpuente.nl/activiteit/repetitie-avond-2/2027-12-30/
LOCATION:Cultureel Centrum De Mortel\, Leliestraat 2\, Ittervoort\, Nederland
END:VEVENT
BEGIN:VEVENT
DTSTART;TZID=Europe/Amsterdam:20280106T200000
DTEND;TZID=Europe/Amsterdam:20280106T221500
DTSTAMP:20260424T124746
CREATED:20241008T131552Z
LAST-MODIFIED:20260302T144225Z
UID:10000612-1830801600-1830809700@www.koorelpuente.nl
SUMMARY:Repetitie avond
DESCRIPTION:Elke donderdag van 20.00 uur tot 22.15 uur repetitie in C.C. De Mortel – Leliestraat 2 – Ittervoort
URL:https://www.koorelpuente.nl/activiteit/repetitie-avond-2/2028-01-06/
LOCATION:Cultureel Centrum De Mortel\, Leliestraat 2\, Ittervoort\, Nederland
END:VEVENT
BEGIN:VEVENT
DTSTART;TZID=Europe/Amsterdam:20280111T183000
DTEND;TZID=Europe/Amsterdam:20280111T183000
DTSTAMP:20260424T124746
CREATED:20250104T223751Z
LAST-MODIFIED:20250104T223751Z
UID:10000740-1831228200-1831228200@www.koorelpuente.nl
SUMMARY:Oud papier inzamelen kern Neeritter
DESCRIPTION:
URL:https://www.koorelpuente.nl/activiteit/oud-papier-inzamelen-kern-neeritter/2028-01-11/
LOCATION:Neeritter
END:VEVENT
BEGIN:VEVENT
DTSTART;TZID=Europe/Amsterdam:20280113T200000
DTEND;TZID=Europe/Amsterdam:20280113T221500
DTSTAMP:20260424T124746
CREATED:20241008T131552Z
LAST-MODIFIED:20260302T144225Z
UID:10000613-1831406400-1831414500@www.koorelpuente.nl
SUMMARY:Repetitie avond
DESCRIPTION:Elke donderdag van 20.00 uur tot 22.15 uur repetitie in C.C. De Mortel – Leliestraat 2 – Ittervoort
URL:https://www.koorelpuente.nl/activiteit/repetitie-avond-2/2028-01-13/
LOCATION:Cultureel Centrum De Mortel\, Leliestraat 2\, Ittervoort\, Nederland
END:VEVENT
BEGIN:VEVENT
DTSTART;TZID=Europe/Amsterdam:20280120T200000
DTEND;TZID=Europe/Amsterdam:20280120T221500
DTSTAMP:20260424T124746
CREATED:20241008T131552Z
LAST-MODIFIED:20260302T144225Z
UID:10000614-1832011200-1832019300@www.koorelpuente.nl
SUMMARY:Repetitie avond
DESCRIPTION:Elke donderdag van 20.00 uur tot 22.15 uur repetitie in C.C. De Mortel – Leliestraat 2 – Ittervoort
URL:https://www.koorelpuente.nl/activiteit/repetitie-avond-2/2028-01-20/
LOCATION:Cultureel Centrum De Mortel\, Leliestraat 2\, Ittervoort\, Nederland
END:VEVENT
BEGIN:VEVENT
DTSTART;TZID=Europe/Amsterdam:20280127T200000
DTEND;TZID=Europe/Amsterdam:20280127T221500
DTSTAMP:20260424T124746
CREATED:20241008T131552Z
LAST-MODIFIED:20260302T144225Z
UID:10000615-1832616000-1832624100@www.koorelpuente.nl
SUMMARY:Repetitie avond
DESCRIPTION:Elke donderdag van 20.00 uur tot 22.15 uur repetitie in C.C. De Mortel – Leliestraat 2 – Ittervoort
URL:https://www.koorelpuente.nl/activiteit/repetitie-avond-2/2028-01-27/
LOCATION:Cultureel Centrum De Mortel\, Leliestraat 2\, Ittervoort\, Nederland
END:VEVENT
BEGIN:VEVENT
DTSTART;TZID=Europe/Amsterdam:20280203T200000
DTEND;TZID=Europe/Amsterdam:20280203T221500
DTSTAMP:20260424T124746
CREATED:20241008T131552Z
LAST-MODIFIED:20260302T144225Z
UID:10000616-1833220800-1833228900@www.koorelpuente.nl
SUMMARY:Repetitie avond
DESCRIPTION:Elke donderdag van 20.00 uur tot 22.15 uur repetitie in C.C. De Mortel – Leliestraat 2 – Ittervoort
URL:https://www.koorelpuente.nl/activiteit/repetitie-avond-2/2028-02-03/
LOCATION:Cultureel Centrum De Mortel\, Leliestraat 2\, Ittervoort\, Nederland
END:VEVENT
BEGIN:VEVENT
DTSTART;TZID=Europe/Amsterdam:20280208T183000
DTEND;TZID=Europe/Amsterdam:20280208T183000
DTSTAMP:20260424T124746
CREATED:20250104T223751Z
LAST-MODIFIED:20250104T223751Z
UID:10000741-1833647400-1833647400@www.koorelpuente.nl
SUMMARY:Oud papier inzamelen kern Neeritter
DESCRIPTION:
URL:https://www.koorelpuente.nl/activiteit/oud-papier-inzamelen-kern-neeritter/2028-02-08/
LOCATION:Neeritter
END:VEVENT
BEGIN:VEVENT
DTSTART;TZID=Europe/Amsterdam:20280210T200000
DTEND;TZID=Europe/Amsterdam:20280210T221500
DTSTAMP:20260424T124746
CREATED:20241008T131552Z
LAST-MODIFIED:20260302T144225Z
UID:10000617-1833825600-1833833700@www.koorelpuente.nl
SUMMARY:Repetitie avond
DESCRIPTION:Elke donderdag van 20.00 uur tot 22.15 uur repetitie in C.C. De Mortel – Leliestraat 2 – Ittervoort
URL:https://www.koorelpuente.nl/activiteit/repetitie-avond-2/2028-02-10/
LOCATION:Cultureel Centrum De Mortel\, Leliestraat 2\, Ittervoort\, Nederland
END:VEVENT
BEGIN:VEVENT
DTSTART;TZID=Europe/Amsterdam:20280217T200000
DTEND;TZID=Europe/Amsterdam:20280217T221500
DTSTAMP:20260424T124746
CREATED:20241008T131552Z
LAST-MODIFIED:20260302T144225Z
UID:10000618-1834430400-1834438500@www.koorelpuente.nl
SUMMARY:Repetitie avond
DESCRIPTION:Elke donderdag van 20.00 uur tot 22.15 uur repetitie in C.C. De Mortel – Leliestraat 2 – Ittervoort
URL:https://www.koorelpuente.nl/activiteit/repetitie-avond-2/2028-02-17/
LOCATION:Cultureel Centrum De Mortel\, Leliestraat 2\, Ittervoort\, Nederland
END:VEVENT
BEGIN:VEVENT
DTSTART;TZID=Europe/Amsterdam:20280224T200000
DTEND;TZID=Europe/Amsterdam:20280224T221500
DTSTAMP:20260424T124746
CREATED:20241008T131552Z
LAST-MODIFIED:20260302T144225Z
UID:10000619-1835035200-1835043300@www.koorelpuente.nl
SUMMARY:Repetitie avond
DESCRIPTION:Elke donderdag van 20.00 uur tot 22.15 uur repetitie in C.C. De Mortel – Leliestraat 2 – Ittervoort
URL:https://www.koorelpuente.nl/activiteit/repetitie-avond-2/2028-02-24/
LOCATION:Cultureel Centrum De Mortel\, Leliestraat 2\, Ittervoort\, Nederland
END:VEVENT
BEGIN:VEVENT
DTSTART;TZID=Europe/Amsterdam:20280302T200000
DTEND;TZID=Europe/Amsterdam:20280302T221500
DTSTAMP:20260424T124746
CREATED:20241008T131552Z
LAST-MODIFIED:20260302T144225Z
UID:10000620-1835640000-1835648100@www.koorelpuente.nl
SUMMARY:Repetitie avond
DESCRIPTION:Elke donderdag van 20.00 uur tot 22.15 uur repetitie in C.C. De Mortel – Leliestraat 2 – Ittervoort
URL:https://www.koorelpuente.nl/activiteit/repetitie-avond-2/2028-03-02/
LOCATION:Cultureel Centrum De Mortel\, Leliestraat 2\, Ittervoort\, Nederland
END:VEVENT
BEGIN:VEVENT
DTSTART;TZID=Europe/Amsterdam:20280309T200000
DTEND;TZID=Europe/Amsterdam:20280309T221500
DTSTAMP:20260424T124746
CREATED:20241008T131552Z
LAST-MODIFIED:20260302T144225Z
UID:10000621-1836244800-1836252900@www.koorelpuente.nl
SUMMARY:Repetitie avond
DESCRIPTION:Elke donderdag van 20.00 uur tot 22.15 uur repetitie in C.C. De Mortel – Leliestraat 2 – Ittervoort
URL:https://www.koorelpuente.nl/activiteit/repetitie-avond-2/2028-03-09/
LOCATION:Cultureel Centrum De Mortel\, Leliestraat 2\, Ittervoort\, Nederland
END:VEVENT
BEGIN:VEVENT
DTSTART;TZID=Europe/Amsterdam:20280314T183000
DTEND;TZID=Europe/Amsterdam:20280314T183000
DTSTAMP:20260424T124746
CREATED:20250104T223751Z
LAST-MODIFIED:20250104T223751Z
UID:10000742-1836671400-1836671400@www.koorelpuente.nl
SUMMARY:Oud papier inzamelen kern Neeritter
DESCRIPTION:
URL:https://www.koorelpuente.nl/activiteit/oud-papier-inzamelen-kern-neeritter/2028-03-14/
LOCATION:Neeritter
END:VEVENT
BEGIN:VEVENT
DTSTART;TZID=Europe/Amsterdam:20280316T200000
DTEND;TZID=Europe/Amsterdam:20280316T221500
DTSTAMP:20260424T124746
CREATED:20241008T131552Z
LAST-MODIFIED:20260302T144225Z
UID:10000622-1836849600-1836857700@www.koorelpuente.nl
SUMMARY:Repetitie avond
DESCRIPTION:Elke donderdag van 20.00 uur tot 22.15 uur repetitie in C.C. De Mortel – Leliestraat 2 – Ittervoort
URL:https://www.koorelpuente.nl/activiteit/repetitie-avond-2/2028-03-16/
LOCATION:Cultureel Centrum De Mortel\, Leliestraat 2\, Ittervoort\, Nederland
END:VEVENT
BEGIN:VEVENT
DTSTART;TZID=Europe/Amsterdam:20280323T200000
DTEND;TZID=Europe/Amsterdam:20280323T221500
DTSTAMP:20260424T124746
CREATED:20241008T131552Z
LAST-MODIFIED:20260302T144225Z
UID:10000623-1837454400-1837462500@www.koorelpuente.nl
SUMMARY:Repetitie avond
DESCRIPTION:Elke donderdag van 20.00 uur tot 22.15 uur repetitie in C.C. De Mortel – Leliestraat 2 – Ittervoort
URL:https://www.koorelpuente.nl/activiteit/repetitie-avond-2/2028-03-23/
LOCATION:Cultureel Centrum De Mortel\, Leliestraat 2\, Ittervoort\, Nederland
END:VEVENT
BEGIN:VEVENT
DTSTART;TZID=Europe/Amsterdam:20280330T200000
DTEND;TZID=Europe/Amsterdam:20280330T221500
DTSTAMP:20260424T124746
CREATED:20241008T131552Z
LAST-MODIFIED:20260302T144225Z
UID:10000624-1838059200-1838067300@www.koorelpuente.nl
SUMMARY:Repetitie avond
DESCRIPTION:Elke donderdag van 20.00 uur tot 22.15 uur repetitie in C.C. De Mortel – Leliestraat 2 – Ittervoort
URL:https://www.koorelpuente.nl/activiteit/repetitie-avond-2/2028-03-30/
LOCATION:Cultureel Centrum De Mortel\, Leliestraat 2\, Ittervoort\, Nederland
END:VEVENT
BEGIN:VEVENT
DTSTART;TZID=Europe/Amsterdam:20280406T200000
DTEND;TZID=Europe/Amsterdam:20280406T221500
DTSTAMP:20260424T124746
CREATED:20241008T131552Z
LAST-MODIFIED:20260302T144225Z
UID:10000625-1838664000-1838672100@www.koorelpuente.nl
SUMMARY:Repetitie avond
DESCRIPTION:Elke donderdag van 20.00 uur tot 22.15 uur repetitie in C.C. De Mortel – Leliestraat 2 – Ittervoort
URL:https://www.koorelpuente.nl/activiteit/repetitie-avond-2/2028-04-06/
LOCATION:Cultureel Centrum De Mortel\, Leliestraat 2\, Ittervoort\, Nederland
END:VEVENT
BEGIN:VEVENT
DTSTART;TZID=Europe/Amsterdam:20280411T183000
DTEND;TZID=Europe/Amsterdam:20280411T183000
DTSTAMP:20260424T124746
CREATED:20250104T223751Z
LAST-MODIFIED:20250104T223751Z
UID:10000743-1839090600-1839090600@www.koorelpuente.nl
SUMMARY:Oud papier inzamelen kern Neeritter
DESCRIPTION:
URL:https://www.koorelpuente.nl/activiteit/oud-papier-inzamelen-kern-neeritter/2028-04-11/
LOCATION:Neeritter
END:VEVENT
BEGIN:VEVENT
DTSTART;TZID=Europe/Amsterdam:20280413T200000
DTEND;TZID=Europe/Amsterdam:20280413T221500
DTSTAMP:20260424T124746
CREATED:20241008T131552Z
LAST-MODIFIED:20260302T144225Z
UID:10000626-1839268800-1839276900@www.koorelpuente.nl
SUMMARY:Repetitie avond
DESCRIPTION:Elke donderdag van 20.00 uur tot 22.15 uur repetitie in C.C. De Mortel – Leliestraat 2 – Ittervoort
URL:https://www.koorelpuente.nl/activiteit/repetitie-avond-2/2028-04-13/
LOCATION:Cultureel Centrum De Mortel\, Leliestraat 2\, Ittervoort\, Nederland
END:VEVENT
BEGIN:VEVENT
DTSTART;TZID=Europe/Amsterdam:20280420T200000
DTEND;TZID=Europe/Amsterdam:20280420T221500
DTSTAMP:20260424T124746
CREATED:20241008T131552Z
LAST-MODIFIED:20260302T144225Z
UID:10000627-1839873600-1839881700@www.koorelpuente.nl
SUMMARY:Repetitie avond
DESCRIPTION:Elke donderdag van 20.00 uur tot 22.15 uur repetitie in C.C. De Mortel – Leliestraat 2 – Ittervoort
URL:https://www.koorelpuente.nl/activiteit/repetitie-avond-2/2028-04-20/
LOCATION:Cultureel Centrum De Mortel\, Leliestraat 2\, Ittervoort\, Nederland
END:VEVENT
END:VCALENDAR