BEGIN:VCALENDAR
VERSION:2.0
PRODID:-//Gemengd Koor El Puente - ECPv6.15.16//NONSGML v1.0//EN
CALSCALE:GREGORIAN
METHOD:PUBLISH
X-ORIGINAL-URL:https://www.koorelpuente.nl
X-WR-CALDESC:Evenementen voor Gemengd Koor El Puente
REFRESH-INTERVAL;VALUE=DURATION:PT1H
X-Robots-Tag:noindex
X-PUBLISHED-TTL:PT1H
BEGIN:VTIMEZONE
TZID:Europe/Amsterdam
BEGIN:DAYLIGHT
TZOFFSETFROM:+0100
TZOFFSETTO:+0200
TZNAME:CEST
DTSTART:20250330T010000
END:DAYLIGHT
BEGIN:STANDARD
TZOFFSETFROM:+0200
TZOFFSETTO:+0100
TZNAME:CET
DTSTART:20251026T010000
END:STANDARD
BEGIN:DAYLIGHT
TZOFFSETFROM:+0100
TZOFFSETTO:+0200
TZNAME:CEST
DTSTART:20260329T010000
END:DAYLIGHT
BEGIN:STANDARD
TZOFFSETFROM:+0200
TZOFFSETTO:+0100
TZNAME:CET
DTSTART:20261025T010000
END:STANDARD
BEGIN:DAYLIGHT
TZOFFSETFROM:+0100
TZOFFSETTO:+0200
TZNAME:CEST
DTSTART:20270328T010000
END:DAYLIGHT
BEGIN:STANDARD
TZOFFSETFROM:+0200
TZOFFSETTO:+0100
TZNAME:CET
DTSTART:20271031T010000
END:STANDARD
END:VTIMEZONE
BEGIN:VEVENT
DTSTART;TZID=Europe/Amsterdam:20260305T200000
DTEND;TZID=Europe/Amsterdam:20260305T221500
DTSTAMP:20260423T122803
CREATED:20241008T131552Z
LAST-MODIFIED:20260302T144225Z
UID:10000516-1772740800-1772748900@www.koorelpuente.nl
SUMMARY:Repetitie avond
DESCRIPTION:Elke donderdag van 20.00 uur tot 22.15 uur repetitie in C.C. De Mortel – Leliestraat 2 – Ittervoort
URL:https://www.koorelpuente.nl/activiteit/repetitie-avond-2/2026-03-05/
LOCATION:Cultureel Centrum De Mortel\, Leliestraat 2\, Ittervoort\, Nederland
END:VEVENT
BEGIN:VEVENT
DTSTART;TZID=Europe/Amsterdam:20260310T183000
DTEND;TZID=Europe/Amsterdam:20260310T183000
DTSTAMP:20260423T122803
CREATED:20250104T223751Z
LAST-MODIFIED:20250104T223751Z
UID:10000718-1773167400-1773167400@www.koorelpuente.nl
SUMMARY:Oud papier inzamelen kern Neeritter
DESCRIPTION:
URL:https://www.koorelpuente.nl/activiteit/oud-papier-inzamelen-kern-neeritter/2026-03-10/
LOCATION:Neeritter
END:VEVENT
BEGIN:VEVENT
DTSTART;TZID=Europe/Amsterdam:20260312T200000
DTEND;TZID=Europe/Amsterdam:20260312T221500
DTSTAMP:20260423T122803
CREATED:20241008T131552Z
LAST-MODIFIED:20260302T144225Z
UID:10000517-1773345600-1773353700@www.koorelpuente.nl
SUMMARY:Repetitie avond
DESCRIPTION:Elke donderdag van 20.00 uur tot 22.15 uur repetitie in C.C. De Mortel – Leliestraat 2 – Ittervoort
URL:https://www.koorelpuente.nl/activiteit/repetitie-avond-2/2026-03-12/
LOCATION:Cultureel Centrum De Mortel\, Leliestraat 2\, Ittervoort\, Nederland
END:VEVENT
BEGIN:VEVENT
DTSTART;TZID=Europe/Amsterdam:20260319T200000
DTEND;TZID=Europe/Amsterdam:20260319T221500
DTSTAMP:20260423T122803
CREATED:20241008T131552Z
LAST-MODIFIED:20260302T144225Z
UID:10000518-1773950400-1773958500@www.koorelpuente.nl
SUMMARY:Repetitie avond
DESCRIPTION:Elke donderdag van 20.00 uur tot 22.15 uur repetitie in C.C. De Mortel – Leliestraat 2 – Ittervoort
URL:https://www.koorelpuente.nl/activiteit/repetitie-avond-2/2026-03-19/
LOCATION:Cultureel Centrum De Mortel\, Leliestraat 2\, Ittervoort\, Nederland
END:VEVENT
BEGIN:VEVENT
DTSTART;TZID=Europe/Amsterdam:20260326T200000
DTEND;TZID=Europe/Amsterdam:20260326T221500
DTSTAMP:20260423T122803
CREATED:20241008T131552Z
LAST-MODIFIED:20260302T144225Z
UID:10000519-1774555200-1774563300@www.koorelpuente.nl
SUMMARY:Repetitie avond
DESCRIPTION:Elke donderdag van 20.00 uur tot 22.15 uur repetitie in C.C. De Mortel – Leliestraat 2 – Ittervoort
URL:https://www.koorelpuente.nl/activiteit/repetitie-avond-2/2026-03-26/
LOCATION:Cultureel Centrum De Mortel\, Leliestraat 2\, Ittervoort\, Nederland
END:VEVENT
BEGIN:VEVENT
DTSTART;VALUE=DATE:20260327
DTEND;VALUE=DATE:20260329
DTSTAMP:20260423T122803
CREATED:20250302T095137Z
LAST-MODIFIED:20260312T100145Z
UID:10000767-1774569600-1774742399@www.koorelpuente.nl
SUMMARY:Paaseierenactie Ittervoort
DESCRIPTION:Op 27 en 28 maart zullen de leden van El Puente in Ittervoort huis-aan-huis langskomen om paaseieren te verkopen.\n\n\nOp zaterdag 2 mei zal in Neeritter de bloemenkraam staan met zomerse perkplanten\, hangpotten en potgrond.
URL:https://www.koorelpuente.nl/activiteit/paaseierenactie-ittervoort-2/
LOCATION:Ittervoort
END:VEVENT
END:VCALENDAR