BEGIN:VCALENDAR
VERSION:2.0
PRODID:-//Gemengd Koor El Puente - ECPv6.15.16//NONSGML v1.0//EN
CALSCALE:GREGORIAN
METHOD:PUBLISH
X-ORIGINAL-URL:https://www.koorelpuente.nl
X-WR-CALDESC:Evenementen voor Gemengd Koor El Puente
REFRESH-INTERVAL;VALUE=DURATION:PT1H
X-Robots-Tag:noindex
X-PUBLISHED-TTL:PT1H
BEGIN:VTIMEZONE
TZID:Europe/Amsterdam
BEGIN:DAYLIGHT
TZOFFSETFROM:+0100
TZOFFSETTO:+0200
TZNAME:CEST
DTSTART:20250330T010000
END:DAYLIGHT
BEGIN:STANDARD
TZOFFSETFROM:+0200
TZOFFSETTO:+0100
TZNAME:CET
DTSTART:20251026T010000
END:STANDARD
BEGIN:DAYLIGHT
TZOFFSETFROM:+0100
TZOFFSETTO:+0200
TZNAME:CEST
DTSTART:20260329T010000
END:DAYLIGHT
BEGIN:STANDARD
TZOFFSETFROM:+0200
TZOFFSETTO:+0100
TZNAME:CET
DTSTART:20261025T010000
END:STANDARD
BEGIN:DAYLIGHT
TZOFFSETFROM:+0100
TZOFFSETTO:+0200
TZNAME:CEST
DTSTART:20270328T010000
END:DAYLIGHT
BEGIN:STANDARD
TZOFFSETFROM:+0200
TZOFFSETTO:+0100
TZNAME:CET
DTSTART:20271031T010000
END:STANDARD
BEGIN:DAYLIGHT
TZOFFSETFROM:+0100
TZOFFSETTO:+0200
TZNAME:CEST
DTSTART:20280326T010000
END:DAYLIGHT
BEGIN:STANDARD
TZOFFSETFROM:+0200
TZOFFSETTO:+0100
TZNAME:CET
DTSTART:20281029T010000
END:STANDARD
BEGIN:DAYLIGHT
TZOFFSETFROM:+0100
TZOFFSETTO:+0200
TZNAME:CEST
DTSTART:20290325T010000
END:DAYLIGHT
BEGIN:STANDARD
TZOFFSETFROM:+0200
TZOFFSETTO:+0100
TZNAME:CET
DTSTART:20291028T010000
END:STANDARD
END:VTIMEZONE
BEGIN:VEVENT
DTSTART;TZID=Europe/Amsterdam:20260512T183000
DTEND;TZID=Europe/Amsterdam:20260512T183000
DTSTAMP:20260416T135036
CREATED:20250104T223751Z
LAST-MODIFIED:20250104T223751Z
UID:10000720-1778610600-1778610600@www.koorelpuente.nl
SUMMARY:Oud papier inzamelen kern Neeritter
DESCRIPTION:
URL:https://www.koorelpuente.nl/activiteit/oud-papier-inzamelen-kern-neeritter/2026-05-12/
LOCATION:Neeritter
END:VEVENT
BEGIN:VEVENT
DTSTART;TZID=Europe/Amsterdam:20260609T183000
DTEND;TZID=Europe/Amsterdam:20260609T183000
DTSTAMP:20260416T135036
CREATED:20250104T223751Z
LAST-MODIFIED:20250104T223751Z
UID:10000721-1781029800-1781029800@www.koorelpuente.nl
SUMMARY:Oud papier inzamelen kern Neeritter
DESCRIPTION:
URL:https://www.koorelpuente.nl/activiteit/oud-papier-inzamelen-kern-neeritter/2026-06-09/
LOCATION:Neeritter
END:VEVENT
BEGIN:VEVENT
DTSTART;TZID=Europe/Amsterdam:20260714T183000
DTEND;TZID=Europe/Amsterdam:20260714T183000
DTSTAMP:20260416T135036
CREATED:20250104T223751Z
LAST-MODIFIED:20250104T223751Z
UID:10000722-1784053800-1784053800@www.koorelpuente.nl
SUMMARY:Oud papier inzamelen kern Neeritter
DESCRIPTION:
URL:https://www.koorelpuente.nl/activiteit/oud-papier-inzamelen-kern-neeritter/2026-07-14/
LOCATION:Neeritter
END:VEVENT
BEGIN:VEVENT
DTSTART;TZID=Europe/Amsterdam:20260811T183000
DTEND;TZID=Europe/Amsterdam:20260811T183000
DTSTAMP:20260416T135036
CREATED:20250104T223751Z
LAST-MODIFIED:20250104T223751Z
UID:10000723-1786473000-1786473000@www.koorelpuente.nl
SUMMARY:Oud papier inzamelen kern Neeritter
DESCRIPTION:
URL:https://www.koorelpuente.nl/activiteit/oud-papier-inzamelen-kern-neeritter/2026-08-11/
LOCATION:Neeritter
END:VEVENT
BEGIN:VEVENT
DTSTART;TZID=Europe/Amsterdam:20260908T183000
DTEND;TZID=Europe/Amsterdam:20260908T183000
DTSTAMP:20260416T135036
CREATED:20250104T223751Z
LAST-MODIFIED:20250104T223751Z
UID:10000724-1788892200-1788892200@www.koorelpuente.nl
SUMMARY:Oud papier inzamelen kern Neeritter
DESCRIPTION:
URL:https://www.koorelpuente.nl/activiteit/oud-papier-inzamelen-kern-neeritter/2026-09-08/
LOCATION:Neeritter
END:VEVENT
BEGIN:VEVENT
DTSTART;TZID=Europe/Amsterdam:20261013T183000
DTEND;TZID=Europe/Amsterdam:20261013T183000
DTSTAMP:20260416T135036
CREATED:20250104T223751Z
LAST-MODIFIED:20250104T223751Z
UID:10000725-1791916200-1791916200@www.koorelpuente.nl
SUMMARY:Oud papier inzamelen kern Neeritter
DESCRIPTION:
URL:https://www.koorelpuente.nl/activiteit/oud-papier-inzamelen-kern-neeritter/2026-10-13/
LOCATION:Neeritter
END:VEVENT
BEGIN:VEVENT
DTSTART;TZID=Europe/Amsterdam:20261110T183000
DTEND;TZID=Europe/Amsterdam:20261110T183000
DTSTAMP:20260416T135036
CREATED:20250104T223751Z
LAST-MODIFIED:20250104T223751Z
UID:10000726-1794335400-1794335400@www.koorelpuente.nl
SUMMARY:Oud papier inzamelen kern Neeritter
DESCRIPTION:
URL:https://www.koorelpuente.nl/activiteit/oud-papier-inzamelen-kern-neeritter/2026-11-10/
LOCATION:Neeritter
END:VEVENT
BEGIN:VEVENT
DTSTART;TZID=Europe/Amsterdam:20261208T183000
DTEND;TZID=Europe/Amsterdam:20261208T183000
DTSTAMP:20260416T135036
CREATED:20250104T223751Z
LAST-MODIFIED:20250104T223751Z
UID:10000727-1796754600-1796754600@www.koorelpuente.nl
SUMMARY:Oud papier inzamelen kern Neeritter
DESCRIPTION:
URL:https://www.koorelpuente.nl/activiteit/oud-papier-inzamelen-kern-neeritter/2026-12-08/
LOCATION:Neeritter
END:VEVENT
BEGIN:VEVENT
DTSTART;TZID=Europe/Amsterdam:20270112T183000
DTEND;TZID=Europe/Amsterdam:20270112T183000
DTSTAMP:20260416T135036
CREATED:20250104T223751Z
LAST-MODIFIED:20250104T223751Z
UID:10000728-1799778600-1799778600@www.koorelpuente.nl
SUMMARY:Oud papier inzamelen kern Neeritter
DESCRIPTION:
URL:https://www.koorelpuente.nl/activiteit/oud-papier-inzamelen-kern-neeritter/2027-01-12/
LOCATION:Neeritter
END:VEVENT
BEGIN:VEVENT
DTSTART;TZID=Europe/Amsterdam:20270209T183000
DTEND;TZID=Europe/Amsterdam:20270209T183000
DTSTAMP:20260416T135036
CREATED:20250104T223751Z
LAST-MODIFIED:20250104T223751Z
UID:10000729-1802197800-1802197800@www.koorelpuente.nl
SUMMARY:Oud papier inzamelen kern Neeritter
DESCRIPTION:
URL:https://www.koorelpuente.nl/activiteit/oud-papier-inzamelen-kern-neeritter/2027-02-09/
LOCATION:Neeritter
END:VEVENT
BEGIN:VEVENT
DTSTART;TZID=Europe/Amsterdam:20270309T183000
DTEND;TZID=Europe/Amsterdam:20270309T183000
DTSTAMP:20260416T135036
CREATED:20250104T223751Z
LAST-MODIFIED:20250104T223751Z
UID:10000730-1804617000-1804617000@www.koorelpuente.nl
SUMMARY:Oud papier inzamelen kern Neeritter
DESCRIPTION:
URL:https://www.koorelpuente.nl/activiteit/oud-papier-inzamelen-kern-neeritter/2027-03-09/
LOCATION:Neeritter
END:VEVENT
BEGIN:VEVENT
DTSTART;TZID=Europe/Amsterdam:20270413T183000
DTEND;TZID=Europe/Amsterdam:20270413T183000
DTSTAMP:20260416T135036
CREATED:20250104T223751Z
LAST-MODIFIED:20250104T223751Z
UID:10000731-1807641000-1807641000@www.koorelpuente.nl
SUMMARY:Oud papier inzamelen kern Neeritter
DESCRIPTION:
URL:https://www.koorelpuente.nl/activiteit/oud-papier-inzamelen-kern-neeritter/2027-04-13/
LOCATION:Neeritter
END:VEVENT
BEGIN:VEVENT
DTSTART;TZID=Europe/Amsterdam:20270511T183000
DTEND;TZID=Europe/Amsterdam:20270511T183000
DTSTAMP:20260416T135036
CREATED:20250104T223751Z
LAST-MODIFIED:20250104T223751Z
UID:10000732-1810060200-1810060200@www.koorelpuente.nl
SUMMARY:Oud papier inzamelen kern Neeritter
DESCRIPTION:
URL:https://www.koorelpuente.nl/activiteit/oud-papier-inzamelen-kern-neeritter/2027-05-11/
LOCATION:Neeritter
END:VEVENT
BEGIN:VEVENT
DTSTART;TZID=Europe/Amsterdam:20270608T183000
DTEND;TZID=Europe/Amsterdam:20270608T183000
DTSTAMP:20260416T135036
CREATED:20250104T223751Z
LAST-MODIFIED:20250104T223751Z
UID:10000733-1812479400-1812479400@www.koorelpuente.nl
SUMMARY:Oud papier inzamelen kern Neeritter
DESCRIPTION:
URL:https://www.koorelpuente.nl/activiteit/oud-papier-inzamelen-kern-neeritter/2027-06-08/
LOCATION:Neeritter
END:VEVENT
BEGIN:VEVENT
DTSTART;TZID=Europe/Amsterdam:20270713T183000
DTEND;TZID=Europe/Amsterdam:20270713T183000
DTSTAMP:20260416T135036
CREATED:20250104T223751Z
LAST-MODIFIED:20250104T223751Z
UID:10000734-1815503400-1815503400@www.koorelpuente.nl
SUMMARY:Oud papier inzamelen kern Neeritter
DESCRIPTION:
URL:https://www.koorelpuente.nl/activiteit/oud-papier-inzamelen-kern-neeritter/2027-07-13/
LOCATION:Neeritter
END:VEVENT
BEGIN:VEVENT
DTSTART;TZID=Europe/Amsterdam:20270810T183000
DTEND;TZID=Europe/Amsterdam:20270810T183000
DTSTAMP:20260416T135037
CREATED:20250104T223751Z
LAST-MODIFIED:20250104T223751Z
UID:10000735-1817922600-1817922600@www.koorelpuente.nl
SUMMARY:Oud papier inzamelen kern Neeritter
DESCRIPTION:
URL:https://www.koorelpuente.nl/activiteit/oud-papier-inzamelen-kern-neeritter/2027-08-10/
LOCATION:Neeritter
END:VEVENT
BEGIN:VEVENT
DTSTART;TZID=Europe/Amsterdam:20270914T183000
DTEND;TZID=Europe/Amsterdam:20270914T183000
DTSTAMP:20260416T135037
CREATED:20250104T223751Z
LAST-MODIFIED:20250104T223751Z
UID:10000736-1820946600-1820946600@www.koorelpuente.nl
SUMMARY:Oud papier inzamelen kern Neeritter
DESCRIPTION:
URL:https://www.koorelpuente.nl/activiteit/oud-papier-inzamelen-kern-neeritter/2027-09-14/
LOCATION:Neeritter
END:VEVENT
BEGIN:VEVENT
DTSTART;TZID=Europe/Amsterdam:20271012T183000
DTEND;TZID=Europe/Amsterdam:20271012T183000
DTSTAMP:20260416T135037
CREATED:20250104T223751Z
LAST-MODIFIED:20250104T223751Z
UID:10000737-1823365800-1823365800@www.koorelpuente.nl
SUMMARY:Oud papier inzamelen kern Neeritter
DESCRIPTION:
URL:https://www.koorelpuente.nl/activiteit/oud-papier-inzamelen-kern-neeritter/2027-10-12/
LOCATION:Neeritter
END:VEVENT
BEGIN:VEVENT
DTSTART;TZID=Europe/Amsterdam:20271109T183000
DTEND;TZID=Europe/Amsterdam:20271109T183000
DTSTAMP:20260416T135037
CREATED:20250104T223751Z
LAST-MODIFIED:20250104T223751Z
UID:10000738-1825785000-1825785000@www.koorelpuente.nl
SUMMARY:Oud papier inzamelen kern Neeritter
DESCRIPTION:
URL:https://www.koorelpuente.nl/activiteit/oud-papier-inzamelen-kern-neeritter/2027-11-09/
LOCATION:Neeritter
END:VEVENT
BEGIN:VEVENT
DTSTART;TZID=Europe/Amsterdam:20271214T183000
DTEND;TZID=Europe/Amsterdam:20271214T183000
DTSTAMP:20260416T135037
CREATED:20250104T223751Z
LAST-MODIFIED:20250104T223751Z
UID:10000739-1828809000-1828809000@www.koorelpuente.nl
SUMMARY:Oud papier inzamelen kern Neeritter
DESCRIPTION:
URL:https://www.koorelpuente.nl/activiteit/oud-papier-inzamelen-kern-neeritter/2027-12-14/
LOCATION:Neeritter
END:VEVENT
BEGIN:VEVENT
DTSTART;TZID=Europe/Amsterdam:20280111T183000
DTEND;TZID=Europe/Amsterdam:20280111T183000
DTSTAMP:20260416T135037
CREATED:20250104T223751Z
LAST-MODIFIED:20250104T223751Z
UID:10000740-1831228200-1831228200@www.koorelpuente.nl
SUMMARY:Oud papier inzamelen kern Neeritter
DESCRIPTION:
URL:https://www.koorelpuente.nl/activiteit/oud-papier-inzamelen-kern-neeritter/2028-01-11/
LOCATION:Neeritter
END:VEVENT
BEGIN:VEVENT
DTSTART;TZID=Europe/Amsterdam:20280208T183000
DTEND;TZID=Europe/Amsterdam:20280208T183000
DTSTAMP:20260416T135037
CREATED:20250104T223751Z
LAST-MODIFIED:20250104T223751Z
UID:10000741-1833647400-1833647400@www.koorelpuente.nl
SUMMARY:Oud papier inzamelen kern Neeritter
DESCRIPTION:
URL:https://www.koorelpuente.nl/activiteit/oud-papier-inzamelen-kern-neeritter/2028-02-08/
LOCATION:Neeritter
END:VEVENT
BEGIN:VEVENT
DTSTART;TZID=Europe/Amsterdam:20280314T183000
DTEND;TZID=Europe/Amsterdam:20280314T183000
DTSTAMP:20260416T135037
CREATED:20250104T223751Z
LAST-MODIFIED:20250104T223751Z
UID:10000742-1836671400-1836671400@www.koorelpuente.nl
SUMMARY:Oud papier inzamelen kern Neeritter
DESCRIPTION:
URL:https://www.koorelpuente.nl/activiteit/oud-papier-inzamelen-kern-neeritter/2028-03-14/
LOCATION:Neeritter
END:VEVENT
BEGIN:VEVENT
DTSTART;TZID=Europe/Amsterdam:20280411T183000
DTEND;TZID=Europe/Amsterdam:20280411T183000
DTSTAMP:20260416T135037
CREATED:20250104T223751Z
LAST-MODIFIED:20250104T223751Z
UID:10000743-1839090600-1839090600@www.koorelpuente.nl
SUMMARY:Oud papier inzamelen kern Neeritter
DESCRIPTION:
URL:https://www.koorelpuente.nl/activiteit/oud-papier-inzamelen-kern-neeritter/2028-04-11/
LOCATION:Neeritter
END:VEVENT
BEGIN:VEVENT
DTSTART;TZID=Europe/Amsterdam:20280509T183000
DTEND;TZID=Europe/Amsterdam:20280509T183000
DTSTAMP:20260416T135037
CREATED:20250104T223751Z
LAST-MODIFIED:20250104T223751Z
UID:10000744-1841509800-1841509800@www.koorelpuente.nl
SUMMARY:Oud papier inzamelen kern Neeritter
DESCRIPTION:
URL:https://www.koorelpuente.nl/activiteit/oud-papier-inzamelen-kern-neeritter/2028-05-09/
LOCATION:Neeritter
END:VEVENT
BEGIN:VEVENT
DTSTART;TZID=Europe/Amsterdam:20280613T183000
DTEND;TZID=Europe/Amsterdam:20280613T183000
DTSTAMP:20260416T135037
CREATED:20250104T223751Z
LAST-MODIFIED:20250104T223751Z
UID:10000745-1844533800-1844533800@www.koorelpuente.nl
SUMMARY:Oud papier inzamelen kern Neeritter
DESCRIPTION:
URL:https://www.koorelpuente.nl/activiteit/oud-papier-inzamelen-kern-neeritter/2028-06-13/
LOCATION:Neeritter
END:VEVENT
BEGIN:VEVENT
DTSTART;TZID=Europe/Amsterdam:20280711T183000
DTEND;TZID=Europe/Amsterdam:20280711T183000
DTSTAMP:20260416T135037
CREATED:20250104T223751Z
LAST-MODIFIED:20250104T223751Z
UID:10000746-1846953000-1846953000@www.koorelpuente.nl
SUMMARY:Oud papier inzamelen kern Neeritter
DESCRIPTION:
URL:https://www.koorelpuente.nl/activiteit/oud-papier-inzamelen-kern-neeritter/2028-07-11/
LOCATION:Neeritter
END:VEVENT
BEGIN:VEVENT
DTSTART;TZID=Europe/Amsterdam:20280808T183000
DTEND;TZID=Europe/Amsterdam:20280808T183000
DTSTAMP:20260416T135037
CREATED:20250104T223751Z
LAST-MODIFIED:20250104T223751Z
UID:10000747-1849372200-1849372200@www.koorelpuente.nl
SUMMARY:Oud papier inzamelen kern Neeritter
DESCRIPTION:
URL:https://www.koorelpuente.nl/activiteit/oud-papier-inzamelen-kern-neeritter/2028-08-08/
LOCATION:Neeritter
END:VEVENT
BEGIN:VEVENT
DTSTART;TZID=Europe/Amsterdam:20280912T183000
DTEND;TZID=Europe/Amsterdam:20280912T183000
DTSTAMP:20260416T135037
CREATED:20250104T223751Z
LAST-MODIFIED:20250104T223751Z
UID:10000748-1852396200-1852396200@www.koorelpuente.nl
SUMMARY:Oud papier inzamelen kern Neeritter
DESCRIPTION:
URL:https://www.koorelpuente.nl/activiteit/oud-papier-inzamelen-kern-neeritter/2028-09-12/
LOCATION:Neeritter
END:VEVENT
BEGIN:VEVENT
DTSTART;TZID=Europe/Amsterdam:20281010T183000
DTEND;TZID=Europe/Amsterdam:20281010T183000
DTSTAMP:20260416T135037
CREATED:20250104T223751Z
LAST-MODIFIED:20250104T223751Z
UID:10000749-1854815400-1854815400@www.koorelpuente.nl
SUMMARY:Oud papier inzamelen kern Neeritter
DESCRIPTION:
URL:https://www.koorelpuente.nl/activiteit/oud-papier-inzamelen-kern-neeritter/2028-10-10/
LOCATION:Neeritter
END:VEVENT
END:VCALENDAR