BEGIN:VCALENDAR
VERSION:2.0
PRODID:-//Gemengd Koor El Puente - ECPv6.15.16//NONSGML v1.0//EN
CALSCALE:GREGORIAN
METHOD:PUBLISH
X-ORIGINAL-URL:https://www.koorelpuente.nl
X-WR-CALDESC:Evenementen voor Gemengd Koor El Puente
REFRESH-INTERVAL;VALUE=DURATION:PT1H
X-Robots-Tag:noindex
X-PUBLISHED-TTL:PT1H
BEGIN:VTIMEZONE
TZID:Europe/Amsterdam
BEGIN:DAYLIGHT
TZOFFSETFROM:+0100
TZOFFSETTO:+0200
TZNAME:CEST
DTSTART:20220327T010000
END:DAYLIGHT
BEGIN:STANDARD
TZOFFSETFROM:+0200
TZOFFSETTO:+0100
TZNAME:CET
DTSTART:20221030T010000
END:STANDARD
BEGIN:DAYLIGHT
TZOFFSETFROM:+0100
TZOFFSETTO:+0200
TZNAME:CEST
DTSTART:20230326T010000
END:DAYLIGHT
BEGIN:STANDARD
TZOFFSETFROM:+0200
TZOFFSETTO:+0100
TZNAME:CET
DTSTART:20231029T010000
END:STANDARD
BEGIN:DAYLIGHT
TZOFFSETFROM:+0100
TZOFFSETTO:+0200
TZNAME:CEST
DTSTART:20240331T010000
END:DAYLIGHT
BEGIN:STANDARD
TZOFFSETFROM:+0200
TZOFFSETTO:+0100
TZNAME:CET
DTSTART:20241027T010000
END:STANDARD
BEGIN:DAYLIGHT
TZOFFSETFROM:+0100
TZOFFSETTO:+0200
TZNAME:CEST
DTSTART:20250330T010000
END:DAYLIGHT
BEGIN:STANDARD
TZOFFSETFROM:+0200
TZOFFSETTO:+0100
TZNAME:CET
DTSTART:20251026T010000
END:STANDARD
BEGIN:DAYLIGHT
TZOFFSETFROM:+0100
TZOFFSETTO:+0200
TZNAME:CEST
DTSTART:20260329T010000
END:DAYLIGHT
BEGIN:STANDARD
TZOFFSETFROM:+0200
TZOFFSETTO:+0100
TZNAME:CET
DTSTART:20261025T010000
END:STANDARD
BEGIN:DAYLIGHT
TZOFFSETFROM:+0100
TZOFFSETTO:+0200
TZNAME:CEST
DTSTART:20270328T010000
END:DAYLIGHT
BEGIN:STANDARD
TZOFFSETFROM:+0200
TZOFFSETTO:+0100
TZNAME:CET
DTSTART:20271031T010000
END:STANDARD
END:VTIMEZONE
BEGIN:VEVENT
DTSTART;TZID=Europe/Amsterdam:20260111T153000
DTEND;TZID=Europe/Amsterdam:20260111T170000
DTSTAMP:20260423T120911
CREATED:20260107T154951Z
LAST-MODIFIED:20260107T154951Z
UID:10000771-1768145400-1768150800@www.koorelpuente.nl
SUMMARY:Deelname aan Nieuwjaarsconcert harmonie St. Lucia Neeritter
DESCRIPTION:
URL:https://www.koorelpuente.nl/activiteit/deelname-aan-nieuwjaarsconcert-harmonie-st-lucia-neeritter/
LOCATION:St. Lambertuskerk Neeritter\, Molenstraat 2\, Neeritter\, 6015AC\, Nederland
END:VEVENT
BEGIN:VEVENT
DTSTART;TZID=Europe/Amsterdam:20250613T200000
DTEND;TZID=Europe/Amsterdam:20250613T200000
DTSTAMP:20260423T120911
CREATED:20250217T094930Z
LAST-MODIFIED:20250529T093955Z
UID:10000764-1749844800-1749844800@www.koorelpuente.nl
SUMMARY:Deelname Orgel Plus Concert Neeritter
DESCRIPTION:In de St. Lambertuskerk in Neeritter wordt op vrijdag 13 juni om 20.00 uur een orgel-plusconcert gegeven. De bekende organiste Poppeia Berden en het gemengd koor El Puente zullen samen deze concertavond verzorgen.\nHet prachtige Pereboom & Leijser-orgel uit 1863 wordt dit jaar bespeeld door Poppeia Berden\, organiste van de Onze-Lieve-Vrouwebasiliek in Maastricht. Haar master Kerkorgel aan het conservatorium sloot zij in augustus 2024 af met de hoogste\nlof. Poppeia volgde verschillende masterclasses en heeft daarnaast een grote concertpraktijk opgebouwd in binnen- en buitenland. Ze zet zich graag in voor kunsteducatie. Daarom is zij ‘adviseur kunsteducatie’ van de orgelstichting Pro Organo in Maastricht\, waar zij jaarlijks projecten ontwikkelt voor kinderen. Daarnaast is zij als orgeldocente verbonden aan de Stedelijke Academie in Maaseik.\nEl Puente is een gemengd koor\, voortgekomen uit de samenvoeging van de gemengde koren De Grenszangers (Neeritter) en Vivace (Ittervoort). Momenteel zingen 55 mannen en\nvrouwen onder leiding van dirigente Lilit Sati met veel plezier en passie. El Puente is regionaal georiënteerd\, met leden uit Ittervoort\, Neeritter\, Grathem\, Thorn\, andere delen van Limburg én Belgisch Limburg. Kortom\, een mooi en gevarieerd gezelschap.\nWij hopen u allen te mogen begroeten op dit bijzondere concert!\nDatum: vrijdag 13 juni 2025\nTijd: aanvang 20.00 uur\nLocatie: Lambertuskerk\, Molenstraat 3\, Neeritter\nToegang: gratis (vrije gave wordt op prijs gesteld) \n \n 
URL:https://www.koorelpuente.nl/activiteit/deelname-orgel-plus-concert-neeritter/
LOCATION:St. Lambertuskerk Neeritter\, Molenstraat 2\, Neeritter\, 6015AC\, Nederland
END:VEVENT
BEGIN:VEVENT
DTSTART;TZID=Europe/Amsterdam:20240107T163000
DTEND;TZID=Europe/Amsterdam:20240107T181500
DTSTAMP:20260423T120911
CREATED:20231031T121741Z
LAST-MODIFIED:20231227T100655Z
UID:10000043-1704645000-1704651300@www.koorelpuente.nl
SUMMARY:Nieuwjaarsconcert
DESCRIPTION:Gemengd Koor El Puente zal het concert openen en na de pauze vervolgt het concert met de inbreng van Harmonie St. Lucia.
URL:https://www.koorelpuente.nl/activiteit/nieuwjaarsconcert/
LOCATION:St. Lambertuskerk Neeritter\, Molenstraat 2\, Neeritter\, 6015AC\, Nederland
END:VEVENT
BEGIN:VEVENT
DTSTART;TZID=Europe/Amsterdam:20231216T200000
DTEND;TZID=Europe/Amsterdam:20231216T200000
DTSTAMP:20260423T120911
CREATED:20231115T154815Z
LAST-MODIFIED:20231115T154945Z
UID:10000039-1702756800-1702756800@www.koorelpuente.nl
SUMMARY:Kerstconcert 'Toch weer thuis met Kerst'
DESCRIPTION:
URL:https://www.koorelpuente.nl/activiteit/kerstconcert-2/
LOCATION:St. Lambertuskerk Neeritter\, Molenstraat 2\, Neeritter\, 6015AC\, Nederland
END:VEVENT
END:VCALENDAR