BEGIN:VCALENDAR
VERSION:2.0
PRODID:-//Gemengd Koor El Puente - ECPv6.15.16//NONSGML v1.0//EN
CALSCALE:GREGORIAN
METHOD:PUBLISH
X-ORIGINAL-URL:https://www.koorelpuente.nl
X-WR-CALDESC:Evenementen voor Gemengd Koor El Puente
REFRESH-INTERVAL;VALUE=DURATION:PT1H
X-Robots-Tag:noindex
X-PUBLISHED-TTL:PT1H
BEGIN:VTIMEZONE
TZID:Europe/Amsterdam
BEGIN:DAYLIGHT
TZOFFSETFROM:+0100
TZOFFSETTO:+0200
TZNAME:CEST
DTSTART:20250330T010000
END:DAYLIGHT
BEGIN:STANDARD
TZOFFSETFROM:+0200
TZOFFSETTO:+0100
TZNAME:CET
DTSTART:20251026T010000
END:STANDARD
BEGIN:DAYLIGHT
TZOFFSETFROM:+0100
TZOFFSETTO:+0200
TZNAME:CEST
DTSTART:20260329T010000
END:DAYLIGHT
BEGIN:STANDARD
TZOFFSETFROM:+0200
TZOFFSETTO:+0100
TZNAME:CET
DTSTART:20261025T010000
END:STANDARD
BEGIN:DAYLIGHT
TZOFFSETFROM:+0100
TZOFFSETTO:+0200
TZNAME:CEST
DTSTART:20270328T010000
END:DAYLIGHT
BEGIN:STANDARD
TZOFFSETFROM:+0200
TZOFFSETTO:+0100
TZNAME:CET
DTSTART:20271031T010000
END:STANDARD
END:VTIMEZONE
BEGIN:VEVENT
DTSTART;TZID=Europe/Amsterdam:20260709T200000
DTEND;TZID=Europe/Amsterdam:20260709T221500
DTSTAMP:20260423T135318
CREATED:20260302T123544Z
LAST-MODIFIED:20260302T143837Z
UID:10000040-1783627200-1783635300@www.koorelpuente.nl
SUMMARY:Seizoensafsluiting
DESCRIPTION:
URL:https://www.koorelpuente.nl/activiteit/seizoensafsluiting/
ATTACH;FMTTYPE=image/jpeg:https://www.koorelpuente.nl/wp-content/uploads/2023/06/afsluiting-e1686747222875.jpg
END:VEVENT
END:VCALENDAR